| Back to Multiple platform build/check report for BioC 3.13 | 
  | 
This page was generated on 2021-10-15 15:06:06 -0400 (Fri, 15 Oct 2021).
| 
To the developers/maintainers of the GOstats package: - Please allow up to 24 hours (and sometimes 48 hours) for your latest push to git@git.bioconductor.org:packages/GOstats.git to reflect on this report. See How and When does the builder pull? When will my changes propagate? here for more information. - Make sure to use the following settings in order to reproduce any error or warning you see on this page.  | 
| Package 793/2041 | Hostname | OS / Arch | INSTALL | BUILD | CHECK | BUILD BIN | ||||||||
| GOstats 2.58.0  (landing page) Bioconductor Package Maintainer 
  | nebbiolo1 | Linux (Ubuntu 20.04.2 LTS) / x86_64 | OK | OK | OK | |||||||||
| tokay2 | Windows Server 2012 R2 Standard / x64 | OK | OK | OK | OK | |||||||||
| machv2 | macOS 10.14.6 Mojave / x86_64 | OK | OK | OK | OK | |||||||||
| Package: GOstats | 
| Version: 2.58.0 | 
| Command: rm -rf GOstats.buildbin-libdir && mkdir GOstats.buildbin-libdir && C:\Users\biocbuild\bbs-3.13-bioc\R\bin\R.exe CMD INSTALL --merge-multiarch --build --library=GOstats.buildbin-libdir GOstats_2.58.0.tar.gz | 
| StartedAt: 2021-10-15 09:39:25 -0400 (Fri, 15 Oct 2021) | 
| EndedAt: 2021-10-15 09:40:47 -0400 (Fri, 15 Oct 2021) | 
| EllapsedTime: 82.1 seconds | 
| RetCode: 0 | 
| Status: OK | 
| PackageFile: GOstats_2.58.0.zip | 
| PackageFileSize: 2.175 MiB | 
##############################################################################
##############################################################################
###
### Running command:
###
###   rm -rf GOstats.buildbin-libdir && mkdir GOstats.buildbin-libdir && C:\Users\biocbuild\bbs-3.13-bioc\R\bin\R.exe CMD INSTALL --merge-multiarch --build --library=GOstats.buildbin-libdir GOstats_2.58.0.tar.gz
###
##############################################################################
##############################################################################
install for i386
* installing *source* package 'GOstats' ...
** using staged installation
** R
** data
** inst
** byte-compile and prepare package for lazy loading
** help
*** installing help indices
  converting help for package 'GOstats'
    finding HTML links ... done
    GOHyperGResult-class                    html  
    GOstats-defunct                         html  
    GOstats-package                         html  
    Ndists                                  html  
    OBOHyperGResult-class                   html  
    compCorrGraph                           html  
    compGdist                               html  
    hyperGTest                              html  
    idx2dimnames                            html  
    makeGOGraph                             html  
    notConn                                 html  
    oneGOGraph                              html  
    probeSetSummary                         html  
    shortestPath                            html  
    simLL                                   html  
    termGraphs                              html  
    triadCensus                             html  
** building package indices
** installing vignettes
** testing if installed package can be loaded from temporary location
** testing if installed package can be loaded from final location
** testing if installed package keeps a record of temporary installation path
install for x64
* installing *source* package 'GOstats' ...
** testing if installed package can be loaded
* MD5 sums
packaged installation of 'GOstats' as GOstats_2.58.0.zip
* DONE (GOstats)