| Back to Multiple platform build/check report for BioC 3.13 |
|
This page was generated on 2021-10-15 15:06:06 -0400 (Fri, 15 Oct 2021).
|
To the developers/maintainers of the GOTHiC package: - Please allow up to 24 hours (and sometimes 48 hours) for your latest push to git@git.bioconductor.org:packages/GOTHiC.git to reflect on this report. See How and When does the builder pull? When will my changes propagate? here for more information. - Make sure to use the following settings in order to reproduce any error or warning you see on this page. |
| Package 795/2041 | Hostname | OS / Arch | INSTALL | BUILD | CHECK | BUILD BIN | ||||||||
| GOTHiC 1.28.0 (landing page) Borbala Mifsud
| nebbiolo1 | Linux (Ubuntu 20.04.2 LTS) / x86_64 | OK | OK | OK | |||||||||
| tokay2 | Windows Server 2012 R2 Standard / x64 | OK | OK | OK | OK | |||||||||
| machv2 | macOS 10.14.6 Mojave / x86_64 | OK | OK | OK | OK | |||||||||
| Package: GOTHiC |
| Version: 1.28.0 |
| Command: C:\cygwin\bin\curl.exe -O http://155.52.207.165/BBS/3.13/bioc/src/contrib/GOTHiC_1.28.0.tar.gz && rm -rf GOTHiC.buildbin-libdir && mkdir GOTHiC.buildbin-libdir && C:\Users\biocbuild\bbs-3.13-bioc\R\bin\R.exe CMD INSTALL --merge-multiarch --build --library=GOTHiC.buildbin-libdir GOTHiC_1.28.0.tar.gz && C:\Users\biocbuild\bbs-3.13-bioc\R\bin\R.exe CMD INSTALL GOTHiC_1.28.0.zip && rm GOTHiC_1.28.0.tar.gz GOTHiC_1.28.0.zip |
| StartedAt: 2021-10-14 10:18:07 -0400 (Thu, 14 Oct 2021) |
| EndedAt: 2021-10-14 10:19:00 -0400 (Thu, 14 Oct 2021) |
| EllapsedTime: 52.7 seconds |
| RetCode: 0 |
| Status: OK |
##############################################################################
##############################################################################
###
### Running command:
###
### C:\cygwin\bin\curl.exe -O http://155.52.207.165/BBS/3.13/bioc/src/contrib/GOTHiC_1.28.0.tar.gz && rm -rf GOTHiC.buildbin-libdir && mkdir GOTHiC.buildbin-libdir && C:\Users\biocbuild\bbs-3.13-bioc\R\bin\R.exe CMD INSTALL --merge-multiarch --build --library=GOTHiC.buildbin-libdir GOTHiC_1.28.0.tar.gz && C:\Users\biocbuild\bbs-3.13-bioc\R\bin\R.exe CMD INSTALL GOTHiC_1.28.0.zip && rm GOTHiC_1.28.0.tar.gz GOTHiC_1.28.0.zip
###
##############################################################################
##############################################################################
% Total % Received % Xferd Average Speed Time Time Time Current
Dload Upload Total Spent Left Speed
0 0 0 0 0 0 0 0 --:--:-- --:--:-- --:--:-- 0
67 2161k 67 1464k 0 0 1513k 0 0:00:01 --:--:-- 0:00:01 1512k
100 2161k 100 2161k 0 0 1707k 0 0:00:01 0:00:01 --:--:-- 1708k
install for i386
* installing *source* package 'GOTHiC' ...
** using staged installation
** R
** data
** inst
** byte-compile and prepare package for lazy loading
** help
*** installing help indices
converting help for package 'GOTHiC'
finding HTML links ... done
GOTHiC html
GOTHiChicup html
filtered html
mapReadsToRestrictionSites html
pairReads html
** building package indices
** installing vignettes
** testing if installed package can be loaded from temporary location
** testing if installed package can be loaded from final location
** testing if installed package keeps a record of temporary installation path
install for x64
* installing *source* package 'GOTHiC' ...
** testing if installed package can be loaded
* MD5 sums
packaged installation of 'GOTHiC' as GOTHiC_1.28.0.zip
* DONE (GOTHiC)
* installing to library 'C:/Users/biocbuild/bbs-3.13-bioc/R/library'
package 'GOTHiC' successfully unpacked and MD5 sums checked