| Back to Multiple platform build/check report for BioC 3.13 | 
 | 
This page was generated on 2021-10-15 15:06:05 -0400 (Fri, 15 Oct 2021).
| To the developers/maintainers of the GCSscore package: - Please allow up to 24 hours (and sometimes 48 hours) for your latest push to git@git.bioconductor.org:packages/GCSscore.git to reflect on this report. See How and When does the builder pull? When will my changes propagate? here for more information. - Make sure to use the following settings in order to reproduce any error or warning you see on this page. | 
| Package 699/2041 | Hostname | OS / Arch | INSTALL | BUILD | CHECK | BUILD BIN | ||||||||
| GCSscore 1.6.0  (landing page) Guy M. Harris 
 | nebbiolo1 | Linux (Ubuntu 20.04.2 LTS) / x86_64 | OK | OK | OK |  | ||||||||
| tokay2 | Windows Server 2012 R2 Standard / x64 | OK | OK | OK | OK |  | ||||||||
| machv2 | macOS 10.14.6 Mojave / x86_64 | OK | OK | OK | OK |  | ||||||||
| Package: GCSscore | 
| Version: 1.6.0 | 
| Command: C:\cygwin\bin\curl.exe -O http://155.52.207.165/BBS/3.13/bioc/src/contrib/GCSscore_1.6.0.tar.gz && rm -rf GCSscore.buildbin-libdir && mkdir GCSscore.buildbin-libdir && C:\Users\biocbuild\bbs-3.13-bioc\R\bin\R.exe CMD INSTALL --merge-multiarch --build --library=GCSscore.buildbin-libdir GCSscore_1.6.0.tar.gz && C:\Users\biocbuild\bbs-3.13-bioc\R\bin\R.exe CMD INSTALL GCSscore_1.6.0.zip && rm GCSscore_1.6.0.tar.gz GCSscore_1.6.0.zip | 
| StartedAt: 2021-10-14 10:01:46 -0400 (Thu, 14 Oct 2021) | 
| EndedAt: 2021-10-14 10:05:25 -0400 (Thu, 14 Oct 2021) | 
| EllapsedTime: 219.0 seconds | 
| RetCode: 0 | 
| Status: OK | 
##############################################################################
##############################################################################
###
### Running command:
###
###   C:\cygwin\bin\curl.exe -O http://155.52.207.165/BBS/3.13/bioc/src/contrib/GCSscore_1.6.0.tar.gz && rm -rf GCSscore.buildbin-libdir && mkdir GCSscore.buildbin-libdir && C:\Users\biocbuild\bbs-3.13-bioc\R\bin\R.exe CMD INSTALL --merge-multiarch --build --library=GCSscore.buildbin-libdir GCSscore_1.6.0.tar.gz && C:\Users\biocbuild\bbs-3.13-bioc\R\bin\R.exe CMD INSTALL GCSscore_1.6.0.zip && rm GCSscore_1.6.0.tar.gz GCSscore_1.6.0.zip
###
##############################################################################
##############################################################################
  % Total    % Received % Xferd  Average Speed   Time    Time     Time  Current
                                 Dload  Upload   Total   Spent    Left  Speed
  0     0    0     0    0     0      0      0 --:--:-- --:--:-- --:--:--     0
 30 4374k   30 1338k    0     0  1466k      0  0:00:02 --:--:--  0:00:02 1465k
 86 4374k   86 3766k    0     0  1976k      0  0:00:02  0:00:01  0:00:01 1976k
100 4374k  100 4374k    0     0  2090k      0  0:00:02  0:00:02 --:--:-- 2091k
install for i386
* installing *source* package 'GCSscore' ...
** using staged installation
** R
** inst
** byte-compile and prepare package for lazy loading
** help
*** installing help indices
  converting help for package 'GCSscore'
    finding HTML links ... done
    GCSscore                                html  
    calcSF                                  html  
    computeSscore                           html  
    get3primeIVTprobefileData               html  
    getClariomSprobefileData                html  
    getXTAprobefileData                     html  
    mismatch                                html  
    normalize                               html  
    rawScore                                html  
    zoneRQ                                  html  
** building package indices
** installing vignettes
** testing if installed package can be loaded from temporary location
** testing if installed package can be loaded from final location
** testing if installed package keeps a record of temporary installation path
install for x64
* installing *source* package 'GCSscore' ...
** testing if installed package can be loaded
* MD5 sums
packaged installation of 'GCSscore' as GCSscore_1.6.0.zip
* DONE (GCSscore)
* installing to library 'C:/Users/biocbuild/bbs-3.13-bioc/R/library'
package 'GCSscore' successfully unpacked and MD5 sums checked