| Back to Multiple platform build/check report for BioC 3.13 | 
 | 
This page was generated on 2021-10-15 15:06:05 -0400 (Fri, 15 Oct 2021).
| To the developers/maintainers of the GAPGOM package: - Please allow up to 24 hours (and sometimes 48 hours) for your latest push to git@git.bioconductor.org:packages/GAPGOM.git to reflect on this report. See How and When does the builder pull? When will my changes propagate? here for more information. - Make sure to use the following settings in order to reproduce any error or warning you see on this page. | 
| Package 688/2041 | Hostname | OS / Arch | INSTALL | BUILD | CHECK | BUILD BIN | ||||||||
| GAPGOM 1.8.0  (landing page) Rezvan Ehsani 
 | nebbiolo1 | Linux (Ubuntu 20.04.2 LTS) / x86_64 | OK | OK | OK |  | ||||||||
| tokay2 | Windows Server 2012 R2 Standard / x64 | OK | OK | OK | OK |  | ||||||||
| machv2 | macOS 10.14.6 Mojave / x86_64 | OK | OK | OK | OK |  | ||||||||
| Package: GAPGOM | 
| Version: 1.8.0 | 
| Command: chmod a+r GAPGOM -R && C:\Users\biocbuild\bbs-3.13-bioc\R\bin\R.exe CMD build --keep-empty-dirs --no-resave-data GAPGOM | 
| StartedAt: 2021-10-14 14:18:40 -0400 (Thu, 14 Oct 2021) | 
| EndedAt: 2021-10-14 14:20:00 -0400 (Thu, 14 Oct 2021) | 
| EllapsedTime: 80.5 seconds | 
| RetCode: 0 | 
| Status: OK | 
| PackageFile: GAPGOM_1.8.0.tar.gz | 
| PackageFileSize: 948.1 KiB | 
############################################################################## ############################################################################## ### ### Running command: ### ### chmod a+r GAPGOM -R && C:\Users\biocbuild\bbs-3.13-bioc\R\bin\R.exe CMD build --keep-empty-dirs --no-resave-data GAPGOM ### ############################################################################## ############################################################################## * checking for file 'GAPGOM/DESCRIPTION' ... OK * preparing 'GAPGOM': * checking DESCRIPTION meta-information ... OK * installing the package to build vignettes * creating vignettes ... OK * checking for LF line-endings in source and make files and shell scripts * checking for empty or unneeded directories * building 'GAPGOM_1.8.0.tar.gz'