| Back to Multiple platform build/check report for BioC 3.13 |
|
This page was generated on 2021-10-15 15:06:36 -0400 (Fri, 15 Oct 2021).
|
To the developers/maintainers of the FlowRepositoryR package: - Please allow up to 24 hours (and sometimes 48 hours) for your latest push to git@git.bioconductor.org:packages/FlowRepositoryR.git to reflect on this report. See How and When does the builder pull? When will my changes propagate? here for more information. - Make sure to use the following settings in order to reproduce any error or warning you see on this page. |
| Package 660/2041 | Hostname | OS / Arch | INSTALL | BUILD | CHECK | BUILD BIN | ||||||||
Josef Spidlen
| nebbiolo1 | Linux (Ubuntu 20.04.2 LTS) / x86_64 | ERROR | ERROR | skipped | |||||||||
| tokay2 | Windows Server 2012 R2 Standard / x64 | ERROR | ERROR | skipped | skipped | |||||||||
| machv2 | macOS 10.14.6 Mojave / x86_64 | ERROR | ERROR | skipped | skipped | |||||||||
| Package: FlowRepositoryR |
| Version: 1.24.0 |
| Command: /Library/Frameworks/R.framework/Versions/Current/Resources/bin/R CMD build --keep-empty-dirs --no-resave-data FlowRepositoryR |
| StartedAt: 2021-10-14 12:07:48 -0400 (Thu, 14 Oct 2021) |
| EndedAt: 2021-10-14 12:08:32 -0400 (Thu, 14 Oct 2021) |
| EllapsedTime: 43.8 seconds |
| RetCode: 1 |
| Status: ERROR |
| PackageFile: None |
| PackageFileSize: NA |
##############################################################################
##############################################################################
###
### Running command:
###
### /Library/Frameworks/R.framework/Versions/Current/Resources/bin/R CMD build --keep-empty-dirs --no-resave-data FlowRepositoryR
###
##############################################################################
##############################################################################
* checking for file ‘FlowRepositoryR/DESCRIPTION’ ... OK
* preparing ‘FlowRepositoryR’:
* checking DESCRIPTION meta-information ... OK
* installing the package to build vignettes
-----------------------------------
* installing *source* package ‘FlowRepositoryR’ ...
** using staged installation
** R
Error in .install_package_code_files(".", instdir) :
files in '/private/tmp/Rtmpx7CiOC/Rbuildcefd5e3adfd0/FlowRepositoryR/R' missing from 'Collate' field:
zzz.R
ERROR: unable to collate and parse R files for package ‘FlowRepositoryR’
* removing ‘/private/tmp/Rtmpx7CiOC/Rinstcefd6b3c0104/FlowRepositoryR’
-----------------------------------
ERROR: package installation failed