| Back to Multiple platform build/check report for BioC 3.13 |
|
This page was generated on 2021-10-15 15:06:04 -0400 (Fri, 15 Oct 2021).
|
To the developers/maintainers of the EpiDISH package: - Please allow up to 24 hours (and sometimes 48 hours) for your latest push to git@git.bioconductor.org:packages/EpiDISH.git to reflect on this report. See How and When does the builder pull? When will my changes propagate? here for more information. - Make sure to use the following settings in order to reproduce any error or warning you see on this page. |
| Package 581/2041 | Hostname | OS / Arch | INSTALL | BUILD | CHECK | BUILD BIN | ||||||||
| EpiDISH 2.8.0 (landing page) Shijie C. Zheng
| nebbiolo1 | Linux (Ubuntu 20.04.2 LTS) / x86_64 | OK | OK | OK | |||||||||
| tokay2 | Windows Server 2012 R2 Standard / x64 | OK | OK | OK | OK | |||||||||
| machv2 | macOS 10.14.6 Mojave / x86_64 | OK | OK | OK | OK | |||||||||
| Package: EpiDISH |
| Version: 2.8.0 |
| Command: rm -rf EpiDISH.buildbin-libdir && mkdir EpiDISH.buildbin-libdir && C:\Users\biocbuild\bbs-3.13-bioc\R\bin\R.exe CMD INSTALL --merge-multiarch --build --library=EpiDISH.buildbin-libdir EpiDISH_2.8.0.tar.gz |
| StartedAt: 2021-10-15 09:10:17 -0400 (Fri, 15 Oct 2021) |
| EndedAt: 2021-10-15 09:11:33 -0400 (Fri, 15 Oct 2021) |
| EllapsedTime: 76.1 seconds |
| RetCode: 0 |
| Status: OK |
| PackageFile: EpiDISH_2.8.0.zip |
| PackageFileSize: 1.743 MiB |
##############################################################################
##############################################################################
###
### Running command:
###
### rm -rf EpiDISH.buildbin-libdir && mkdir EpiDISH.buildbin-libdir && C:\Users\biocbuild\bbs-3.13-bioc\R\bin\R.exe CMD INSTALL --merge-multiarch --build --library=EpiDISH.buildbin-libdir EpiDISH_2.8.0.tar.gz
###
##############################################################################
##############################################################################
install for i386
* installing *source* package 'EpiDISH' ...
** using staged installation
** R
** data
*** moving datasets to lazyload DB
** inst
** byte-compile and prepare package for lazy loading
** help
*** installing help indices
converting help for package 'EpiDISH'
finding HTML links ... done
CellDMC html
DoMetaEfron html
DummyBeta.m html
LiuDataSub.m html
centBloodSub.m html
centDHSbloodDMC.m html
centEpiFibFatIC.m html
centEpiFibIC.m html
epidish html
hepidish html
** building package indices
** installing vignettes
** testing if installed package can be loaded from temporary location
** testing if installed package can be loaded from final location
** testing if installed package keeps a record of temporary installation path
install for x64
* installing *source* package 'EpiDISH' ...
** testing if installed package can be loaded
* MD5 sums
packaged installation of 'EpiDISH' as EpiDISH_2.8.0.zip
* DONE (EpiDISH)