| Back to Multiple platform build/check report for BioC 3.13 |
|
This page was generated on 2021-10-15 15:06:04 -0400 (Fri, 15 Oct 2021).
|
To the developers/maintainers of the EnrichmentBrowser package: - Please allow up to 24 hours (and sometimes 48 hours) for your latest push to git@git.bioconductor.org:packages/EnrichmentBrowser.git to reflect on this report. See How and When does the builder pull? When will my changes propagate? here for more information. - Make sure to use the following settings in order to reproduce any error or warning you see on this page. |
| Package 573/2041 | Hostname | OS / Arch | INSTALL | BUILD | CHECK | BUILD BIN | ||||||||
| EnrichmentBrowser 2.22.2 (landing page) Ludwig Geistlinger
| nebbiolo1 | Linux (Ubuntu 20.04.2 LTS) / x86_64 | OK | OK | OK | |||||||||
| tokay2 | Windows Server 2012 R2 Standard / x64 | OK | OK | OK | OK | |||||||||
| machv2 | macOS 10.14.6 Mojave / x86_64 | OK | OK | OK | OK | |||||||||
| Package: EnrichmentBrowser |
| Version: 2.22.2 |
| Command: C:\cygwin\bin\curl.exe -O http://155.52.207.165/BBS/3.13/bioc/src/contrib/EnrichmentBrowser_2.22.2.tar.gz && rm -rf EnrichmentBrowser.buildbin-libdir && mkdir EnrichmentBrowser.buildbin-libdir && C:\Users\biocbuild\bbs-3.13-bioc\R\bin\R.exe CMD INSTALL --merge-multiarch --build --library=EnrichmentBrowser.buildbin-libdir EnrichmentBrowser_2.22.2.tar.gz && C:\Users\biocbuild\bbs-3.13-bioc\R\bin\R.exe CMD INSTALL EnrichmentBrowser_2.22.2.zip && rm EnrichmentBrowser_2.22.2.tar.gz EnrichmentBrowser_2.22.2.zip |
| StartedAt: 2021-10-14 09:18:41 -0400 (Thu, 14 Oct 2021) |
| EndedAt: 2021-10-14 09:19:30 -0400 (Thu, 14 Oct 2021) |
| EllapsedTime: 49.3 seconds |
| RetCode: 0 |
| Status: OK |
##############################################################################
##############################################################################
###
### Running command:
###
### C:\cygwin\bin\curl.exe -O http://155.52.207.165/BBS/3.13/bioc/src/contrib/EnrichmentBrowser_2.22.2.tar.gz && rm -rf EnrichmentBrowser.buildbin-libdir && mkdir EnrichmentBrowser.buildbin-libdir && C:\Users\biocbuild\bbs-3.13-bioc\R\bin\R.exe CMD INSTALL --merge-multiarch --build --library=EnrichmentBrowser.buildbin-libdir EnrichmentBrowser_2.22.2.tar.gz && C:\Users\biocbuild\bbs-3.13-bioc\R\bin\R.exe CMD INSTALL EnrichmentBrowser_2.22.2.zip && rm EnrichmentBrowser_2.22.2.tar.gz EnrichmentBrowser_2.22.2.zip
###
##############################################################################
##############################################################################
% Total % Received % Xferd Average Speed Time Time Time Current
Dload Upload Total Spent Left Speed
0 0 0 0 0 0 0 0 --:--:-- --:--:-- --:--:-- 0
100 328k 100 328k 0 0 1233k 0 --:--:-- --:--:-- --:--:-- 1239k
install for i386
* installing *source* package 'EnrichmentBrowser' ...
** using staged installation
** R
** inst
** byte-compile and prepare package for lazy loading
** help
*** installing help indices
converting help for package 'EnrichmentBrowser'
finding HTML links ... done
combResults html
compileGRN html
finding level-2 HTML links ... done
configEBrowser html
deAna html
downloadPathways html
eaBrowse html
ebrowser html
export html
getGenesets html
ggeaGraph html
idMap html
import html
isAvailable html
makeExampleData html
nbea html
normalize html
plots html
probe2gene html
readSE html
sbea html
** building package indices
** installing vignettes
** testing if installed package can be loaded from temporary location
** testing if installed package can be loaded from final location
** testing if installed package keeps a record of temporary installation path
install for x64
* installing *source* package 'EnrichmentBrowser' ...
** testing if installed package can be loaded
* MD5 sums
packaged installation of 'EnrichmentBrowser' as EnrichmentBrowser_2.22.2.zip
* DONE (EnrichmentBrowser)
* installing to library 'C:/Users/biocbuild/bbs-3.13-bioc/R/library'
package 'EnrichmentBrowser' successfully unpacked and MD5 sums checked