| Back to Multiple platform build/check report for BioC 3.13 |
|
This page was generated on 2021-10-15 15:06:04 -0400 (Fri, 15 Oct 2021).
|
To the developers/maintainers of the EnrichedHeatmap package: - Please allow up to 24 hours (and sometimes 48 hours) for your latest push to git@git.bioconductor.org:packages/EnrichedHeatmap.git to reflect on this report. See How and When does the builder pull? When will my changes propagate? here for more information. - Make sure to use the following settings in order to reproduce any error or warning you see on this page. |
| Package 572/2041 | Hostname | OS / Arch | INSTALL | BUILD | CHECK | BUILD BIN | ||||||||
| EnrichedHeatmap 1.22.0 (landing page) Zuguang Gu
| nebbiolo1 | Linux (Ubuntu 20.04.2 LTS) / x86_64 | OK | OK | OK | |||||||||
| tokay2 | Windows Server 2012 R2 Standard / x64 | OK | OK | OK | OK | |||||||||
| machv2 | macOS 10.14.6 Mojave / x86_64 | OK | OK | OK | OK | |||||||||
| Package: EnrichedHeatmap |
| Version: 1.22.0 |
| Command: C:\cygwin\bin\curl.exe -O http://155.52.207.165/BBS/3.13/bioc/src/contrib/EnrichedHeatmap_1.22.0.tar.gz && rm -rf EnrichedHeatmap.buildbin-libdir && mkdir EnrichedHeatmap.buildbin-libdir && C:\Users\biocbuild\bbs-3.13-bioc\R\bin\R.exe CMD INSTALL --merge-multiarch --build --library=EnrichedHeatmap.buildbin-libdir EnrichedHeatmap_1.22.0.tar.gz && C:\Users\biocbuild\bbs-3.13-bioc\R\bin\R.exe CMD INSTALL EnrichedHeatmap_1.22.0.zip && rm EnrichedHeatmap_1.22.0.tar.gz EnrichedHeatmap_1.22.0.zip |
| StartedAt: 2021-10-14 08:34:54 -0400 (Thu, 14 Oct 2021) |
| EndedAt: 2021-10-14 08:36:10 -0400 (Thu, 14 Oct 2021) |
| EllapsedTime: 75.5 seconds |
| RetCode: 0 |
| Status: OK |
##############################################################################
##############################################################################
###
### Running command:
###
### C:\cygwin\bin\curl.exe -O http://155.52.207.165/BBS/3.13/bioc/src/contrib/EnrichedHeatmap_1.22.0.tar.gz && rm -rf EnrichedHeatmap.buildbin-libdir && mkdir EnrichedHeatmap.buildbin-libdir && C:\Users\biocbuild\bbs-3.13-bioc\R\bin\R.exe CMD INSTALL --merge-multiarch --build --library=EnrichedHeatmap.buildbin-libdir EnrichedHeatmap_1.22.0.tar.gz && C:\Users\biocbuild\bbs-3.13-bioc\R\bin\R.exe CMD INSTALL EnrichedHeatmap_1.22.0.zip && rm EnrichedHeatmap_1.22.0.tar.gz EnrichedHeatmap_1.22.0.zip
###
##############################################################################
##############################################################################
% Total % Received % Xferd Average Speed Time Time Time Current
Dload Upload Total Spent Left Speed
0 0 0 0 0 0 0 0 --:--:-- --:--:-- --:--:-- 0
7 17.8M 7 1308k 0 0 2117k 0 0:00:08 --:--:-- 0:00:08 2117k
17 17.8M 17 3177k 0 0 1961k 0 0:00:09 0:00:01 0:00:08 1961k
31 17.8M 31 5676k 0 0 2164k 0 0:00:08 0:00:02 0:00:06 2164k
49 17.8M 49 9010k 0 0 2484k 0 0:00:07 0:00:03 0:00:04 2484k
72 17.8M 72 12.9M 0 0 2854k 0 0:00:06 0:00:04 0:00:02 2854k
100 17.8M 100 17.8M 0 0 3267k 0 0:00:05 0:00:05 --:--:-- 3409k
install for i386
* installing *source* package 'EnrichedHeatmap' ...
** using staged installation
** libs
"C:/rtools40/mingw32/bin/"g++ -std=gnu++11 -I"C:/Users/BIOCBU~1/BBS-3~1.13-/R/include" -DNDEBUG -I'C:/Users/biocbuild/bbs-3.13-bioc/R/library/Rcpp/include' -I"c:/extsoft/include" -O2 -Wall -mfpmath=sse -msse2 -mstackrealign -c RcppExports.cpp -o RcppExports.o
"C:/rtools40/mingw32/bin/"g++ -std=gnu++11 -I"C:/Users/BIOCBU~1/BBS-3~1.13-/R/include" -DNDEBUG -I'C:/Users/biocbuild/bbs-3.13-bioc/R/library/Rcpp/include' -I"c:/extsoft/include" -O2 -Wall -mfpmath=sse -msse2 -mstackrealign -c dist_by_closeness.cpp -o dist_by_closeness.o
C:/rtools40/mingw32/bin/g++ -std=gnu++11 -shared -s -static-libgcc -o EnrichedHeatmap.dll tmp.def RcppExports.o dist_by_closeness.o -Lc:/extsoft/lib/i386 -Lc:/extsoft/lib -LC:/Users/BIOCBU~1/BBS-3~1.13-/R/bin/i386 -lR
installing to C:/Users/biocbuild/bbs-3.13-bioc/meat/EnrichedHeatmap.buildbin-libdir/00LOCK-EnrichedHeatmap/00new/EnrichedHeatmap/libs/i386
** R
** inst
** byte-compile and prepare package for lazy loading
** help
*** installing help indices
converting help for package 'EnrichedHeatmap'
finding HTML links ... done
EnrichedHeatmap html
finding level-2 HTML links ... done
Extract.normalizedMatrix html
anno_enriched html
as.normalizedMatrix html
copyAttr html
default_smooth_fun html
discretize html
dist_by_closeness html
enriched_score html
extract_anno_enriched html
failed_rows html
getSignalsFromList html
makeWindows html
normalizeToMatrix html
print.normalizedMatrix html
rbind.normalizedMatrix html
** building package indices
** installing vignettes
** testing if installed package can be loaded from temporary location
** testing if installed package can be loaded from final location
** testing if installed package keeps a record of temporary installation path
install for x64
* installing *source* package 'EnrichedHeatmap' ...
** libs
"C:/rtools40/mingw64/bin/"g++ -std=gnu++11 -I"C:/Users/BIOCBU~1/BBS-3~1.13-/R/include" -DNDEBUG -I'C:/Users/biocbuild/bbs-3.13-bioc/R/library/Rcpp/include' -I"C:/extsoft/include" -O2 -Wall -mfpmath=sse -msse2 -mstackrealign -c RcppExports.cpp -o RcppExports.o
"C:/rtools40/mingw64/bin/"g++ -std=gnu++11 -I"C:/Users/BIOCBU~1/BBS-3~1.13-/R/include" -DNDEBUG -I'C:/Users/biocbuild/bbs-3.13-bioc/R/library/Rcpp/include' -I"C:/extsoft/include" -O2 -Wall -mfpmath=sse -msse2 -mstackrealign -c dist_by_closeness.cpp -o dist_by_closeness.o
C:/rtools40/mingw64/bin/g++ -std=gnu++11 -shared -s -static-libgcc -o EnrichedHeatmap.dll tmp.def RcppExports.o dist_by_closeness.o -LC:/extsoft/lib/x64 -LC:/extsoft/lib -LC:/Users/BIOCBU~1/BBS-3~1.13-/R/bin/x64 -lR
installing to C:/Users/biocbuild/bbs-3.13-bioc/meat/EnrichedHeatmap.buildbin-libdir/EnrichedHeatmap/libs/x64
** testing if installed package can be loaded
* MD5 sums
packaged installation of 'EnrichedHeatmap' as EnrichedHeatmap_1.22.0.zip
* DONE (EnrichedHeatmap)
* installing to library 'C:/Users/biocbuild/bbs-3.13-bioc/R/library'
package 'EnrichedHeatmap' successfully unpacked and MD5 sums checked