| Back to Multiple platform build/check report for BioC 3.13 |
|
This page was generated on 2021-10-15 15:06:03 -0400 (Fri, 15 Oct 2021).
|
To the developers/maintainers of the DiscoRhythm package: - Please allow up to 24 hours (and sometimes 48 hours) for your latest push to git@git.bioconductor.org:packages/DiscoRhythm.git to reflect on this report. See How and When does the builder pull? When will my changes propagate? here for more information. - Make sure to use the following settings in order to reproduce any error or warning you see on this page. |
| Package 509/2041 | Hostname | OS / Arch | INSTALL | BUILD | CHECK | BUILD BIN | ||||||||
| DiscoRhythm 1.8.0 (landing page) Matthew Carlucci
| nebbiolo1 | Linux (Ubuntu 20.04.2 LTS) / x86_64 | OK | OK | OK | |||||||||
| tokay2 | Windows Server 2012 R2 Standard / x64 | OK | OK | OK | OK | |||||||||
| machv2 | macOS 10.14.6 Mojave / x86_64 | OK | OK | OK | OK | |||||||||
| Package: DiscoRhythm |
| Version: 1.8.0 |
| Command: rm -rf DiscoRhythm.buildbin-libdir && mkdir DiscoRhythm.buildbin-libdir && C:\Users\biocbuild\bbs-3.13-bioc\R\bin\R.exe CMD INSTALL --merge-multiarch --build --library=DiscoRhythm.buildbin-libdir DiscoRhythm_1.8.0.tar.gz |
| StartedAt: 2021-10-15 09:00:25 -0400 (Fri, 15 Oct 2021) |
| EndedAt: 2021-10-15 09:01:40 -0400 (Fri, 15 Oct 2021) |
| EllapsedTime: 75.4 seconds |
| RetCode: 0 |
| Status: OK |
| PackageFile: DiscoRhythm_1.8.0.zip |
| PackageFileSize: 1.938 MiB |
##############################################################################
##############################################################################
###
### Running command:
###
### rm -rf DiscoRhythm.buildbin-libdir && mkdir DiscoRhythm.buildbin-libdir && C:\Users\biocbuild\bbs-3.13-bioc\R\bin\R.exe CMD INSTALL --merge-multiarch --build --library=DiscoRhythm.buildbin-libdir DiscoRhythm_1.8.0.tar.gz
###
##############################################################################
##############################################################################
install for i386
* installing *source* package 'DiscoRhythm' ...
** using staged installation
** R
** data
*** moving datasets to lazyload DB
** inst
** byte-compile and prepare package for lazy loading
** help
*** installing help indices
converting help for package 'DiscoRhythm'
finding HTML links ... done
DiscoRhythm-package html
PeriodDetection_range html
checkJTKperiod html
checkPeriod html
discoApp html
discoBatch html
discoCheckInput html
discoColors html
discoDFtoSE html
discoDesignSummary html
discoGetSimu html
discoODAexclusionMatrix html
discoODAid2name html
discoODAs html
discoPCA html
discoPCAgetOutliers html
discoParseMeta html
discoPeriodDetection html
discoQC html
discoShinyHandler html
fisherExact html
inferFilteredDesign html
lmCSmat html
lmCSmatNoNA html
sincos html
theme_disco html
** building package indices
** installing vignettes
** testing if installed package can be loaded from temporary location
** testing if installed package can be loaded from final location
** testing if installed package keeps a record of temporary installation path
install for x64
* installing *source* package 'DiscoRhythm' ...
** testing if installed package can be loaded
* MD5 sums
packaged installation of 'DiscoRhythm' as DiscoRhythm_1.8.0.zip
* DONE (DiscoRhythm)