| Back to Multiple platform build/check report for BioC 3.13 |
|
This page was generated on 2021-10-15 15:06:03 -0400 (Fri, 15 Oct 2021).
|
To the developers/maintainers of the DiffBind package: - Please allow up to 24 hours (and sometimes 48 hours) for your latest push to git@git.bioconductor.org:packages/DiffBind.git to reflect on this report. See How and When does the builder pull? When will my changes propagate? here for more information. - Make sure to use the following settings in order to reproduce any error or warning you see on this page. |
| Package 495/2041 | Hostname | OS / Arch | INSTALL | BUILD | CHECK | BUILD BIN | ||||||||
| DiffBind 3.2.7 (landing page) Rory Stark
| nebbiolo1 | Linux (Ubuntu 20.04.2 LTS) / x86_64 | OK | OK | OK | |||||||||
| tokay2 | Windows Server 2012 R2 Standard / x64 | OK | OK | OK | OK | |||||||||
| machv2 | macOS 10.14.6 Mojave / x86_64 | OK | OK | OK | OK | |||||||||
| Package: DiffBind |
| Version: 3.2.7 |
| Command: C:\cygwin\bin\curl.exe -O http://155.52.207.165/BBS/3.13/bioc/src/contrib/DiffBind_3.2.7.tar.gz && rm -rf DiffBind.buildbin-libdir && mkdir DiffBind.buildbin-libdir && C:\Users\biocbuild\bbs-3.13-bioc\R\bin\R.exe CMD INSTALL --merge-multiarch --build --library=DiffBind.buildbin-libdir DiffBind_3.2.7.tar.gz && C:\Users\biocbuild\bbs-3.13-bioc\R\bin\R.exe CMD INSTALL DiffBind_3.2.7.zip && rm DiffBind_3.2.7.tar.gz DiffBind_3.2.7.zip |
| StartedAt: 2021-10-14 10:34:32 -0400 (Thu, 14 Oct 2021) |
| EndedAt: 2021-10-14 10:38:10 -0400 (Thu, 14 Oct 2021) |
| EllapsedTime: 218.1 seconds |
| RetCode: 0 |
| Status: OK |
##############################################################################
##############################################################################
###
### Running command:
###
### C:\cygwin\bin\curl.exe -O http://155.52.207.165/BBS/3.13/bioc/src/contrib/DiffBind_3.2.7.tar.gz && rm -rf DiffBind.buildbin-libdir && mkdir DiffBind.buildbin-libdir && C:\Users\biocbuild\bbs-3.13-bioc\R\bin\R.exe CMD INSTALL --merge-multiarch --build --library=DiffBind.buildbin-libdir DiffBind_3.2.7.tar.gz && C:\Users\biocbuild\bbs-3.13-bioc\R\bin\R.exe CMD INSTALL DiffBind_3.2.7.zip && rm DiffBind_3.2.7.tar.gz DiffBind_3.2.7.zip
###
##############################################################################
##############################################################################
% Total % Received % Xferd Average Speed Time Time Time Current
Dload Upload Total Spent Left Speed
0 0 0 0 0 0 0 0 --:--:-- --:--:-- --:--:-- 0
0 3945k 0 15985 0 0 133k 0 0:00:29 --:--:-- 0:00:29 133k
56 3945k 56 2227k 0 0 2001k 0 0:00:01 0:00:01 --:--:-- 2001k
100 3945k 100 3945k 0 0 2275k 0 0:00:01 0:00:01 --:--:-- 2275k
install for i386
* installing *source* package 'DiffBind' ...
** using staged installation
** libs
"C:/rtools40/mingw32/bin/"g++ -std=gnu++11 -I"C:/Users/BIOCBU~1/BBS-3~1.13-/R/include" -DNDEBUG -D_FILE_OFFSET_BITS=64 -I'C:/Users/biocbuild/bbs-3.13-bioc/R/library/Rhtslib/include' -I'C:/Users/biocbuild/bbs-3.13-bioc/R/library/Rcpp/include' -I"c:/extsoft/include" -O2 -Wall -mfpmath=sse -msse2 -mstackrealign -c RcppExports.cpp -o RcppExports.o
"C:/rtools40/mingw32/bin/"g++ -std=gnu++11 -I"C:/Users/BIOCBU~1/BBS-3~1.13-/R/include" -DNDEBUG -D_FILE_OFFSET_BITS=64 -I'C:/Users/biocbuild/bbs-3.13-bioc/R/library/Rhtslib/include' -I'C:/Users/biocbuild/bbs-3.13-bioc/R/library/Rcpp/include' -I"c:/extsoft/include" -O2 -Wall -mfpmath=sse -msse2 -mstackrealign -c bamReader.cpp -o bamReader.o
"C:/rtools40/mingw32/bin/"gcc -I"C:/Users/BIOCBU~1/BBS-3~1.13-/R/include" -DNDEBUG -D_FILE_OFFSET_BITS=64 -I'C:/Users/biocbuild/bbs-3.13-bioc/R/library/Rhtslib/include' -I'C:/Users/biocbuild/bbs-3.13-bioc/R/library/Rcpp/include' -I"c:/extsoft/include" -O2 -Wall -std=gnu99 -mfpmath=sse -msse2 -mstackrealign -c bam_plbuf.c -o bam_plbuf.o
"C:/rtools40/mingw32/bin/"g++ -std=gnu++11 -I"C:/Users/BIOCBU~1/BBS-3~1.13-/R/include" -DNDEBUG -D_FILE_OFFSET_BITS=64 -I'C:/Users/biocbuild/bbs-3.13-bioc/R/library/Rhtslib/include' -I'C:/Users/biocbuild/bbs-3.13-bioc/R/library/Rcpp/include' -I"c:/extsoft/include" -O2 -Wall -mfpmath=sse -msse2 -mstackrealign -c bedReader.cpp -o bedReader.o
"C:/rtools40/mingw32/bin/"g++ -std=gnu++11 -I"C:/Users/BIOCBU~1/BBS-3~1.13-/R/include" -DNDEBUG -D_FILE_OFFSET_BITS=64 -I'C:/Users/biocbuild/bbs-3.13-bioc/R/library/Rhtslib/include' -I'C:/Users/biocbuild/bbs-3.13-bioc/R/library/Rcpp/include' -I"c:/extsoft/include" -O2 -Wall -mfpmath=sse -msse2 -mstackrealign -c bitBucket.cpp -o bitBucket.o
"C:/rtools40/mingw32/bin/"g++ -std=gnu++11 -I"C:/Users/BIOCBU~1/BBS-3~1.13-/R/include" -DNDEBUG -D_FILE_OFFSET_BITS=64 -I'C:/Users/biocbuild/bbs-3.13-bioc/R/library/Rhtslib/include' -I'C:/Users/biocbuild/bbs-3.13-bioc/R/library/Rcpp/include' -I"c:/extsoft/include" -O2 -Wall -mfpmath=sse -msse2 -mstackrealign -c croi_func.cpp -o croi_func.o
"C:/rtools40/mingw32/bin/"g++ -std=gnu++11 -I"C:/Users/BIOCBU~1/BBS-3~1.13-/R/include" -DNDEBUG -D_FILE_OFFSET_BITS=64 -I'C:/Users/biocbuild/bbs-3.13-bioc/R/library/Rhtslib/include' -I'C:/Users/biocbuild/bbs-3.13-bioc/R/library/Rcpp/include' -I"c:/extsoft/include" -O2 -Wall -mfpmath=sse -msse2 -mstackrealign -c croi_main.cpp -o croi_main.o
"C:/rtools40/mingw32/bin/"g++ -std=gnu++11 -I"C:/Users/BIOCBU~1/BBS-3~1.13-/R/include" -DNDEBUG -D_FILE_OFFSET_BITS=64 -I'C:/Users/biocbuild/bbs-3.13-bioc/R/library/Rhtslib/include' -I'C:/Users/biocbuild/bbs-3.13-bioc/R/library/Rcpp/include' -I"c:/extsoft/include" -O2 -Wall -mfpmath=sse -msse2 -mstackrealign -c densitySet.cpp -o densitySet.o
"C:/rtools40/mingw32/bin/"g++ -std=gnu++11 -I"C:/Users/BIOCBU~1/BBS-3~1.13-/R/include" -DNDEBUG -D_FILE_OFFSET_BITS=64 -I'C:/Users/biocbuild/bbs-3.13-bioc/R/library/Rhtslib/include' -I'C:/Users/biocbuild/bbs-3.13-bioc/R/library/Rcpp/include' -I"c:/extsoft/include" -O2 -Wall -mfpmath=sse -msse2 -mstackrealign -c iBucket.cpp -o iBucket.o
"C:/rtools40/mingw32/bin/"g++ -std=gnu++11 -I"C:/Users/BIOCBU~1/BBS-3~1.13-/R/include" -DNDEBUG -D_FILE_OFFSET_BITS=64 -I'C:/Users/biocbuild/bbs-3.13-bioc/R/library/Rhtslib/include' -I'C:/Users/biocbuild/bbs-3.13-bioc/R/library/Rcpp/include' -I"c:/extsoft/include" -O2 -Wall -mfpmath=sse -msse2 -mstackrealign -c interval.cpp -o interval.o
"C:/rtools40/mingw32/bin/"g++ -std=gnu++11 -I"C:/Users/BIOCBU~1/BBS-3~1.13-/R/include" -DNDEBUG -D_FILE_OFFSET_BITS=64 -I'C:/Users/biocbuild/bbs-3.13-bioc/R/library/Rhtslib/include' -I'C:/Users/biocbuild/bbs-3.13-bioc/R/library/Rcpp/include' -I"c:/extsoft/include" -O2 -Wall -mfpmath=sse -msse2 -mstackrealign -c intervalDensity.cpp -o intervalDensity.o
"C:/rtools40/mingw32/bin/"g++ -std=gnu++11 -I"C:/Users/BIOCBU~1/BBS-3~1.13-/R/include" -DNDEBUG -D_FILE_OFFSET_BITS=64 -I'C:/Users/biocbuild/bbs-3.13-bioc/R/library/Rhtslib/include' -I'C:/Users/biocbuild/bbs-3.13-bioc/R/library/Rcpp/include' -I"c:/extsoft/include" -O2 -Wall -mfpmath=sse -msse2 -mstackrealign -c intervalNode.cpp -o intervalNode.o
"C:/rtools40/mingw32/bin/"g++ -std=gnu++11 -I"C:/Users/BIOCBU~1/BBS-3~1.13-/R/include" -DNDEBUG -D_FILE_OFFSET_BITS=64 -I'C:/Users/biocbuild/bbs-3.13-bioc/R/library/Rhtslib/include' -I'C:/Users/biocbuild/bbs-3.13-bioc/R/library/Rcpp/include' -I"c:/extsoft/include" -O2 -Wall -mfpmath=sse -msse2 -mstackrealign -c intervalSet.cpp -o intervalSet.o
"C:/rtools40/mingw32/bin/"g++ -std=gnu++11 -I"C:/Users/BIOCBU~1/BBS-3~1.13-/R/include" -DNDEBUG -D_FILE_OFFSET_BITS=64 -I'C:/Users/biocbuild/bbs-3.13-bioc/R/library/Rhtslib/include' -I'C:/Users/biocbuild/bbs-3.13-bioc/R/library/Rcpp/include' -I"c:/extsoft/include" -O2 -Wall -mfpmath=sse -msse2 -mstackrealign -c intervalTree.cpp -o intervalTree.o
"C:/rtools40/mingw32/bin/"g++ -std=gnu++11 -I"C:/Users/BIOCBU~1/BBS-3~1.13-/R/include" -DNDEBUG -D_FILE_OFFSET_BITS=64 -I'C:/Users/biocbuild/bbs-3.13-bioc/R/library/Rhtslib/include' -I'C:/Users/biocbuild/bbs-3.13-bioc/R/library/Rcpp/include' -I"c:/extsoft/include" -O2 -Wall -mfpmath=sse -msse2 -mstackrealign -c merge.cpp -o merge.o
"C:/rtools40/mingw32/bin/"gcc -I"C:/Users/BIOCBU~1/BBS-3~1.13-/R/include" -DNDEBUG -D_FILE_OFFSET_BITS=64 -I'C:/Users/biocbuild/bbs-3.13-bioc/R/library/Rhtslib/include' -I'C:/Users/biocbuild/bbs-3.13-bioc/R/library/Rcpp/include' -I"c:/extsoft/include" -O2 -Wall -std=gnu99 -mfpmath=sse -msse2 -mstackrealign -c mergeOne.c -o mergeOne.o
"C:/rtools40/mingw32/bin/"g++ -std=gnu++11 -I"C:/Users/BIOCBU~1/BBS-3~1.13-/R/include" -DNDEBUG -D_FILE_OFFSET_BITS=64 -I'C:/Users/biocbuild/bbs-3.13-bioc/R/library/Rhtslib/include' -I'C:/Users/biocbuild/bbs-3.13-bioc/R/library/Rcpp/include' -I"c:/extsoft/include" -O2 -Wall -mfpmath=sse -msse2 -mstackrealign -c nodeGroup.cpp -o nodeGroup.o
"C:/rtools40/mingw32/bin/"g++ -std=gnu++11 -I"C:/Users/BIOCBU~1/BBS-3~1.13-/R/include" -DNDEBUG -D_FILE_OFFSET_BITS=64 -I'C:/Users/biocbuild/bbs-3.13-bioc/R/library/Rhtslib/include' -I'C:/Users/biocbuild/bbs-3.13-bioc/R/library/Rcpp/include' -I"c:/extsoft/include" -O2 -Wall -mfpmath=sse -msse2 -mstackrealign -c peakOrder.cpp -o peakOrder.o
"C:/rtools40/mingw32/bin/"g++ -std=gnu++11 -I"C:/Users/BIOCBU~1/BBS-3~1.13-/R/include" -DNDEBUG -D_FILE_OFFSET_BITS=64 -I'C:/Users/biocbuild/bbs-3.13-bioc/R/library/Rhtslib/include' -I'C:/Users/biocbuild/bbs-3.13-bioc/R/library/Rcpp/include' -I"c:/extsoft/include" -O2 -Wall -mfpmath=sse -msse2 -mstackrealign -c reader.cpp -o reader.o
"C:/rtools40/mingw32/bin/"gcc -I"C:/Users/BIOCBU~1/BBS-3~1.13-/R/include" -DNDEBUG -D_FILE_OFFSET_BITS=64 -I'C:/Users/biocbuild/bbs-3.13-bioc/R/library/Rhtslib/include' -I'C:/Users/biocbuild/bbs-3.13-bioc/R/library/Rcpp/include' -I"c:/extsoft/include" -O2 -Wall -std=gnu99 -mfpmath=sse -msse2 -mstackrealign -c sam.c -o sam.o
"C:/rtools40/mingw32/bin/"g++ -std=gnu++11 -I"C:/Users/BIOCBU~1/BBS-3~1.13-/R/include" -DNDEBUG -D_FILE_OFFSET_BITS=64 -I'C:/Users/biocbuild/bbs-3.13-bioc/R/library/Rhtslib/include' -I'C:/Users/biocbuild/bbs-3.13-bioc/R/library/Rcpp/include' -I"c:/extsoft/include" -O2 -Wall -mfpmath=sse -msse2 -mstackrealign -c sequence.cpp -o sequence.o
"C:/rtools40/mingw32/bin/"g++ -std=gnu++11 -I"C:/Users/BIOCBU~1/BBS-3~1.13-/R/include" -DNDEBUG -D_FILE_OFFSET_BITS=64 -I'C:/Users/biocbuild/bbs-3.13-bioc/R/library/Rhtslib/include' -I'C:/Users/biocbuild/bbs-3.13-bioc/R/library/Rcpp/include' -I"c:/extsoft/include" -O2 -Wall -mfpmath=sse -msse2 -mstackrealign -c util.cpp -o util.o
C:/rtools40/mingw32/bin/g++ -std=gnu++11 -shared -s -static-libgcc -o DiffBind.dll tmp.def RcppExports.o bamReader.o bam_plbuf.o bedReader.o bitBucket.o croi_func.o croi_main.o densitySet.o iBucket.o interval.o intervalDensity.o intervalNode.o intervalSet.o intervalTree.o merge.o mergeOne.o nodeGroup.o peakOrder.o reader.o sam.o sequence.o util.o C:/Users/biocbuild/bbs-3.13-bioc/R/library/Rhtslib/usrlib/i386/libhts.a -Lc:/extsoft/lib/i386 -lcurl -lrtmp -lssl -lssh2 -lcrypto -lgdi32 -lz -lws2_32 -lwldap32 -lwinmm -lidn -Lc:/extsoft/lib/i386 -Lc:/extsoft/lib -LC:/Users/BIOCBU~1/BBS-3~1.13-/R/bin/i386 -lR
installing to C:/Users/biocbuild/bbs-3.13-bioc/meat/DiffBind.buildbin-libdir/00LOCK-DiffBind/00new/DiffBind/libs/i386
** R
** data
** inst
** byte-compile and prepare package for lazy loading
** help
*** installing help indices
converting help for package 'DiffBind'
finding HTML links ... done
DiffBind-globals html
finding level-2 HTML links ... done
DiffBind-package html
DiffBind3 html
dba html
dba.analyze html
dba.blacklist html
dba.contrast html
dba.count html
dba.load html
dba.mask html
dba.normalize html
dba.overlap html
dba.peakset html
dba.plotBox html
dba.plotHeatmap html
dba.plotMA html
dba.plotPCA html
dba.plotProfile html
dba.plotVenn html
dba.plotVolcano html
dba.report html
dba.save html
dba.show html
print.DBA html
tamoxifen html
** building package indices
** installing vignettes
** testing if installed package can be loaded from temporary location
** testing if installed package can be loaded from final location
** testing if installed package keeps a record of temporary installation path
install for x64
* installing *source* package 'DiffBind' ...
** libs
"C:/rtools40/mingw64/bin/"g++ -std=gnu++11 -I"C:/Users/BIOCBU~1/BBS-3~1.13-/R/include" -DNDEBUG -D_FILE_OFFSET_BITS=64 -I'C:/Users/biocbuild/bbs-3.13-bioc/R/library/Rhtslib/include' -I'C:/Users/biocbuild/bbs-3.13-bioc/R/library/Rcpp/include' -I"C:/extsoft/include" -O2 -Wall -mfpmath=sse -msse2 -mstackrealign -c RcppExports.cpp -o RcppExports.o
"C:/rtools40/mingw64/bin/"g++ -std=gnu++11 -I"C:/Users/BIOCBU~1/BBS-3~1.13-/R/include" -DNDEBUG -D_FILE_OFFSET_BITS=64 -I'C:/Users/biocbuild/bbs-3.13-bioc/R/library/Rhtslib/include' -I'C:/Users/biocbuild/bbs-3.13-bioc/R/library/Rcpp/include' -I"C:/extsoft/include" -O2 -Wall -mfpmath=sse -msse2 -mstackrealign -c bamReader.cpp -o bamReader.o
"C:/rtools40/mingw64/bin/"gcc -I"C:/Users/BIOCBU~1/BBS-3~1.13-/R/include" -DNDEBUG -D_FILE_OFFSET_BITS=64 -I'C:/Users/biocbuild/bbs-3.13-bioc/R/library/Rhtslib/include' -I'C:/Users/biocbuild/bbs-3.13-bioc/R/library/Rcpp/include' -I"C:/extsoft/include" -O2 -Wall -std=gnu99 -mfpmath=sse -msse2 -mstackrealign -c bam_plbuf.c -o bam_plbuf.o
"C:/rtools40/mingw64/bin/"g++ -std=gnu++11 -I"C:/Users/BIOCBU~1/BBS-3~1.13-/R/include" -DNDEBUG -D_FILE_OFFSET_BITS=64 -I'C:/Users/biocbuild/bbs-3.13-bioc/R/library/Rhtslib/include' -I'C:/Users/biocbuild/bbs-3.13-bioc/R/library/Rcpp/include' -I"C:/extsoft/include" -O2 -Wall -mfpmath=sse -msse2 -mstackrealign -c bedReader.cpp -o bedReader.o
"C:/rtools40/mingw64/bin/"g++ -std=gnu++11 -I"C:/Users/BIOCBU~1/BBS-3~1.13-/R/include" -DNDEBUG -D_FILE_OFFSET_BITS=64 -I'C:/Users/biocbuild/bbs-3.13-bioc/R/library/Rhtslib/include' -I'C:/Users/biocbuild/bbs-3.13-bioc/R/library/Rcpp/include' -I"C:/extsoft/include" -O2 -Wall -mfpmath=sse -msse2 -mstackrealign -c bitBucket.cpp -o bitBucket.o
"C:/rtools40/mingw64/bin/"g++ -std=gnu++11 -I"C:/Users/BIOCBU~1/BBS-3~1.13-/R/include" -DNDEBUG -D_FILE_OFFSET_BITS=64 -I'C:/Users/biocbuild/bbs-3.13-bioc/R/library/Rhtslib/include' -I'C:/Users/biocbuild/bbs-3.13-bioc/R/library/Rcpp/include' -I"C:/extsoft/include" -O2 -Wall -mfpmath=sse -msse2 -mstackrealign -c croi_func.cpp -o croi_func.o
"C:/rtools40/mingw64/bin/"g++ -std=gnu++11 -I"C:/Users/BIOCBU~1/BBS-3~1.13-/R/include" -DNDEBUG -D_FILE_OFFSET_BITS=64 -I'C:/Users/biocbuild/bbs-3.13-bioc/R/library/Rhtslib/include' -I'C:/Users/biocbuild/bbs-3.13-bioc/R/library/Rcpp/include' -I"C:/extsoft/include" -O2 -Wall -mfpmath=sse -msse2 -mstackrealign -c croi_main.cpp -o croi_main.o
"C:/rtools40/mingw64/bin/"g++ -std=gnu++11 -I"C:/Users/BIOCBU~1/BBS-3~1.13-/R/include" -DNDEBUG -D_FILE_OFFSET_BITS=64 -I'C:/Users/biocbuild/bbs-3.13-bioc/R/library/Rhtslib/include' -I'C:/Users/biocbuild/bbs-3.13-bioc/R/library/Rcpp/include' -I"C:/extsoft/include" -O2 -Wall -mfpmath=sse -msse2 -mstackrealign -c densitySet.cpp -o densitySet.o
"C:/rtools40/mingw64/bin/"g++ -std=gnu++11 -I"C:/Users/BIOCBU~1/BBS-3~1.13-/R/include" -DNDEBUG -D_FILE_OFFSET_BITS=64 -I'C:/Users/biocbuild/bbs-3.13-bioc/R/library/Rhtslib/include' -I'C:/Users/biocbuild/bbs-3.13-bioc/R/library/Rcpp/include' -I"C:/extsoft/include" -O2 -Wall -mfpmath=sse -msse2 -mstackrealign -c iBucket.cpp -o iBucket.o
"C:/rtools40/mingw64/bin/"g++ -std=gnu++11 -I"C:/Users/BIOCBU~1/BBS-3~1.13-/R/include" -DNDEBUG -D_FILE_OFFSET_BITS=64 -I'C:/Users/biocbuild/bbs-3.13-bioc/R/library/Rhtslib/include' -I'C:/Users/biocbuild/bbs-3.13-bioc/R/library/Rcpp/include' -I"C:/extsoft/include" -O2 -Wall -mfpmath=sse -msse2 -mstackrealign -c interval.cpp -o interval.o
"C:/rtools40/mingw64/bin/"g++ -std=gnu++11 -I"C:/Users/BIOCBU~1/BBS-3~1.13-/R/include" -DNDEBUG -D_FILE_OFFSET_BITS=64 -I'C:/Users/biocbuild/bbs-3.13-bioc/R/library/Rhtslib/include' -I'C:/Users/biocbuild/bbs-3.13-bioc/R/library/Rcpp/include' -I"C:/extsoft/include" -O2 -Wall -mfpmath=sse -msse2 -mstackrealign -c intervalDensity.cpp -o intervalDensity.o
"C:/rtools40/mingw64/bin/"g++ -std=gnu++11 -I"C:/Users/BIOCBU~1/BBS-3~1.13-/R/include" -DNDEBUG -D_FILE_OFFSET_BITS=64 -I'C:/Users/biocbuild/bbs-3.13-bioc/R/library/Rhtslib/include' -I'C:/Users/biocbuild/bbs-3.13-bioc/R/library/Rcpp/include' -I"C:/extsoft/include" -O2 -Wall -mfpmath=sse -msse2 -mstackrealign -c intervalNode.cpp -o intervalNode.o
"C:/rtools40/mingw64/bin/"g++ -std=gnu++11 -I"C:/Users/BIOCBU~1/BBS-3~1.13-/R/include" -DNDEBUG -D_FILE_OFFSET_BITS=64 -I'C:/Users/biocbuild/bbs-3.13-bioc/R/library/Rhtslib/include' -I'C:/Users/biocbuild/bbs-3.13-bioc/R/library/Rcpp/include' -I"C:/extsoft/include" -O2 -Wall -mfpmath=sse -msse2 -mstackrealign -c intervalSet.cpp -o intervalSet.o
"C:/rtools40/mingw64/bin/"g++ -std=gnu++11 -I"C:/Users/BIOCBU~1/BBS-3~1.13-/R/include" -DNDEBUG -D_FILE_OFFSET_BITS=64 -I'C:/Users/biocbuild/bbs-3.13-bioc/R/library/Rhtslib/include' -I'C:/Users/biocbuild/bbs-3.13-bioc/R/library/Rcpp/include' -I"C:/extsoft/include" -O2 -Wall -mfpmath=sse -msse2 -mstackrealign -c intervalTree.cpp -o intervalTree.o
"C:/rtools40/mingw64/bin/"g++ -std=gnu++11 -I"C:/Users/BIOCBU~1/BBS-3~1.13-/R/include" -DNDEBUG -D_FILE_OFFSET_BITS=64 -I'C:/Users/biocbuild/bbs-3.13-bioc/R/library/Rhtslib/include' -I'C:/Users/biocbuild/bbs-3.13-bioc/R/library/Rcpp/include' -I"C:/extsoft/include" -O2 -Wall -mfpmath=sse -msse2 -mstackrealign -c merge.cpp -o merge.o
"C:/rtools40/mingw64/bin/"gcc -I"C:/Users/BIOCBU~1/BBS-3~1.13-/R/include" -DNDEBUG -D_FILE_OFFSET_BITS=64 -I'C:/Users/biocbuild/bbs-3.13-bioc/R/library/Rhtslib/include' -I'C:/Users/biocbuild/bbs-3.13-bioc/R/library/Rcpp/include' -I"C:/extsoft/include" -O2 -Wall -std=gnu99 -mfpmath=sse -msse2 -mstackrealign -c mergeOne.c -o mergeOne.o
"C:/rtools40/mingw64/bin/"g++ -std=gnu++11 -I"C:/Users/BIOCBU~1/BBS-3~1.13-/R/include" -DNDEBUG -D_FILE_OFFSET_BITS=64 -I'C:/Users/biocbuild/bbs-3.13-bioc/R/library/Rhtslib/include' -I'C:/Users/biocbuild/bbs-3.13-bioc/R/library/Rcpp/include' -I"C:/extsoft/include" -O2 -Wall -mfpmath=sse -msse2 -mstackrealign -c nodeGroup.cpp -o nodeGroup.o
"C:/rtools40/mingw64/bin/"g++ -std=gnu++11 -I"C:/Users/BIOCBU~1/BBS-3~1.13-/R/include" -DNDEBUG -D_FILE_OFFSET_BITS=64 -I'C:/Users/biocbuild/bbs-3.13-bioc/R/library/Rhtslib/include' -I'C:/Users/biocbuild/bbs-3.13-bioc/R/library/Rcpp/include' -I"C:/extsoft/include" -O2 -Wall -mfpmath=sse -msse2 -mstackrealign -c peakOrder.cpp -o peakOrder.o
"C:/rtools40/mingw64/bin/"g++ -std=gnu++11 -I"C:/Users/BIOCBU~1/BBS-3~1.13-/R/include" -DNDEBUG -D_FILE_OFFSET_BITS=64 -I'C:/Users/biocbuild/bbs-3.13-bioc/R/library/Rhtslib/include' -I'C:/Users/biocbuild/bbs-3.13-bioc/R/library/Rcpp/include' -I"C:/extsoft/include" -O2 -Wall -mfpmath=sse -msse2 -mstackrealign -c reader.cpp -o reader.o
"C:/rtools40/mingw64/bin/"gcc -I"C:/Users/BIOCBU~1/BBS-3~1.13-/R/include" -DNDEBUG -D_FILE_OFFSET_BITS=64 -I'C:/Users/biocbuild/bbs-3.13-bioc/R/library/Rhtslib/include' -I'C:/Users/biocbuild/bbs-3.13-bioc/R/library/Rcpp/include' -I"C:/extsoft/include" -O2 -Wall -std=gnu99 -mfpmath=sse -msse2 -mstackrealign -c sam.c -o sam.o
"C:/rtools40/mingw64/bin/"g++ -std=gnu++11 -I"C:/Users/BIOCBU~1/BBS-3~1.13-/R/include" -DNDEBUG -D_FILE_OFFSET_BITS=64 -I'C:/Users/biocbuild/bbs-3.13-bioc/R/library/Rhtslib/include' -I'C:/Users/biocbuild/bbs-3.13-bioc/R/library/Rcpp/include' -I"C:/extsoft/include" -O2 -Wall -mfpmath=sse -msse2 -mstackrealign -c sequence.cpp -o sequence.o
"C:/rtools40/mingw64/bin/"g++ -std=gnu++11 -I"C:/Users/BIOCBU~1/BBS-3~1.13-/R/include" -DNDEBUG -D_FILE_OFFSET_BITS=64 -I'C:/Users/biocbuild/bbs-3.13-bioc/R/library/Rhtslib/include' -I'C:/Users/biocbuild/bbs-3.13-bioc/R/library/Rcpp/include' -I"C:/extsoft/include" -O2 -Wall -mfpmath=sse -msse2 -mstackrealign -c util.cpp -o util.o
C:/rtools40/mingw64/bin/g++ -std=gnu++11 -shared -s -static-libgcc -o DiffBind.dll tmp.def RcppExports.o bamReader.o bam_plbuf.o bedReader.o bitBucket.o croi_func.o croi_main.o densitySet.o iBucket.o interval.o intervalDensity.o intervalNode.o intervalSet.o intervalTree.o merge.o mergeOne.o nodeGroup.o peakOrder.o reader.o sam.o sequence.o util.o C:/Users/biocbuild/bbs-3.13-bioc/R/library/Rhtslib/usrlib/x64/libhts.a -LC:/extsoft/lib/x64 -lcurl -lrtmp -lssl -lssh2 -lcrypto -lgdi32 -lz -lws2_32 -lwldap32 -lwinmm -LC:/extsoft/lib/x64 -LC:/extsoft/lib -LC:/Users/BIOCBU~1/BBS-3~1.13-/R/bin/x64 -lR
installing to C:/Users/biocbuild/bbs-3.13-bioc/meat/DiffBind.buildbin-libdir/DiffBind/libs/x64
** testing if installed package can be loaded
* MD5 sums
packaged installation of 'DiffBind' as DiffBind_3.2.7.zip
* DONE (DiffBind)
* installing to library 'C:/Users/biocbuild/bbs-3.13-bioc/R/library'
package 'DiffBind' successfully unpacked and MD5 sums checked