| Back to Multiple platform build/check report for BioC 3.13 |
|
This page was generated on 2021-10-15 15:06:02 -0400 (Fri, 15 Oct 2021).
|
To the developers/maintainers of the DelayedMatrixStats package: - Please allow up to 24 hours (and sometimes 48 hours) for your latest push to git@git.bioconductor.org:packages/DelayedMatrixStats.git to reflect on this report. See How and When does the builder pull? When will my changes propagate? here for more information. - Make sure to use the following settings in order to reproduce any error or warning you see on this page. |
| Package 471/2041 | Hostname | OS / Arch | INSTALL | BUILD | CHECK | BUILD BIN | ||||||||
| DelayedMatrixStats 1.14.3 (landing page) Peter Hickey
| nebbiolo1 | Linux (Ubuntu 20.04.2 LTS) / x86_64 | OK | OK | OK | |||||||||
| tokay2 | Windows Server 2012 R2 Standard / x64 | OK | OK | OK | OK | |||||||||
| machv2 | macOS 10.14.6 Mojave / x86_64 | OK | OK | OK | OK | |||||||||
| Package: DelayedMatrixStats |
| Version: 1.14.3 |
| Command: rm -rf DelayedMatrixStats.buildbin-libdir && mkdir DelayedMatrixStats.buildbin-libdir && C:\Users\biocbuild\bbs-3.13-bioc\R\bin\R.exe CMD INSTALL --merge-multiarch --build --library=DelayedMatrixStats.buildbin-libdir DelayedMatrixStats_1.14.3.tar.gz |
| StartedAt: 2021-10-15 08:55:18 -0400 (Fri, 15 Oct 2021) |
| EndedAt: 2021-10-15 08:56:46 -0400 (Fri, 15 Oct 2021) |
| EllapsedTime: 87.8 seconds |
| RetCode: 0 |
| Status: OK |
| PackageFile: DelayedMatrixStats_1.14.3.zip |
| PackageFileSize: 751.2 KiB |
##############################################################################
##############################################################################
###
### Running command:
###
### rm -rf DelayedMatrixStats.buildbin-libdir && mkdir DelayedMatrixStats.buildbin-libdir && C:\Users\biocbuild\bbs-3.13-bioc\R\bin\R.exe CMD INSTALL --merge-multiarch --build --library=DelayedMatrixStats.buildbin-libdir DelayedMatrixStats_1.14.3.tar.gz
###
##############################################################################
##############################################################################
install for i386
* installing *source* package 'DelayedMatrixStats' ...
** using staged installation
** R
** inst
** byte-compile and prepare package for lazy loading
** help
*** installing help indices
converting help for package 'DelayedMatrixStats'
finding HTML links ... done
DelayedMatrixStats html
colAlls html
finding level-2 HTML links ... done
colAnyNAs html
colAvgsPerRowSet html
colCollapse html
colCounts html
colCummaxs html
colDiffs html
colIQRDiffs html
colIQRs html
colLogSumExps html
colMads html
colMeans2 html
colMedians html
colOrderStats html
colProds html
colQuantiles html
colRanks html
colSums2 html
colTabulates html
colVars html
colWeightedMads html
colWeightedMeans html
colWeightedMedians html
colWeightedVars html
from_DelayedArray_to_simple_seed_class
html
reexports html
subset_by_Nindex html
** building package indices
** installing vignettes
** testing if installed package can be loaded from temporary location
** testing if installed package can be loaded from final location
** testing if installed package keeps a record of temporary installation path
install for x64
* installing *source* package 'DelayedMatrixStats' ...
** testing if installed package can be loaded
* MD5 sums
packaged installation of 'DelayedMatrixStats' as DelayedMatrixStats_1.14.3.zip
* DONE (DelayedMatrixStats)