| Back to Multiple platform build/check report for BioC 3.13 |
|
This page was generated on 2021-10-15 15:06:33 -0400 (Fri, 15 Oct 2021).
|
To the developers/maintainers of the DeepBlueR package: - Please allow up to 24 hours (and sometimes 48 hours) for your latest push to git@git.bioconductor.org:packages/DeepBlueR.git to reflect on this report. See How and When does the builder pull? When will my changes propagate? here for more information. - Make sure to use the following settings in order to reproduce any error or warning you see on this page. |
| Package 461/2041 | Hostname | OS / Arch | INSTALL | BUILD | CHECK | BUILD BIN | ||||||||
| DeepBlueR 1.18.0 (landing page) Felipe Albrecht
| nebbiolo1 | Linux (Ubuntu 20.04.2 LTS) / x86_64 | OK | OK | OK | |||||||||
| tokay2 | Windows Server 2012 R2 Standard / x64 | OK | OK | OK | OK | |||||||||
| machv2 | macOS 10.14.6 Mojave / x86_64 | OK | OK | OK | OK | |||||||||
| Package: DeepBlueR |
| Version: 1.18.0 |
| Command: /Library/Frameworks/R.framework/Versions/Current/Resources/bin/R CMD check --install=check:DeepBlueR.install-out.txt --library=/Library/Frameworks/R.framework/Versions/Current/Resources/library --no-vignettes --timings DeepBlueR_1.18.0.tar.gz |
| StartedAt: 2021-10-14 18:11:05 -0400 (Thu, 14 Oct 2021) |
| EndedAt: 2021-10-14 18:16:39 -0400 (Thu, 14 Oct 2021) |
| EllapsedTime: 333.9 seconds |
| RetCode: 0 |
| Status: OK |
| CheckDir: DeepBlueR.Rcheck |
| Warnings: 0 |
##############################################################################
##############################################################################
###
### Running command:
###
### /Library/Frameworks/R.framework/Versions/Current/Resources/bin/R CMD check --install=check:DeepBlueR.install-out.txt --library=/Library/Frameworks/R.framework/Versions/Current/Resources/library --no-vignettes --timings DeepBlueR_1.18.0.tar.gz
###
##############################################################################
##############################################################################
* using log directory ‘/Users/biocbuild/bbs-3.13-bioc/meat/DeepBlueR.Rcheck’
* using R version 4.1.1 (2021-08-10)
* using platform: x86_64-apple-darwin17.0 (64-bit)
* using session charset: UTF-8
* using option ‘--no-vignettes’
* checking for file ‘DeepBlueR/DESCRIPTION’ ... OK
* checking extension type ... Package
* this is package ‘DeepBlueR’ version ‘1.18.0’
* checking package namespace information ... OK
* checking package dependencies ... OK
* checking if this is a source package ... OK
* checking if there is a namespace ... OK
* checking for hidden files and directories ... OK
* checking for portable file names ... OK
* checking for sufficient/correct file permissions ... OK
* checking whether package ‘DeepBlueR’ can be installed ... OK
* checking installed package size ... OK
* checking package directory ... OK
* checking ‘build’ directory ... OK
* checking DESCRIPTION meta-information ... OK
* checking top-level files ... OK
* checking for left-over files ... OK
* checking index information ... OK
* checking package subdirectories ... OK
* checking R files for non-ASCII characters ... OK
* checking R files for syntax errors ... OK
* checking whether the package can be loaded ... OK
* checking whether the package can be loaded with stated dependencies ... OK
* checking whether the package can be unloaded cleanly ... OK
* checking whether the namespace can be loaded with stated dependencies ... OK
* checking whether the namespace can be unloaded cleanly ... OK
* checking dependencies in R code ... OK
* checking S3 generic/method consistency ... OK
* checking replacement functions ... OK
* checking foreign function calls ... OK
* checking R code for possible problems ... OK
* checking Rd files ... NOTE
prepare_Rd: deepblue_enrich_regions_fast.Rd:35-38: Dropping empty section \examples
* checking Rd metadata ... OK
* checking Rd cross-references ... OK
* checking for missing documentation entries ... OK
* checking for code/documentation mismatches ... OK
* checking Rd \usage sections ... OK
* checking Rd contents ... OK
* checking for unstated dependencies in examples ... OK
* checking files in ‘vignettes’ ... OK
* checking examples ... OK
Examples with CPU (user + system) or elapsed time > 5s
user system elapsed
deepblue_liftover 0.579 0.076 6.552
* checking for unstated dependencies in vignettes ... OK
* checking package vignettes in ‘inst/doc’ ... OK
* checking running R code from vignettes ... SKIPPED
* checking re-building of vignette outputs ... SKIPPED
* checking PDF version of manual ... OK
* DONE
Status: 1 NOTE
See
‘/Users/biocbuild/bbs-3.13-bioc/meat/DeepBlueR.Rcheck/00check.log’
for details.
DeepBlueR.Rcheck/00install.out
############################################################################## ############################################################################## ### ### Running command: ### ### /Library/Frameworks/R.framework/Versions/Current/Resources/bin/R CMD INSTALL DeepBlueR ### ############################################################################## ############################################################################## * installing to library ‘/Library/Frameworks/R.framework/Versions/4.1/Resources/library’ * installing *source* package ‘DeepBlueR’ ... ** using staged installation ** R ** demo ** inst ** byte-compile and prepare package for lazy loading Called method: deepblue_list_column_types Reported status was: okay Called method: deepblue_info Reported status was: okay ** help *** installing help indices ** building package indices ** installing vignettes ** testing if installed package can be loaded from temporary location ** testing if installed package can be loaded from final location ** testing if installed package keeps a record of temporary installation path * DONE (DeepBlueR)
DeepBlueR.Rcheck/DeepBlueR-Ex.timings
| name | user | system | elapsed | |
| deepblue_aggregate | 0.099 | 0.005 | 0.853 | |
| deepblue_batch_export_results | 1.016 | 0.035 | 3.774 | |
| deepblue_binning | 0.056 | 0.002 | 0.573 | |
| deepblue_cache_status | 0.002 | 0.001 | 0.004 | |
| deepblue_cancel_request | 0.020 | 0.001 | 0.259 | |
| deepblue_chromosomes | 0.080 | 0.004 | 0.331 | |
| deepblue_clear_cache | 0.001 | 0.001 | 0.002 | |
| deepblue_collection_experiments_count | 0.100 | 0.006 | 0.629 | |
| deepblue_commands | 0.162 | 0.030 | 0.820 | |
| deepblue_count_gene_ontology_terms | 0.148 | 0.016 | 0.705 | |
| deepblue_count_regions | 0.043 | 0.005 | 0.558 | |
| deepblue_coverage | 0.050 | 0.005 | 0.546 | |
| deepblue_delete_request_from_cache | 0.003 | 0.001 | 0.005 | |
| deepblue_diff | 0.162 | 0.037 | 0.689 | |
| deepblue_distinct_column_values | 0.047 | 0.006 | 0.624 | |
| deepblue_download_request_data | 0.273 | 0.025 | 1.828 | |
| deepblue_echo | 0.014 | 0.001 | 0.253 | |
| deepblue_enrich_regions_go_terms | 0.084 | 0.003 | 0.832 | |
| deepblue_enrich_regions_overlap | 0.686 | 0.011 | 4.191 | |
| deepblue_export_bed | 0.287 | 0.035 | 2.525 | |
| deepblue_export_meta_data | 0.115 | 0.013 | 0.510 | |
| deepblue_export_tab | 0.138 | 0.017 | 1.137 | |
| deepblue_extend | 0.061 | 0.006 | 0.549 | |
| deepblue_extract_ids | 0.001 | 0.000 | 0.001 | |
| deepblue_extract_names | 0.001 | 0.001 | 0.002 | |
| deepblue_faceting_experiments | 0.039 | 0.005 | 0.542 | |
| deepblue_filter_regions | 0.024 | 0.003 | 0.291 | |
| deepblue_find_motif | 0.031 | 0.004 | 0.350 | |
| deepblue_flank | 0.061 | 0.007 | 0.601 | |
| deepblue_get_biosource_children | 0.026 | 0.003 | 0.340 | |
| deepblue_get_biosource_parents | 0.021 | 0.002 | 0.268 | |
| deepblue_get_biosource_related | 0.021 | 0.003 | 0.277 | |
| deepblue_get_biosource_synonyms | 0.019 | 0.002 | 0.269 | |
| deepblue_get_experiments_by_query | 0.020 | 0.003 | 0.270 | |
| deepblue_get_regions | 0.048 | 0.006 | 0.864 | |
| deepblue_get_request_data | 0.107 | 0.004 | 1.081 | |
| deepblue_info | 0.038 | 0.005 | 0.309 | |
| deepblue_input_regions | 0.020 | 0.002 | 0.286 | |
| deepblue_intersection | 0.083 | 0.003 | 0.863 | |
| deepblue_is_biosource | 0.018 | 0.001 | 0.262 | |
| deepblue_liftover | 0.579 | 0.076 | 6.552 | |
| deepblue_list_annotations | 0.033 | 0.002 | 0.281 | |
| deepblue_list_biosources | 0.023 | 0.001 | 0.268 | |
| deepblue_list_cached_requests | 0.002 | 0.002 | 0.004 | |
| deepblue_list_column_types | 0.068 | 0.002 | 0.447 | |
| deepblue_list_epigenetic_marks | 0.458 | 0.004 | 1.068 | |
| deepblue_list_experiments | 0.169 | 0.002 | 0.675 | |
| deepblue_list_expressions | 0.140 | 0.002 | 0.525 | |
| deepblue_list_gene_models | 0.019 | 0.001 | 0.260 | |
| deepblue_list_genes | 0.308 | 0.007 | 1.043 | |
| deepblue_list_genomes | 0.019 | 0.001 | 0.261 | |
| deepblue_list_in_use | 0.491 | 0.006 | 1.641 | |
| deepblue_list_projects | 0.020 | 0.002 | 0.262 | |
| deepblue_list_recent_experiments | 0.032 | 0.001 | 0.299 | |
| deepblue_list_requests | 0.023 | 0.001 | 0.269 | |
| deepblue_list_samples | 0.158 | 0.021 | 0.692 | |
| deepblue_list_similar_biosources | 0.028 | 0.001 | 0.477 | |
| deepblue_list_similar_epigenetic_marks | 0.029 | 0.001 | 0.294 | |
| deepblue_list_similar_experiments | 0.024 | 0.001 | 0.857 | |
| deepblue_list_similar_genomes | 0.020 | 0.001 | 0.265 | |
| deepblue_list_similar_projects | 0.023 | 0.001 | 0.343 | |
| deepblue_list_similar_techniques | 0.018 | 0.001 | 0.281 | |
| deepblue_list_techniques | 0.035 | 0.001 | 0.286 | |
| deepblue_merge_queries | 0.072 | 0.002 | 0.851 | |
| deepblue_meta_data_to_table | 0.135 | 0.006 | 0.806 | |
| deepblue_name_to_id | 0.070 | 0.003 | 0.906 | |
| deepblue_overlap | 0.086 | 0.003 | 0.841 | |
| deepblue_preview_experiment | 0.016 | 0.001 | 0.267 | |
| deepblue_query_cache | 0.091 | 0.004 | 1.082 | |
| deepblue_query_experiment_type | 0.049 | 0.002 | 0.576 | |
| deepblue_reset_options | 0 | 0 | 0 | |
| deepblue_score_matrix | 0.049 | 0.002 | 0.543 | |
| deepblue_search | 0.055 | 0.003 | 0.633 | |
| deepblue_select_annotations | 0.028 | 0.002 | 0.368 | |
| deepblue_select_column | 0.406 | 0.004 | 1.172 | |
| deepblue_select_experiments | 0.022 | 0.001 | 0.277 | |
| deepblue_select_expressions | 0.027 | 0.001 | 0.387 | |
| deepblue_select_genes | 0.025 | 0.001 | 0.386 | |
| deepblue_select_regions | 0.037 | 0.001 | 0.284 | |
| deepblue_tiling_regions | 0.025 | 0.001 | 0.298 | |