| Back to Multiple platform build/check report for BioC 3.13 | 
 | 
This page was generated on 2021-10-15 15:05:38 -0400 (Fri, 15 Oct 2021).
| To the developers/maintainers of the DeconRNASeq package: - Please allow up to 24 hours (and sometimes 48 hours) for your latest push to git@git.bioconductor.org:packages/DeconRNASeq.git to reflect on this report. See How and When does the builder pull? When will my changes propagate? here for more information. - Make sure to use the following settings in order to reproduce any error or warning you see on this page. | 
| Package 458/2041 | Hostname | OS / Arch | INSTALL | BUILD | CHECK | BUILD BIN | ||||||||
| DeconRNASeq 1.34.0  (landing page) Ting Gong 
 | nebbiolo1 | Linux (Ubuntu 20.04.2 LTS) / x86_64 | OK | OK | OK |  | ||||||||
| tokay2 | Windows Server 2012 R2 Standard / x64 | OK | OK | OK | OK |  | ||||||||
| machv2 | macOS 10.14.6 Mojave / x86_64 | OK | OK | OK | OK |  | ||||||||
| Package: DeconRNASeq | 
| Version: 1.34.0 | 
| Command: /home/biocbuild/bbs-3.13-bioc/R/bin/R CMD check --install=check:DeconRNASeq.install-out.txt --library=/home/biocbuild/bbs-3.13-bioc/R/library --no-vignettes --timings DeconRNASeq_1.34.0.tar.gz | 
| StartedAt: 2021-10-14 09:30:16 -0400 (Thu, 14 Oct 2021) | 
| EndedAt: 2021-10-14 09:30:53 -0400 (Thu, 14 Oct 2021) | 
| EllapsedTime: 37.1 seconds | 
| RetCode: 0 | 
| Status: OK | 
| CheckDir: DeconRNASeq.Rcheck | 
| Warnings: 0 | 
##############################################################################
##############################################################################
###
### Running command:
###
###   /home/biocbuild/bbs-3.13-bioc/R/bin/R CMD check --install=check:DeconRNASeq.install-out.txt --library=/home/biocbuild/bbs-3.13-bioc/R/library --no-vignettes --timings DeconRNASeq_1.34.0.tar.gz
###
##############################################################################
##############################################################################
* using log directory ‘/home/biocbuild/bbs-3.13-bioc/meat/DeconRNASeq.Rcheck’
* using R version 4.1.1 (2021-08-10)
* using platform: x86_64-pc-linux-gnu (64-bit)
* using session charset: UTF-8
* using option ‘--no-vignettes’
* checking for file ‘DeconRNASeq/DESCRIPTION’ ... OK
* checking extension type ... Package
* this is package ‘DeconRNASeq’ version ‘1.34.0’
* checking package namespace information ... OK
* checking package dependencies ... OK
* checking if this is a source package ... OK
* checking if there is a namespace ... OK
* checking for hidden files and directories ... NOTE
Found the following hidden files and directories:
  .BBSoptions
These were most likely included in error. See section ‘Package
structure’ in the ‘Writing R Extensions’ manual.
* checking for portable file names ... OK
* checking for sufficient/correct file permissions ... OK
* checking whether package ‘DeconRNASeq’ can be installed ... OK
* checking installed package size ... NOTE
  installed size is  6.6Mb
  sub-directories of 1Mb or more:
    data   6.5Mb
* checking package directory ... OK
* checking ‘build’ directory ... OK
* checking DESCRIPTION meta-information ... OK
* checking top-level files ... OK
* checking for left-over files ... OK
* checking index information ... OK
* checking package subdirectories ... OK
* checking R files for non-ASCII characters ... OK
* checking R files for syntax errors ... OK
* checking whether the package can be loaded ... OK
* checking whether the package can be loaded with stated dependencies ... OK
* checking whether the package can be unloaded cleanly ... OK
* checking whether the namespace can be loaded with stated dependencies ... OK
* checking whether the namespace can be unloaded cleanly ... OK
* checking dependencies in R code ... NOTE
'library' or 'require' call to ‘grid’ which was already attached by Depends.
  Please remove these calls from your code.
Packages in Depends field not imported from:
  ‘ggplot2’ ‘grid’ ‘pcaMethods’
  These packages need to be imported from (in the NAMESPACE file)
  for when this namespace is loaded but not attached.
* checking S3 generic/method consistency ... OK
* checking replacement functions ... OK
* checking foreign function calls ... OK
* checking R code for possible problems ... NOTE
DeconRNASeq: no visible global function definition for ‘prep’
DeconRNASeq: no visible global function definition for ‘pca’
DeconRNASeq: no visible global function definition for ‘R2cum’
DeconRNASeq: no visible global function definition for ‘ggplot’
DeconRNASeq: no visible global function definition for ‘aes’
DeconRNASeq: no visible global function definition for ‘geom_point’
DeconRNASeq: no visible global function definition for ‘labs’
DeconRNASeq: no visible global function definition for ‘geom_abline’
DeconRNASeq: no visible global function definition for ‘xlab’
DeconRNASeq: no visible global function definition for ‘ylab’
condplot: no visible global function definition for ‘rainbow’
condplot: no visible global function definition for ‘lines’
condplot: no visible global function definition for ‘axis’
condplot: no visible global function definition for ‘title’
decon.bootstrap: no visible global function definition for ‘t.test’
multiplot: no visible global function definition for ‘grid.newpage’
multiplot: no visible global function definition for ‘pushViewport’
multiplot: no visible global function definition for ‘viewport’
multiplot: no visible global function definition for ‘grid.layout’
multiplot : vplayout: no visible global function definition for
  ‘viewport’
Undefined global functions or variables:
  R2cum aes axis geom_abline geom_point ggplot grid.layout grid.newpage
  labs lines pca prep pushViewport rainbow t.test title viewport xlab
  ylab
Consider adding
  importFrom("grDevices", "rainbow")
  importFrom("graphics", "axis", "lines", "title")
  importFrom("stats", "t.test")
to your NAMESPACE file.
* checking Rd files ... OK
* checking Rd metadata ... OK
* checking Rd cross-references ... OK
* checking for missing documentation entries ... OK
* checking for code/documentation mismatches ... OK
* checking Rd \usage sections ... OK
* checking Rd contents ... OK
* checking for unstated dependencies in examples ... OK
* checking contents of ‘data’ directory ... OK
* checking data for non-ASCII characters ... OK
* checking data for ASCII and uncompressed saves ... OK
* checking files in ‘vignettes’ ... OK
* checking examples ... OK
* checking for unstated dependencies in vignettes ... OK
* checking package vignettes in ‘inst/doc’ ... OK
* checking running R code from vignettes ... SKIPPED
* checking re-building of vignette outputs ... SKIPPED
* checking PDF version of manual ... OK
* DONE
Status: 4 NOTEs
See
  ‘/home/biocbuild/bbs-3.13-bioc/meat/DeconRNASeq.Rcheck/00check.log’
for details.
DeconRNASeq.Rcheck/00install.out
############################################################################## ############################################################################## ### ### Running command: ### ### /home/biocbuild/bbs-3.13-bioc/R/bin/R CMD INSTALL DeconRNASeq ### ############################################################################## ############################################################################## * installing to library ‘/home/biocbuild/bbs-3.13-bioc/R/library’ * installing *source* package ‘DeconRNASeq’ ... ** using staged installation ** R ** data ** demo ** byte-compile and prepare package for lazy loading ** help *** installing help indices ** building package indices ** installing vignettes ** testing if installed package can be loaded from temporary location ** testing if installed package can be loaded from final location ** testing if installed package keeps a record of temporary installation path * DONE (DeconRNASeq)
DeconRNASeq.Rcheck/DeconRNASeq-Ex.timings
| name | user | system | elapsed | |
| DeconRNASeq | 0.001 | 0.000 | 0.000 | |
| all.datasets | 0.058 | 0.004 | 0.062 | |
| array.proportions | 0.039 | 0.008 | 0.047 | |
| array.signatures | 0.043 | 0.004 | 0.047 | |
| condplot | 0.043 | 0.004 | 0.047 | |
| datasets | 0.094 | 0.004 | 0.098 | |
| fraction | 0.255 | 0.000 | 0.255 | |
| liver_kidney | 0.068 | 0.018 | 0.085 | |
| multi_tissue | 0.227 | 0.008 | 0.236 | |
| multiplot | 0.001 | 0.000 | 0.002 | |
| proportions | 0.076 | 0.008 | 0.084 | |
| signatures | 0.084 | 0.000 | 0.084 | |
| x.data | 0.230 | 0.008 | 0.237 | |
| x.signature | 0.226 | 0.012 | 0.238 | |
| x.signature.filtered | 0.234 | 0.012 | 0.247 | |
| x.signature.filtered.optimal | 0.243 | 0.024 | 0.267 | |