| Back to Multiple platform build/check report for BioC 3.13 |
|
This page was generated on 2021-10-15 15:06:03 -0400 (Fri, 15 Oct 2021).
|
To the developers/maintainers of the DMRScan package: - Please allow up to 24 hours (and sometimes 48 hours) for your latest push to git@git.bioconductor.org:packages/DMRScan.git to reflect on this report. See How and When does the builder pull? When will my changes propagate? here for more information. - Make sure to use the following settings in order to reproduce any error or warning you see on this page. |
| Package 519/2041 | Hostname | OS / Arch | INSTALL | BUILD | CHECK | BUILD BIN | ||||||||
| DMRScan 1.14.0 (landing page) Christian M Page
| nebbiolo1 | Linux (Ubuntu 20.04.2 LTS) / x86_64 | OK | OK | OK | |||||||||
| tokay2 | Windows Server 2012 R2 Standard / x64 | OK | OK | OK | OK | |||||||||
| machv2 | macOS 10.14.6 Mojave / x86_64 | OK | OK | OK | OK | |||||||||
| Package: DMRScan |
| Version: 1.14.0 |
| Command: C:\cygwin\bin\curl.exe -O http://155.52.207.165/BBS/3.13/bioc/src/contrib/DMRScan_1.14.0.tar.gz && rm -rf DMRScan.buildbin-libdir && mkdir DMRScan.buildbin-libdir && C:\Users\biocbuild\bbs-3.13-bioc\R\bin\R.exe CMD INSTALL --merge-multiarch --build --library=DMRScan.buildbin-libdir DMRScan_1.14.0.tar.gz && C:\Users\biocbuild\bbs-3.13-bioc\R\bin\R.exe CMD INSTALL DMRScan_1.14.0.zip && rm DMRScan_1.14.0.tar.gz DMRScan_1.14.0.zip |
| StartedAt: 2021-10-14 07:41:52 -0400 (Thu, 14 Oct 2021) |
| EndedAt: 2021-10-14 07:43:13 -0400 (Thu, 14 Oct 2021) |
| EllapsedTime: 80.9 seconds |
| RetCode: 0 |
| Status: OK |
##############################################################################
##############################################################################
###
### Running command:
###
### C:\cygwin\bin\curl.exe -O http://155.52.207.165/BBS/3.13/bioc/src/contrib/DMRScan_1.14.0.tar.gz && rm -rf DMRScan.buildbin-libdir && mkdir DMRScan.buildbin-libdir && C:\Users\biocbuild\bbs-3.13-bioc\R\bin\R.exe CMD INSTALL --merge-multiarch --build --library=DMRScan.buildbin-libdir DMRScan_1.14.0.tar.gz && C:\Users\biocbuild\bbs-3.13-bioc\R\bin\R.exe CMD INSTALL DMRScan_1.14.0.zip && rm DMRScan_1.14.0.tar.gz DMRScan_1.14.0.zip
###
##############################################################################
##############################################################################
% Total % Received % Xferd Average Speed Time Time Time Current
Dload Upload Total Spent Left Speed
0 0 0 0 0 0 0 0 --:--:-- --:--:-- --:--:-- 0
0 3201k 0 1137 0 0 13997 0 0:03:54 --:--:-- 0:03:54 14037
100 3201k 100 3201k 0 0 5703k 0 --:--:-- --:--:-- --:--:-- 5707k
install for i386
* installing *source* package 'DMRScan' ...
** using staged installation
** R
** data
*** moving datasets to lazyload DB
** inst
** byte-compile and prepare package for lazy loading
** help
*** installing help indices
converting help for package 'DMRScan'
finding HTML links ... done
DMRScan.methylationData html
DMRScan.phenotypes html
DMRScan_package html
finding level-2 HTML links ... done
DMRScan_slidingWindow html
Rt-methods html
St-methods html
estimateThreshold html
makeCpGgenes html
makeCpGregions html
** building package indices
** installing vignettes
** testing if installed package can be loaded from temporary location
** testing if installed package can be loaded from final location
** testing if installed package keeps a record of temporary installation path
install for x64
* installing *source* package 'DMRScan' ...
** testing if installed package can be loaded
* MD5 sums
packaged installation of 'DMRScan' as DMRScan_1.14.0.zip
* DONE (DMRScan)
* installing to library 'C:/Users/biocbuild/bbs-3.13-bioc/R/library'
package 'DMRScan' successfully unpacked and MD5 sums checked