| Back to Multiple platform build/check report for BioC 3.13 |
|
This page was generated on 2021-10-15 15:06:33 -0400 (Fri, 15 Oct 2021).
|
To the developers/maintainers of the DAPAR package: - Please allow up to 24 hours (and sometimes 48 hours) for your latest push to git@git.bioconductor.org:packages/DAPAR.git to reflect on this report. See How and When does the builder pull? When will my changes propagate? here for more information. - Make sure to use the following settings in order to reproduce any error or warning you see on this page. |
| Package 442/2041 | Hostname | OS / Arch | INSTALL | BUILD | CHECK | BUILD BIN | ||||||||
| DAPAR 1.24.8 (landing page) Samuel Wieczorek
| nebbiolo1 | Linux (Ubuntu 20.04.2 LTS) / x86_64 | OK | OK | OK | |||||||||
| tokay2 | Windows Server 2012 R2 Standard / x64 | OK | OK | OK | OK | |||||||||
| machv2 | macOS 10.14.6 Mojave / x86_64 | OK | OK | OK | OK | |||||||||
| Package: DAPAR |
| Version: 1.24.8 |
| Command: /Library/Frameworks/R.framework/Versions/Current/Resources/bin/R CMD check --install=check:DAPAR.install-out.txt --library=/Library/Frameworks/R.framework/Versions/Current/Resources/library --no-vignettes --timings DAPAR_1.24.8.tar.gz |
| StartedAt: 2021-10-14 18:04:27 -0400 (Thu, 14 Oct 2021) |
| EndedAt: 2021-10-14 18:11:57 -0400 (Thu, 14 Oct 2021) |
| EllapsedTime: 450.0 seconds |
| RetCode: 0 |
| Status: OK |
| CheckDir: DAPAR.Rcheck |
| Warnings: 0 |
##############################################################################
##############################################################################
###
### Running command:
###
### /Library/Frameworks/R.framework/Versions/Current/Resources/bin/R CMD check --install=check:DAPAR.install-out.txt --library=/Library/Frameworks/R.framework/Versions/Current/Resources/library --no-vignettes --timings DAPAR_1.24.8.tar.gz
###
##############################################################################
##############################################################################
* using log directory ‘/Users/biocbuild/bbs-3.13-bioc/meat/DAPAR.Rcheck’
* using R version 4.1.1 (2021-08-10)
* using platform: x86_64-apple-darwin17.0 (64-bit)
* using session charset: UTF-8
* using option ‘--no-vignettes’
* checking for file ‘DAPAR/DESCRIPTION’ ... OK
* checking extension type ... Package
* this is package ‘DAPAR’ version ‘1.24.8’
* package encoding: UTF-8
* checking package namespace information ... OK
* checking package dependencies ... OK
* checking if this is a source package ... OK
* checking if there is a namespace ... OK
* checking for hidden files and directories ... NOTE
Found the following hidden files and directories:
.git_fetch_output.txt
.git_merge_output.txt
These were most likely included in error. See section ‘Package
structure’ in the ‘Writing R Extensions’ manual.
* checking for portable file names ... OK
* checking for sufficient/correct file permissions ... OK
* checking whether package ‘DAPAR’ can be installed ... OK
* checking installed package size ... OK
* checking package directory ... OK
* checking ‘build’ directory ... OK
* checking DESCRIPTION meta-information ... OK
* checking top-level files ... OK
* checking for left-over files ... OK
* checking index information ... OK
* checking package subdirectories ... OK
* checking R files for non-ASCII characters ... OK
* checking R files for syntax errors ... OK
* checking whether the package can be loaded ... OK
* checking whether the package can be loaded with stated dependencies ... OK
* checking whether the package can be unloaded cleanly ... OK
* checking whether the namespace can be loaded with stated dependencies ... OK
* checking whether the namespace can be unloaded cleanly ... OK
* checking dependencies in R code ... NOTE
Namespaces in Imports field not imported from:
‘Cairo’ ‘DAPARdata’ ‘clusterProfiler’ ‘igraph’ ‘knitr’ ‘lattice’
‘norm’ ‘pcaMethods’ ‘png’ ‘scales’ ‘siggenes’ ‘tidyverse’ ‘tmvtnorm’
All declared Imports should be used.
* checking S3 generic/method consistency ... OK
* checking replacement functions ... OK
* checking foreign function calls ... OK
* checking R code for possible problems ... NOTE
heatmapForMissingValues: warning in axis(1, 1:nc, label = labCol, las =
2, line = -0.5 + offsetCol, tick = 0, cex.axis = cexCol, hadj = NA,
padj = 0): partial argument match of 'label' to 'labels'
heatmapForMissingValues: warning in axis(1, 1:nc, label = rep("", nc),
las = 2, tick = 0): partial argument match of 'label' to 'labels'
heatmapForMissingValues: warning in axis(4, iy, label = labRow, las =
5, line = -0.5 + offsetRow, tick = 0, cex.axis = cexRow, hadj = 0,
padj = NA): partial argument match of 'label' to 'labels'
heatmapForMissingValues: warning in axis(4, iy, label = rep("", nr),
las = 2, line = -0.5, tick = 0): partial argument match of 'label' to
'labels'
GetIndices_MetacellFiltering: no visible global function definition for
‘tsop’
aggregateIterParallel: no visible binding for global variable ‘cond’
averageIntensities: no visible binding for global variable ‘condition’
averageIntensities: no visible binding for global variable ‘feature’
averageIntensities: no visible binding for global variable ‘intensity’
barplotEnrichGO_HC : <anonymous>: no visible global function definition
for ‘last’
diffAnaVolcanoplot_rCharts: no visible binding for global variable ‘x’
diffAnaVolcanoplot_rCharts: no visible binding for global variable ‘y’
diffAnaVolcanoplot_rCharts: no visible binding for global variable ‘g’
display.CC.visNet: no visible binding for global variable
‘layout_nicely’
enrich_GO: no visible global function definition for ‘bitr’
enrich_GO: no visible global function definition for ‘enrichGO’
getTextForGOAnalysis: no visible binding for global variable
‘textGOParams’
getTextForGOAnalysis: no visible binding for global variable ‘input’
group_GO: no visible global function definition for ‘bitr’
group_GO: no visible global function definition for ‘groupGO’
limmaCompleteTest: no visible binding for global variable ‘A’
limmaCompleteTest: no visible binding for global variable ‘B’
limmaCompleteTest: no visible binding for global variable ‘P.Value’
pepa.test: no visible global function definition for ‘nodes<-’
visualizeClusters: no visible global function definition for ‘desc’
visualizeClusters: no visible binding for global variable
‘adjusted_pvalues’
visualizeClusters: no visible binding for global variable ‘Condition’
visualizeClusters: no visible binding for global variable ‘intensity’
visualizeClusters: no visible binding for global variable
‘FDR_threshold’
visualizeClusters: no visible binding for global variable ‘feature’
wrapperClassic1wayAnova: no visible binding for global variable
‘Pr(>F)1’
wrapperClassic1wayAnova: no visible binding for global variable
‘post_hoc’
wrapperRunClustering: no visible global function definition for ‘str_c’
Undefined global functions or variables:
A B Condition FDR_threshold P.Value Pr(>F)1 adjusted_pvalues bitr
cond condition desc enrichGO feature g groupGO input intensity last
layout_nicely nodes<- post_hoc str_c textGOParams tsop x y
* checking Rd files ... OK
* checking Rd metadata ... OK
* checking Rd cross-references ... OK
* checking for missing documentation entries ... OK
* checking for code/documentation mismatches ... OK
* checking Rd \usage sections ... OK
* checking Rd contents ... OK
* checking for unstated dependencies in examples ... OK
* checking sizes of PDF files under ‘inst/doc’ ... OK
* checking files in ‘vignettes’ ... OK
* checking examples ... OK
Examples with CPU (user + system) or elapsed time > 5s
user system elapsed
AggregateMetacell 15.893 3.792 19.287
CVDistD_HC 8.230 5.353 13.016
checkClusterability 4.994 2.588 7.345
formatPHResults 6.069 0.990 6.978
postHocTest 5.889 0.953 6.747
wrapper.CVDistD_HC 4.128 2.687 6.544
compareNormalizationD_HC 4.862 1.787 6.472
densityPlotD_HC 4.699 1.872 6.434
get.pep.prot.cc 5.388 0.624 6.004
* checking for unstated dependencies in ‘tests’ ... OK
* checking tests ...
Running ‘testthat.R’
OK
* checking for unstated dependencies in vignettes ... OK
* checking package vignettes in ‘inst/doc’ ... OK
* checking running R code from vignettes ... SKIPPED
* checking re-building of vignette outputs ... SKIPPED
* checking PDF version of manual ... OK
* DONE
Status: 3 NOTEs
See
‘/Users/biocbuild/bbs-3.13-bioc/meat/DAPAR.Rcheck/00check.log’
for details.
DAPAR.Rcheck/00install.out
############################################################################## ############################################################################## ### ### Running command: ### ### /Library/Frameworks/R.framework/Versions/Current/Resources/bin/R CMD INSTALL DAPAR ### ############################################################################## ############################################################################## * installing to library ‘/Library/Frameworks/R.framework/Versions/4.1/Resources/library’ * installing *source* package ‘DAPAR’ ... ** using staged installation ** R ** inst ** byte-compile and prepare package for lazy loading ** help *** installing help indices ** building package indices ** installing vignettes ** testing if installed package can be loaded from temporary location ** testing if installed package can be loaded from final location ** testing if installed package keeps a record of temporary installation path * DONE (DAPAR)
DAPAR.Rcheck/tests/testthat.Rout
R version 4.1.1 (2021-08-10) -- "Kick Things"
Copyright (C) 2021 The R Foundation for Statistical Computing
Platform: x86_64-apple-darwin17.0 (64-bit)
R is free software and comes with ABSOLUTELY NO WARRANTY.
You are welcome to redistribute it under certain conditions.
Type 'license()' or 'licence()' for distribution details.
R is a collaborative project with many contributors.
Type 'contributors()' for more information and
'citation()' on how to cite R or R packages in publications.
Type 'demo()' for some demos, 'help()' for on-line help, or
'help.start()' for an HTML browser interface to help.
Type 'q()' to quit R.
> library(testthat)
> library(DAPAR)
>
> test_check("DAPAR")
[ FAIL 0 | WARN 0 | SKIP 0 | PASS 0 ]
>
> proc.time()
user system elapsed
12.461 0.754 13.195
DAPAR.Rcheck/DAPAR-Ex.timings
| name | user | system | elapsed | |
| AggregateMetacell | 15.893 | 3.792 | 19.287 | |
| BuildAdjacencyMatrix | 0.431 | 0.018 | 0.449 | |
| BuildColumnToProteinDataset | 2.002 | 0.392 | 2.363 | |
| BuildColumnToProteinDataset_par | 0.000 | 0.001 | 0.001 | |
| BuildMetaCell | 1.366 | 0.098 | 1.463 | |
| CVDistD_HC | 8.230 | 5.353 | 13.016 | |
| CountPep | 0.538 | 0.026 | 0.565 | |
| ExtendPalette | 0.060 | 0.016 | 0.074 | |
| GetCC | 2.861 | 0.107 | 2.963 | |
| GetColorsForConditions | 0.306 | 0.004 | 0.309 | |
| GetDetailedNbPeptides | 0.382 | 0.006 | 0.387 | |
| GetIndices_MetacellFiltering | 0.366 | 0.010 | 0.376 | |
| GetIndices_WholeLine | 0.344 | 0.008 | 0.351 | |
| GetIndices_WholeMatrix | 0.396 | 0.009 | 0.404 | |
| GetMatAdj | 0.512 | 0.035 | 0.547 | |
| Get_AllComparisons | 0.385 | 0.033 | 0.415 | |
| GlobalQuantileAlignment | 0.346 | 0.004 | 0.349 | |
| GraphPepProt | 0.381 | 0.008 | 0.389 | |
| LOESS | 1.47 | 0.03 | 1.50 | |
| MeanCentering | 0.392 | 0.008 | 0.401 | |
| MetaCellFiltering | 0.456 | 0.016 | 0.472 | |
| Metacell_generic | 0.716 | 0.066 | 0.777 | |
| Metacell_maxquant | 0.780 | 0.063 | 0.837 | |
| Metacell_proline | 0 | 0 | 0 | |
| NumericalFiltering | 0.464 | 0.016 | 0.480 | |
| NumericalgetIndicesOfLinesToRemove | 0.278 | 0.005 | 0.283 | |
| QuantileCentering | 0.396 | 0.005 | 0.401 | |
| SetCC | 2.829 | 0.109 | 2.933 | |
| SetMatAdj | 0.453 | 0.017 | 0.469 | |
| Set_POV_MEC_tags | 0.381 | 0.017 | 0.397 | |
| StringBasedFiltering | 0.414 | 0.016 | 0.429 | |
| StringBasedFiltering2 | 0.408 | 0.027 | 0.450 | |
| SumByColumns | 2.928 | 0.180 | 3.092 | |
| aggregateIter | 2.170 | 0.426 | 2.549 | |
| aggregateIterParallel | 0.000 | 0.001 | 0.001 | |
| aggregateMean | 1.922 | 0.399 | 2.281 | |
| aggregateSum | 1.799 | 0.372 | 2.138 | |
| aggregateTopn | 0.000 | 0.001 | 0.001 | |
| averageIntensities | 0.302 | 0.054 | 0.354 | |
| boxPlotD_HC | 0.589 | 0.191 | 0.771 | |
| buildGraph | 1.312 | 0.046 | 1.357 | |
| check.conditions | 0.290 | 0.003 | 0.293 | |
| check.design | 0.302 | 0.003 | 0.306 | |
| checkClusterability | 4.994 | 2.588 | 7.345 | |
| classic1wayAnova | 2.474 | 0.349 | 2.800 | |
| compareNormalizationD_HC | 4.862 | 1.787 | 6.472 | |
| compute_t_tests | 1.961 | 0.368 | 2.299 | |
| corrMatrixD_HC | 0.553 | 0.078 | 0.628 | |
| createMSnset | 2.908 | 0.147 | 3.043 | |
| dapar_hc_ExportMenu | 0.222 | 0.158 | 0.377 | |
| dapar_hc_chart | 0.085 | 0.050 | 0.134 | |
| deleteLinesFromIndices | 0.471 | 0.012 | 0.483 | |
| densityPlotD_HC | 4.699 | 1.872 | 6.434 | |
| diffAnaComputeFDR | 0.650 | 0.081 | 0.728 | |
| diffAnaGetSignificant | 0.391 | 0.036 | 0.423 | |
| diffAnaSave | 0.370 | 0.039 | 0.407 | |
| diffAnaVolcanoplot | 0.202 | 0.018 | 0.222 | |
| diffAnaVolcanoplot_rCharts | 0.001 | 0.002 | 0.002 | |
| display.CC.visNet | 1.659 | 0.124 | 1.780 | |
| enrich_GO | 0 | 0 | 0 | |
| findMECBlock | 0.347 | 0.007 | 0.354 | |
| formatLimmaResult | 0.212 | 0.020 | 0.232 | |
| formatPHResults | 6.069 | 0.990 | 6.978 | |
| get.pep.prot.cc | 5.388 | 0.624 | 6.004 | |
| getIndicesConditions | 0.297 | 0.003 | 0.301 | |
| getIndicesOfLinesToRemove | 0.340 | 0.006 | 0.346 | |
| getListNbValuesInLines | 0.300 | 0.004 | 0.304 | |
| getNumberOf | 0.336 | 0.007 | 0.342 | |
| getNumberOfEmptyLines | 0.373 | 0.007 | 0.379 | |
| getPourcentageOfMV | 0.383 | 0.007 | 0.390 | |
| getProcessingInfo | 0.349 | 0.004 | 0.353 | |
| getProteinsStats | 0.403 | 0.010 | 0.413 | |
| getQuantile4Imp | 0.317 | 0.004 | 0.321 | |
| getTextForAggregation | 0.000 | 0.001 | 0.000 | |
| getTextForAnaDiff | 0.001 | 0.001 | 0.001 | |
| getTextForGOAnalysis | 0.001 | 0.001 | 0.001 | |
| getTextForHypothesisTest | 0.000 | 0.001 | 0.001 | |
| getTextForNewDataset | 0.003 | 0.000 | 0.003 | |
| getTextForNormalization | 0 | 0 | 0 | |
| getTextForpeptideImputation | 0 | 0 | 0 | |
| getTextForproteinImputation | 0 | 0 | 0 | |
| group_GO | 0.000 | 0.000 | 0.001 | |
| hc_logFC_DensityPlot | 1.607 | 0.698 | 2.273 | |
| hc_mvTypePlot2 | 1.926 | 0.682 | 2.545 | |
| heatmapD | 0.000 | 0.001 | 0.001 | |
| heatmapForMissingValues | 0.236 | 0.019 | 0.255 | |
| histPValue_HC | 0.319 | 0.074 | 0.391 | |
| impute.pa2 | 0.446 | 0.027 | 0.470 | |
| limmaCompleteTest | 2.498 | 0.097 | 2.587 | |
| make.contrast | 0.380 | 0.008 | 0.389 | |
| make.design.1 | 0.350 | 0.004 | 0.355 | |
| make.design.2 | 0.000 | 0.000 | 0.001 | |
| make.design.3 | 0.336 | 0.005 | 0.342 | |
| make.design | 0.306 | 0.004 | 0.309 | |
| match.metacell | 0.318 | 0.008 | 0.326 | |
| metacellHisto_HC | 0.391 | 0.058 | 0.448 | |
| metacellPerLinesHistoPerCondition_HC | 0.609 | 0.117 | 0.723 | |
| metacellPerLinesHisto_HC | 0.461 | 0.077 | 0.537 | |
| metacombine | 0.000 | 0.001 | 0.001 | |
| mvImage | 4.472 | 0.246 | 4.700 | |
| my_hc_ExportMenu | 0.218 | 0.151 | 0.366 | |
| my_hc_chart | 0.223 | 0.154 | 0.375 | |
| nonzero | 0.024 | 0.002 | 0.026 | |
| plotJitter | 1.238 | 0.059 | 1.309 | |
| plotPCA_Eigen | 0.276 | 0.003 | 0.280 | |
| plotPCA_Eigen_hc | 0.332 | 0.003 | 0.336 | |
| plotPCA_Ind | 0.361 | 0.004 | 0.366 | |
| plotPCA_Var | 0.286 | 0.003 | 0.289 | |
| postHocTest | 5.889 | 0.953 | 6.747 | |
| proportionConRev_HC | 0.076 | 0.058 | 0.133 | |
| rbindMSnset | 0.479 | 0.020 | 0.497 | |
| reIntroduceMEC | 0.457 | 0.034 | 0.487 | |
| removeLines | 0.328 | 0.013 | 0.340 | |
| saveParameters | 0.306 | 0.005 | 0.311 | |
| search.metacell.tags | 0.013 | 0.004 | 0.017 | |
| test.design | 0.255 | 0.003 | 0.258 | |
| translatedRandomBeta | 0.005 | 0.018 | 0.022 | |
| violinPlotD | 0.413 | 0.022 | 0.434 | |
| visualizeClusters | 2.101 | 0.381 | 2.442 | |
| vsn | 0.774 | 0.017 | 0.789 | |
| wrapper.CVDistD_HC | 4.128 | 2.687 | 6.544 | |
| wrapper.compareNormalizationD_HC | 0.436 | 0.005 | 0.441 | |
| wrapper.corrMatrixD_HC | 0.440 | 0.075 | 0.511 | |
| wrapper.dapar.impute.mi | 0.000 | 0.001 | 0.000 | |
| wrapper.heatmapD | 0.000 | 0.001 | 0.000 | |
| wrapper.impute.KNN | 0.373 | 0.013 | 0.385 | |
| wrapper.impute.detQuant | 0.693 | 0.084 | 0.768 | |
| wrapper.impute.fixedValue | 0.582 | 0.039 | 0.617 | |
| wrapper.impute.mle | 0.405 | 0.016 | 0.421 | |
| wrapper.impute.pa | 0.426 | 0.019 | 0.444 | |
| wrapper.impute.pa2 | 0.430 | 0.029 | 0.456 | |
| wrapper.impute.slsa | 0.669 | 0.041 | 0.708 | |
| wrapper.mvImage | 0.211 | 0.018 | 0.227 | |
| wrapper.normalizeD | 0.402 | 0.004 | 0.407 | |
| wrapper.pca | 0.224 | 0.025 | 0.248 | |
| wrapperCalibrationPlot | 0.220 | 0.019 | 0.239 | |
| wrapperClassic1wayAnova | 3.251 | 0.488 | 3.689 | |
| wrapperRunClustering | 3.690 | 0.735 | 4.350 | |
| write.excel | 0.892 | 0.133 | 1.054 | |
| writeMSnsetToCSV | 0.000 | 0.001 | 0.000 | |
| writeMSnsetToExcel | 0 | 0 | 0 | |