| Back to Multiple platform build/check report for BioC 3.13 | 
 | 
This page was generated on 2021-10-15 15:06:02 -0400 (Fri, 15 Oct 2021).
| To the developers/maintainers of the DAMEfinder package: - Please allow up to 24 hours (and sometimes 48 hours) for your latest push to git@git.bioconductor.org:packages/DAMEfinder.git to reflect on this report. See How and When does the builder pull? When will my changes propagate? here for more information. - Make sure to use the following settings in order to reproduce any error or warning you see on this page. | 
| Package 440/2041 | Hostname | OS / Arch | INSTALL | BUILD | CHECK | BUILD BIN | ||||||||
| DAMEfinder 1.4.0  (landing page) Stephany Orjuela 
 | nebbiolo1 | Linux (Ubuntu 20.04.2 LTS) / x86_64 | OK | OK | OK |  | ||||||||
| tokay2 | Windows Server 2012 R2 Standard / x64 | OK | OK | OK | OK |  | ||||||||
| machv2 | macOS 10.14.6 Mojave / x86_64 | OK | OK | OK | OK |  | ||||||||
| Package: DAMEfinder | 
| Version: 1.4.0 | 
| Command: rm -rf DAMEfinder.buildbin-libdir && mkdir DAMEfinder.buildbin-libdir && C:\Users\biocbuild\bbs-3.13-bioc\R\bin\R.exe CMD INSTALL --merge-multiarch --build --library=DAMEfinder.buildbin-libdir DAMEfinder_1.4.0.tar.gz | 
| StartedAt: 2021-10-15 08:51:13 -0400 (Fri, 15 Oct 2021) | 
| EndedAt: 2021-10-15 08:52:05 -0400 (Fri, 15 Oct 2021) | 
| EllapsedTime: 51.7 seconds | 
| RetCode: 0 | 
| Status: OK | 
| PackageFile: DAMEfinder_1.4.0.zip | 
| PackageFileSize: 3.17 MiB | 
##############################################################################
##############################################################################
###
### Running command:
###
###   rm -rf DAMEfinder.buildbin-libdir && mkdir DAMEfinder.buildbin-libdir && C:\Users\biocbuild\bbs-3.13-bioc\R\bin\R.exe CMD INSTALL --merge-multiarch --build --library=DAMEfinder.buildbin-libdir DAMEfinder_1.4.0.tar.gz
###
##############################################################################
##############################################################################
install for i386
* installing *source* package 'DAMEfinder' ...
** using staged installation
** R
** data
** inst
** byte-compile and prepare package for lazy loading
** help
*** installing help indices
  converting help for package 'DAMEfinder'
    finding HTML links ... done
    DAMEfinder                              html  
    calc_asm                                html  
    calc_derivedasm                         html  
    finding level-2 HTML links ... done
    calc_logodds                            html  
    calc_score                              html  
    calc_weight                             html  
    dame_track                              html  
    dame_track_mean                         html  
    empirical_pval                          html  
    extract_bams                            html  
    extractbams_output                      html  
    find_dames                              html  
    getMD                                   html  
    get_tstats                              html  
    methyl_MDS_plot                         html  
    methyl_circle_plot                      html  
    methyl_circle_plotCpG                   html  
    modulus_sqrt                            html  
    read_tuples                             html  
    readtuples_output                       html  
    simes_pval                              html  
    splitReads                              html  
** building package indices
** installing vignettes
** testing if installed package can be loaded from temporary location
** testing if installed package can be loaded from final location
** testing if installed package keeps a record of temporary installation path
install for x64
* installing *source* package 'DAMEfinder' ...
** testing if installed package can be loaded
* MD5 sums
packaged installation of 'DAMEfinder' as DAMEfinder_1.4.0.zip
* DONE (DAMEfinder)