| Back to Multiple platform build/check report for BioC 3.13 |
|
This page was generated on 2021-10-15 15:06:02 -0400 (Fri, 15 Oct 2021).
|
To the developers/maintainers of the CytoTree package: - Please allow up to 24 hours (and sometimes 48 hours) for your latest push to git@git.bioconductor.org:packages/CytoTree.git to reflect on this report. See How and When does the builder pull? When will my changes propagate? here for more information. - Make sure to use the following settings in order to reproduce any error or warning you see on this page. |
| Package 436/2041 | Hostname | OS / Arch | INSTALL | BUILD | CHECK | BUILD BIN | ||||||||
| CytoTree 1.2.0 (landing page) Yuting Dai
| nebbiolo1 | Linux (Ubuntu 20.04.2 LTS) / x86_64 | OK | OK | OK | |||||||||
| tokay2 | Windows Server 2012 R2 Standard / x64 | OK | OK | OK | OK | |||||||||
| machv2 | macOS 10.14.6 Mojave / x86_64 | OK | OK | OK | OK | |||||||||
| Package: CytoTree |
| Version: 1.2.0 |
| Command: C:\cygwin\bin\curl.exe -O http://155.52.207.165/BBS/3.13/bioc/src/contrib/CytoTree_1.2.0.tar.gz && rm -rf CytoTree.buildbin-libdir && mkdir CytoTree.buildbin-libdir && C:\Users\biocbuild\bbs-3.13-bioc\R\bin\R.exe CMD INSTALL --merge-multiarch --build --library=CytoTree.buildbin-libdir CytoTree_1.2.0.tar.gz && C:\Users\biocbuild\bbs-3.13-bioc\R\bin\R.exe CMD INSTALL CytoTree_1.2.0.zip && rm CytoTree_1.2.0.tar.gz CytoTree_1.2.0.zip |
| StartedAt: 2021-10-14 11:25:39 -0400 (Thu, 14 Oct 2021) |
| EndedAt: 2021-10-14 11:27:01 -0400 (Thu, 14 Oct 2021) |
| EllapsedTime: 82.3 seconds |
| RetCode: 0 |
| Status: OK |
##############################################################################
##############################################################################
###
### Running command:
###
### C:\cygwin\bin\curl.exe -O http://155.52.207.165/BBS/3.13/bioc/src/contrib/CytoTree_1.2.0.tar.gz && rm -rf CytoTree.buildbin-libdir && mkdir CytoTree.buildbin-libdir && C:\Users\biocbuild\bbs-3.13-bioc\R\bin\R.exe CMD INSTALL --merge-multiarch --build --library=CytoTree.buildbin-libdir CytoTree_1.2.0.tar.gz && C:\Users\biocbuild\bbs-3.13-bioc\R\bin\R.exe CMD INSTALL CytoTree_1.2.0.zip && rm CytoTree_1.2.0.tar.gz CytoTree_1.2.0.zip
###
##############################################################################
##############################################################################
% Total % Received % Xferd Average Speed Time Time Time Current
Dload Upload Total Spent Left Speed
0 0 0 0 0 0 0 0 --:--:-- --:--:-- --:--:-- 0
100 1596k 100 1596k 0 0 2082k 0 --:--:-- --:--:-- --:--:-- 2086k
install for i386
* installing *source* package 'CytoTree' ...
** using staged installation
** libs
"C:/rtools40/mingw32/bin/"g++ -std=gnu++11 -I"C:/Users/BIOCBU~1/BBS-3~1.13-/R/include" -DNDEBUG -I'C:/Users/biocbuild/bbs-3.13-bioc/R/library/Rcpp/include' -I"c:/extsoft/include" -O2 -Wall -mfpmath=sse -msse2 -mstackrealign -c RcppExports.cpp -o RcppExports.o
"C:/rtools40/mingw32/bin/"g++ -std=gnu++11 -I"C:/Users/BIOCBU~1/BBS-3~1.13-/R/include" -DNDEBUG -I'C:/Users/biocbuild/bbs-3.13-bioc/R/library/Rcpp/include' -I"c:/extsoft/include" -O2 -Wall -mfpmath=sse -msse2 -mstackrealign -c jaccard_coeff.cpp -o jaccard_coeff.o
C:/rtools40/mingw32/bin/g++ -std=gnu++11 -shared -s -static-libgcc -o CytoTree.dll tmp.def RcppExports.o jaccard_coeff.o -Lc:/extsoft/lib/i386 -Lc:/extsoft/lib -LC:/Users/BIOCBU~1/BBS-3~1.13-/R/bin/i386 -lR
installing to C:/Users/biocbuild/bbs-3.13-bioc/meat/CytoTree.buildbin-libdir/00LOCK-CytoTree/00new/CytoTree/libs/i386
** R
** inst
** byte-compile and prepare package for lazy loading
No methods found in package 'flowCore' for requests: 'action', 'assign', 'Data', 'gate', 'tree' when loading 'flowUtils'
** help
*** installing help indices
converting help for package 'CytoTree'
finding HTML links ... done
CYT-class html
CytoTree-package html
Rphenograph html
buildTree html
constraintMatrix html
correctBatchCYT html
createCYT html
defLeafCells html
defRootCells html
fetchCell html
fetchClustMeta html
fetchPlotMeta html
find_neighbors html
gatingMatrix html
plot2D html
plot3D html
plotBranchHeatmap html
plotCluster html
plotClusterHeatmap html
plotHeatmap html
plotMarkerDensity html
plotPieCluster html
plotPieTree html
plotPseudotimeDensity html
plotPseudotimeTraj html
plotTrajHeatmap html
plotTree html
plotViolin html
processingCluster html
runClara html
runCluster html
runDiff html
runDiffusionMap html
runExprsExtract html
runExprsMerge html
runFastPCA html
runHclust html
runKNN html
runKmeans html
runMclust html
runPhenograph html
runPseudotime html
runSOM html
finding level-2 HTML links ... done
runTSNE html
runUMAP html
runWalk html
show-CYT-method html
subsetCYT html
updateClustMeta html
updatePlotMeta html
** building package indices
** installing vignettes
** testing if installed package can be loaded from temporary location
No methods found in package 'flowCore' for requests: 'action', 'assign', 'Data', 'gate', 'tree' when loading 'flowUtils'
** testing if installed package can be loaded from final location
No methods found in package 'flowCore' for requests: 'action', 'assign', 'Data', 'gate', 'tree' when loading 'flowUtils'
** testing if installed package keeps a record of temporary installation path
install for x64
* installing *source* package 'CytoTree' ...
** libs
"C:/rtools40/mingw64/bin/"g++ -std=gnu++11 -I"C:/Users/BIOCBU~1/BBS-3~1.13-/R/include" -DNDEBUG -I'C:/Users/biocbuild/bbs-3.13-bioc/R/library/Rcpp/include' -I"C:/extsoft/include" -O2 -Wall -mfpmath=sse -msse2 -mstackrealign -c RcppExports.cpp -o RcppExports.o
"C:/rtools40/mingw64/bin/"g++ -std=gnu++11 -I"C:/Users/BIOCBU~1/BBS-3~1.13-/R/include" -DNDEBUG -I'C:/Users/biocbuild/bbs-3.13-bioc/R/library/Rcpp/include' -I"C:/extsoft/include" -O2 -Wall -mfpmath=sse -msse2 -mstackrealign -c jaccard_coeff.cpp -o jaccard_coeff.o
C:/rtools40/mingw64/bin/g++ -std=gnu++11 -shared -s -static-libgcc -o CytoTree.dll tmp.def RcppExports.o jaccard_coeff.o -LC:/extsoft/lib/x64 -LC:/extsoft/lib -LC:/Users/BIOCBU~1/BBS-3~1.13-/R/bin/x64 -lR
installing to C:/Users/biocbuild/bbs-3.13-bioc/meat/CytoTree.buildbin-libdir/CytoTree/libs/x64
** testing if installed package can be loaded
No methods found in package 'flowCore' for requests: 'action', 'assign', 'Data', 'gate', 'tree' when loading 'flowUtils'
* MD5 sums
packaged installation of 'CytoTree' as CytoTree_1.2.0.zip
* DONE (CytoTree)
* installing to library 'C:/Users/biocbuild/bbs-3.13-bioc/R/library'
package 'CytoTree' successfully unpacked and MD5 sums checked