| Back to Multiple platform build/check report for BioC 3.13 |
|
This page was generated on 2021-10-15 15:06:32 -0400 (Fri, 15 Oct 2021).
|
To the developers/maintainers of the CoreGx package: - Please allow up to 24 hours (and sometimes 48 hours) for your latest push to git@git.bioconductor.org:packages/CoreGx.git to reflect on this report. See How and When does the builder pull? When will my changes propagate? here for more information. - Make sure to use the following settings in order to reproduce any error or warning you see on this page. |
| Package 393/2041 | Hostname | OS / Arch | INSTALL | BUILD | CHECK | BUILD BIN | ||||||||
| CoreGx 1.4.2 (landing page) Benjamin Haibe-Kains
| nebbiolo1 | Linux (Ubuntu 20.04.2 LTS) / x86_64 | OK | OK | OK | |||||||||
| tokay2 | Windows Server 2012 R2 Standard / x64 | OK | OK | OK | OK | |||||||||
| machv2 | macOS 10.14.6 Mojave / x86_64 | OK | OK | OK | OK | |||||||||
| Package: CoreGx |
| Version: 1.4.2 |
| Command: /Library/Frameworks/R.framework/Versions/Current/Resources/bin/R CMD check --install=check:CoreGx.install-out.txt --library=/Library/Frameworks/R.framework/Versions/Current/Resources/library --no-vignettes --timings CoreGx_1.4.2.tar.gz |
| StartedAt: 2021-10-14 17:50:37 -0400 (Thu, 14 Oct 2021) |
| EndedAt: 2021-10-14 17:55:24 -0400 (Thu, 14 Oct 2021) |
| EllapsedTime: 286.8 seconds |
| RetCode: 0 |
| Status: OK |
| CheckDir: CoreGx.Rcheck |
| Warnings: 0 |
############################################################################## ############################################################################## ### ### Running command: ### ### /Library/Frameworks/R.framework/Versions/Current/Resources/bin/R CMD check --install=check:CoreGx.install-out.txt --library=/Library/Frameworks/R.framework/Versions/Current/Resources/library --no-vignettes --timings CoreGx_1.4.2.tar.gz ### ############################################################################## ############################################################################## * using log directory ‘/Users/biocbuild/bbs-3.13-bioc/meat/CoreGx.Rcheck’ * using R version 4.1.1 (2021-08-10) * using platform: x86_64-apple-darwin17.0 (64-bit) * using session charset: UTF-8 * using option ‘--no-vignettes’ * checking for file ‘CoreGx/DESCRIPTION’ ... OK * checking extension type ... Package * this is package ‘CoreGx’ version ‘1.4.2’ * package encoding: UTF-8 * checking package namespace information ... OK * checking package dependencies ... OK * checking if this is a source package ... OK * checking if there is a namespace ... OK * checking for hidden files and directories ... OK * checking for portable file names ... OK * checking for sufficient/correct file permissions ... OK * checking whether package ‘CoreGx’ can be installed ... OK * checking installed package size ... OK * checking package directory ... OK * checking ‘build’ directory ... OK * checking DESCRIPTION meta-information ... OK * checking top-level files ... OK * checking for left-over files ... OK * checking index information ... OK * checking package subdirectories ... OK * checking R files for non-ASCII characters ... OK * checking R files for syntax errors ... OK * checking whether the package can be loaded ... OK * checking whether the package can be loaded with stated dependencies ... OK * checking whether the package can be unloaded cleanly ... OK * checking whether the namespace can be loaded with stated dependencies ... OK * checking whether the namespace can be unloaded cleanly ... OK * checking dependencies in R code ... OK * checking S3 generic/method consistency ... OK * checking replacement functions ... OK * checking foreign function calls ... OK * checking R code for possible problems ... NOTE .rebuildInfo: no visible global function definition for ‘patterns’ .rebuildInfo: no visible binding for global variable ‘..keepCols’ .rebuildInfo: no visible binding for global variable ‘drugid’ .rebuildInfo: no visible binding for global variable ‘..rowIDcols’ .rebuildInfo: no visible binding for global variable ‘cellid’ .rebuildInfo: no visible binding for global variable ‘..colIDcols’ .rebuildInfo: no visible binding for global variable ‘exp_id’ .rebuildRaw: no visible binding for global variable ‘.NATURAL’ .rebuildRaw: no visible binding for global variable ‘row_ids’ .rebuildRaw: no visible binding for global variable ‘col_ids’ .rebuildRaw : .paste_slashes: no visible binding for global variable ‘..’ .rebuildRaw: no visible binding for global variable ‘dose’ .rebuildRaw: no visible global function definition for ‘patterns’ .rebuildSensNumber: no visible global function definition for ‘patterns’ .rebuildSensNumber: no visible binding for global variable ‘.drugCombo’ .rebuildSensNumber: no visible binding for global variable ‘.cellCombo’ .sensitivityToLongTable: no visible binding for global variable ‘replicate_id’ colData<-,LongTable-ANY: no visible binding for global variable ‘.NATURAL’ colData<-,LongTable-ANY: no visible binding for global variable ‘.colnames’ colData<-,LongTable-ANY: no visible binding for global variable ‘..colIDcols’ metaConstruct,LongTableDataMapper: no visible binding for global variable ‘..rowIDs’ metaConstruct,LongTableDataMapper: no visible binding for global variable ‘..colIDs’ rowData<-,LongTable: no visible binding for global variable ‘.NATURAL’ rowData<-,LongTable: no visible binding for global variable ‘.rownames’ rowData<-,LongTable: no visible binding for global variable ‘..rowIDCols’ sensitivityRaw<-,CoreSet-array: no visible binding for global variable ‘rn’ sensitivityRaw<-,CoreSet-array: no visible binding for global variable ‘row_id’ sensitivityRaw<-,CoreSet-array: no visible binding for global variable ‘col_id’ sensitivitySlot<-,CoreSet-list_or_LongTable: no visible binding for global variable ‘funContext’ Undefined global functions or variables: .. ..colIDcols ..colIDs ..keepCols ..rowIDCols ..rowIDcols ..rowIDs .NATURAL .cellCombo .colnames .drugCombo .rownames cellid col_id col_ids dose drugid exp_id funContext patterns replicate_id rn row_id row_ids * checking Rd files ... OK * checking Rd metadata ... OK * checking Rd cross-references ... OK * checking for missing documentation entries ... OK * checking for code/documentation mismatches ... OK * checking Rd \usage sections ... OK * checking Rd contents ... OK * checking for unstated dependencies in examples ... OK * checking contents of ‘data’ directory ... OK * checking data for non-ASCII characters ... NOTE Note: found 8 marked UTF-8 strings * checking LazyData ... OK * checking data for ASCII and uncompressed saves ... OK * checking files in ‘vignettes’ ... OK * checking examples ... OK * checking for unstated dependencies in ‘tests’ ... OK * checking tests ... Running ‘testthat.R’ OK * checking for unstated dependencies in vignettes ... OK * checking package vignettes in ‘inst/doc’ ... OK * checking running R code from vignettes ... SKIPPED * checking re-building of vignette outputs ... SKIPPED * checking PDF version of manual ... OK * DONE Status: 2 NOTEs See ‘/Users/biocbuild/bbs-3.13-bioc/meat/CoreGx.Rcheck/00check.log’ for details.
CoreGx.Rcheck/00install.out
############################################################################## ############################################################################## ### ### Running command: ### ### /Library/Frameworks/R.framework/Versions/Current/Resources/bin/R CMD INSTALL CoreGx ### ############################################################################## ############################################################################## * installing to library ‘/Library/Frameworks/R.framework/Versions/4.1/Resources/library’ * installing *source* package ‘CoreGx’ ... ** using staged installation ** R ** data *** moving datasets to lazyload DB Registered S3 method overwritten by 'ggplot2': method from print.element sets Creating a generic function for ‘colnames’ from package ‘base’ in package ‘CoreGx’ Creating a generic function for ‘rownames’ from package ‘base’ in package ‘CoreGx’ ** inst ** byte-compile and prepare package for lazy loading ** help *** installing help indices ** building package indices ** installing vignettes ** testing if installed package can be loaded from temporary location ** testing if installed package can be loaded from final location ** testing if installed package keeps a record of temporary installation path * DONE (CoreGx)
CoreGx.Rcheck/tests/testthat.Rout
R version 4.1.1 (2021-08-10) -- "Kick Things"
Copyright (C) 2021 The R Foundation for Statistical Computing
Platform: x86_64-apple-darwin17.0 (64-bit)
R is free software and comes with ABSOLUTELY NO WARRANTY.
You are welcome to redistribute it under certain conditions.
Type 'license()' or 'licence()' for distribution details.
R is a collaborative project with many contributors.
Type 'contributors()' for more information and
'citation()' on how to cite R or R packages in publications.
Type 'demo()' for some demos, 'help()' for on-line help, or
'help.start()' for an HTML browser interface to help.
Type 'q()' to quit R.
> library(testthat)
> library(CoreGx)
Loading required package: BiocGenerics
Loading required package: parallel
Attaching package: 'BiocGenerics'
The following objects are masked from 'package:parallel':
clusterApply, clusterApplyLB, clusterCall, clusterEvalQ,
clusterExport, clusterMap, parApply, parCapply, parLapply,
parLapplyLB, parRapply, parSapply, parSapplyLB
The following objects are masked from 'package:stats':
IQR, mad, sd, var, xtabs
The following objects are masked from 'package:base':
Filter, Find, Map, Position, Reduce, anyDuplicated, append,
as.data.frame, basename, cbind, colnames, dirname, do.call,
duplicated, eval, evalq, get, grep, grepl, intersect, is.unsorted,
lapply, mapply, match, mget, order, paste, pmax, pmax.int, pmin,
pmin.int, rank, rbind, rownames, sapply, setdiff, sort, table,
tapply, union, unique, unsplit, which.max, which.min
Loading required package: SummarizedExperiment
Loading required package: MatrixGenerics
Loading required package: matrixStats
Attaching package: 'MatrixGenerics'
The following objects are masked from 'package:matrixStats':
colAlls, colAnyNAs, colAnys, colAvgsPerRowSet, colCollapse,
colCounts, colCummaxs, colCummins, colCumprods, colCumsums,
colDiffs, colIQRDiffs, colIQRs, colLogSumExps, colMadDiffs,
colMads, colMaxs, colMeans2, colMedians, colMins, colOrderStats,
colProds, colQuantiles, colRanges, colRanks, colSdDiffs, colSds,
colSums2, colTabulates, colVarDiffs, colVars, colWeightedMads,
colWeightedMeans, colWeightedMedians, colWeightedSds,
colWeightedVars, rowAlls, rowAnyNAs, rowAnys, rowAvgsPerColSet,
rowCollapse, rowCounts, rowCummaxs, rowCummins, rowCumprods,
rowCumsums, rowDiffs, rowIQRDiffs, rowIQRs, rowLogSumExps,
rowMadDiffs, rowMads, rowMaxs, rowMeans2, rowMedians, rowMins,
rowOrderStats, rowProds, rowQuantiles, rowRanges, rowRanks,
rowSdDiffs, rowSds, rowSums2, rowTabulates, rowVarDiffs, rowVars,
rowWeightedMads, rowWeightedMeans, rowWeightedMedians,
rowWeightedSds, rowWeightedVars
Loading required package: GenomicRanges
Loading required package: stats4
Loading required package: S4Vectors
Attaching package: 'S4Vectors'
The following objects are masked from 'package:base':
I, expand.grid, unname
Loading required package: IRanges
Loading required package: GenomeInfoDb
Loading required package: Biobase
Welcome to Bioconductor
Vignettes contain introductory material; view with
'browseVignettes()'. To cite Bioconductor, see
'citation("Biobase")', and for packages 'citation("pkgname")'.
Attaching package: 'Biobase'
The following object is masked from 'package:MatrixGenerics':
rowMedians
The following objects are masked from 'package:matrixStats':
anyMissing, rowMedians
>
> test_check("CoreGx")
[ FAIL 0 | WARN 0 | SKIP 0 | PASS 0 ]
>
> proc.time()
user system elapsed
11.034 0.576 11.589
CoreGx.Rcheck/CoreGx-Ex.timings
| name | user | system | elapsed | |
| CoreSet-accessors | 2.032 | 0.150 | 2.185 | |
| Create | 0.070 | 0.003 | 0.073 | |
| LongTable-class | 0.698 | 0.046 | 0.743 | |
| LongTableDataMapper-accessors | 0.002 | 0.001 | 0.004 | |
| LongTableDataMapper-class | 0.006 | 0.001 | 0.007 | |
| amcc | 2.460 | 0.063 | 2.528 | |
| as | 0.147 | 0.004 | 0.151 | |
| as.data.frame.LongTable | 0.292 | 0.343 | 0.636 | |
| as.long.table | 0.077 | 0.002 | 0.080 | |
| assayCols | 0 | 0 | 0 | |
| buildLongTable | 0 | 0 | 0 | |
| callingWaterfall | 0 | 0 | 0 | |
| cash-LongTable-method | 0.010 | 0.001 | 0.011 | |
| cash-set-LongTable-method | 0.102 | 0.000 | 0.102 | |
| checkColumnCardinality | 0.004 | 0.000 | 0.004 | |
| checkCsetStructure | 0.104 | 0.001 | 0.106 | |
| colIDs | 0 | 0 | 0 | |
| colMeta | 0.000 | 0.001 | 0.001 | |
| connectivityScore | 0.077 | 0.001 | 0.078 | |
| cosinePerm | 0.040 | 0.002 | 0.041 | |
| dot- | 0 | 0 | 0 | |
| dot-distancePointLine | 0 | 0 | 0 | |
| dot-distancePointSegment | 0.001 | 0.000 | 0.000 | |
| dot-intersectList | 0.000 | 0.000 | 0.001 | |
| dot-symSetDiffList | 0 | 0 | 0 | |
| dot-unionList | 0 | 0 | 0 | |
| getIntern | 0.000 | 0.000 | 0.001 | |
| guessMapping-LongTableDataMapper-method | 0.007 | 0.001 | 0.008 | |
| gwc | 0.08 | 0.01 | 0.09 | |
| idCols-LongTable-method | 0.000 | 0.000 | 0.001 | |
| idCols | 0 | 0 | 0 | |
| is.items | 0.001 | 0.000 | 0.000 | |
| mcc | 2.850 | 0.058 | 2.910 | |
| metaConstruct | 0.101 | 0.003 | 0.103 | |
| reindex | 0 | 0 | 0 | |
| rowIDs | 0 | 0 | 0 | |
| rowMeta | 0 | 0 | 0 | |
| sensitivityInfo-set | 0.000 | 0.001 | 0.001 | |
| sensitivityInfo | 0 | 0 | 0 | |
| sensitivityMeasures-set | 0 | 0 | 0 | |
| sensitivityMeasures | 0.005 | 0.001 | 0.006 | |
| sensitivityProfiles | 0.000 | 0.001 | 0.001 | |
| sensitivityRaw | 0.000 | 0.001 | 0.001 | |
| sensitivitySlotToLongTable | 0 | 0 | 0 | |
| show-CoreSet-method | 0.036 | 0.001 | 0.037 | |
| show-LongTable-method | 0.009 | 0.000 | 0.010 | |
| showSigAnnot | 0 | 0 | 0 | |
| sub-LongTable-ANY-ANY-ANY-method | 0.474 | 0.009 | 0.483 | |
| sub-subset-LongTable-ANY-ANY-method | 0.066 | 0.002 | 0.069 | |
| subset-LongTable-method | 0.222 | 0.007 | 0.228 | |
| summarizeMolecularProfiles | 0.000 | 0.000 | 0.001 | |
| summarizeSensitivityProfiles | 0 | 0 | 0 | |
| updateCellId | 0.312 | 0.002 | 0.314 | |