| Back to Multiple platform build/check report for BioC 3.13 |
|
This page was generated on 2021-10-15 15:06:00 -0400 (Fri, 15 Oct 2021).
|
To the developers/maintainers of the CluMSID package: - Please allow up to 24 hours (and sometimes 48 hours) for your latest push to git@git.bioconductor.org:packages/CluMSID.git to reflect on this report. See How and When does the builder pull? When will my changes propagate? here for more information. - Make sure to use the following settings in order to reproduce any error or warning you see on this page. |
| Package 328/2041 | Hostname | OS / Arch | INSTALL | BUILD | CHECK | BUILD BIN | ||||||||
| CluMSID 1.8.0 (landing page) Tobias Depke
| nebbiolo1 | Linux (Ubuntu 20.04.2 LTS) / x86_64 | OK | OK | OK | |||||||||
| tokay2 | Windows Server 2012 R2 Standard / x64 | OK | OK | OK | OK | |||||||||
| machv2 | macOS 10.14.6 Mojave / x86_64 | OK | OK | OK | OK | |||||||||
| Package: CluMSID |
| Version: 1.8.0 |
| Command: rm -rf CluMSID.buildbin-libdir && mkdir CluMSID.buildbin-libdir && C:\Users\biocbuild\bbs-3.13-bioc\R\bin\R.exe CMD INSTALL --merge-multiarch --build --library=CluMSID.buildbin-libdir CluMSID_1.8.0.tar.gz |
| StartedAt: 2021-10-15 08:36:24 -0400 (Fri, 15 Oct 2021) |
| EndedAt: 2021-10-15 08:37:47 -0400 (Fri, 15 Oct 2021) |
| EllapsedTime: 82.3 seconds |
| RetCode: 0 |
| Status: OK |
| PackageFile: CluMSID_1.8.0.zip |
| PackageFileSize: 3.166 MiB |
##############################################################################
##############################################################################
###
### Running command:
###
### rm -rf CluMSID.buildbin-libdir && mkdir CluMSID.buildbin-libdir && C:\Users\biocbuild\bbs-3.13-bioc\R\bin\R.exe CMD INSTALL --merge-multiarch --build --library=CluMSID.buildbin-libdir CluMSID_1.8.0.tar.gz
###
##############################################################################
##############################################################################
install for i386
* installing *source* package 'CluMSID' ...
** using staged installation
** R
** inst
** byte-compile and prepare package for lazy loading
** help
*** installing help indices
converting help for package 'CluMSID'
finding HTML links ... done
Featurelist html
HCplot html
HCtbl html
MDSplot html
MS2spectrum-class html
OPTICSplot html
OPTICStbl html
accessors html
addAnnotations html
as.MS2spectrum html
cossim html
distanceMatrix html
extractMS2spectra html
extractPseudospectra html
findFragment html
findNL html
getSimilarities html
getSpectrum html
mergeMS2spectra html
mergeSpecList html
mergeTolerance html
networkplot html
neutrallossPatterns html
pseudospectrum-class html
specplot html
splitPolarities html
writeFeaturelist html
** building package indices
** installing vignettes
** testing if installed package can be loaded from temporary location
** testing if installed package can be loaded from final location
** testing if installed package keeps a record of temporary installation path
install for x64
* installing *source* package 'CluMSID' ...
** testing if installed package can be loaded
* MD5 sums
packaged installation of 'CluMSID' as CluMSID_1.8.0.zip
* DONE (CluMSID)