Back to Multiple platform build/check report for BioC 3.13 |
|
This page was generated on 2021-10-15 15:06:31 -0400 (Fri, 15 Oct 2021).
To the developers/maintainers of the Clonality package: - Please allow up to 24 hours (and sometimes 48 hours) for your latest push to git@git.bioconductor.org:packages/Clonality.git to reflect on this report. See How and When does the builder pull? When will my changes propagate? here for more information. - Make sure to use the following settings in order to reproduce any error or warning you see on this page. |
Package 324/2041 | Hostname | OS / Arch | INSTALL | BUILD | CHECK | BUILD BIN | ||||||||
Clonality 1.40.0 (landing page) Irina Ostrovnaya
| nebbiolo1 | Linux (Ubuntu 20.04.2 LTS) / x86_64 | OK | OK | OK | ![]() | ||||||||
tokay2 | Windows Server 2012 R2 Standard / x64 | OK | OK | OK | OK | ![]() | ||||||||
machv2 | macOS 10.14.6 Mojave / x86_64 | OK | OK | OK | OK | ![]() | ||||||||
Package: Clonality |
Version: 1.40.0 |
Command: /Library/Frameworks/R.framework/Versions/Current/Resources/bin/R CMD check --install=check:Clonality.install-out.txt --library=/Library/Frameworks/R.framework/Versions/Current/Resources/library --no-vignettes --timings Clonality_1.40.0.tar.gz |
StartedAt: 2021-10-14 17:29:07 -0400 (Thu, 14 Oct 2021) |
EndedAt: 2021-10-14 17:32:35 -0400 (Thu, 14 Oct 2021) |
EllapsedTime: 207.8 seconds |
RetCode: 0 |
Status: OK |
CheckDir: Clonality.Rcheck |
Warnings: 0 |
############################################################################## ############################################################################## ### ### Running command: ### ### /Library/Frameworks/R.framework/Versions/Current/Resources/bin/R CMD check --install=check:Clonality.install-out.txt --library=/Library/Frameworks/R.framework/Versions/Current/Resources/library --no-vignettes --timings Clonality_1.40.0.tar.gz ### ############################################################################## ############################################################################## * using log directory ‘/Users/biocbuild/bbs-3.13-bioc/meat/Clonality.Rcheck’ * using R version 4.1.1 (2021-08-10) * using platform: x86_64-apple-darwin17.0 (64-bit) * using session charset: UTF-8 * using option ‘--no-vignettes’ * checking for file ‘Clonality/DESCRIPTION’ ... OK * checking extension type ... Package * this is package ‘Clonality’ version ‘1.40.0’ * checking package namespace information ... OK * checking package dependencies ... OK * checking if this is a source package ... OK * checking if there is a namespace ... OK * checking for hidden files and directories ... NOTE Found the following hidden files and directories: .git_fetch_output.txt .git_merge_output.txt These were most likely included in error. See section ‘Package structure’ in the ‘Writing R Extensions’ manual. * checking for portable file names ... OK * checking for sufficient/correct file permissions ... OK * checking whether package ‘Clonality’ can be installed ... OK * checking installed package size ... OK * checking package directory ... OK * checking ‘build’ directory ... OK * checking DESCRIPTION meta-information ... NOTE Malformed Description field: should contain one or more complete sentences. * checking top-level files ... OK * checking for left-over files ... OK * checking index information ... OK * checking package subdirectories ... OK * checking R files for non-ASCII characters ... OK * checking R files for syntax errors ... OK * checking whether the package can be loaded ... OK * checking whether the package can be loaded with stated dependencies ... OK * checking whether the package can be unloaded cleanly ... OK * checking whether the namespace can be loaded with stated dependencies ... OK * checking whether the namespace can be unloaded cleanly ... OK * checking dependencies in R code ... OK * checking S3 generic/method consistency ... OK * checking replacement functions ... OK * checking foreign function calls ... NOTE Foreign function call to a different package: .Fortran("fndcpt", ..., PACKAGE = "DNAcopy") See chapter ‘System and foreign language interfaces’ in the ‘Writing R Extensions’ manual. * checking R code for possible problems ... NOTE get.mutation.frequencies: no visible binding for global variable ‘freqdata’ Undefined global functions or variables: freqdata * checking Rd files ... OK * checking Rd metadata ... OK * checking Rd cross-references ... OK * checking for missing documentation entries ... OK * checking for code/documentation mismatches ... OK * checking Rd \usage sections ... OK * checking Rd contents ... OK * checking for unstated dependencies in examples ... OK * checking contents of ‘data’ directory ... OK * checking data for non-ASCII characters ... OK * checking data for ASCII and uncompressed saves ... OK * checking sizes of PDF files under ‘inst/doc’ ... OK * checking installed files from ‘inst/doc’ ... OK * checking files in ‘vignettes’ ... OK * checking examples ... OK Examples with CPU (user + system) or elapsed time > 5s user system elapsed clonality.analysis 68.371 0.598 69.144 LRtesting3or4tumors 49.770 0.068 49.868 LOHclonality 13.123 0.334 13.469 ECMtesting 11.179 0.030 11.214 * checking for unstated dependencies in vignettes ... OK * checking package vignettes in ‘inst/doc’ ... OK * checking running R code from vignettes ... SKIPPED * checking re-building of vignette outputs ... SKIPPED * checking PDF version of manual ... OK * DONE Status: 4 NOTEs See ‘/Users/biocbuild/bbs-3.13-bioc/meat/Clonality.Rcheck/00check.log’ for details.
Clonality.Rcheck/00install.out
############################################################################## ############################################################################## ### ### Running command: ### ### /Library/Frameworks/R.framework/Versions/Current/Resources/bin/R CMD INSTALL Clonality ### ############################################################################## ############################################################################## * installing to library ‘/Library/Frameworks/R.framework/Versions/4.1/Resources/library’ * installing *source* package ‘Clonality’ ... ** using staged installation ** R ** data ** inst ** byte-compile and prepare package for lazy loading ** help *** installing help indices ** building package indices ** installing vignettes ‘Clonality.Rnw’ ** testing if installed package can be loaded from temporary location ** testing if installed package can be loaded from final location ** testing if installed package keeps a record of temporary installation path * DONE (Clonality)
Clonality.Rcheck/Clonality-Ex.timings
name | user | system | elapsed | |
ECMtesting | 11.179 | 0.030 | 11.214 | |
LOHclonality | 13.123 | 0.334 | 13.469 | |
LRtesting3or4tumors | 49.770 | 0.068 | 49.868 | |
SNVtest | 3.979 | 0.148 | 4.128 | |
SNVtest2 | 0.816 | 0.005 | 0.822 | |
ave.adj.probes | 2.364 | 0.050 | 2.416 | |
chromosomePlots | 0.000 | 0.000 | 0.001 | |
clonality.analysis | 68.371 | 0.598 | 69.144 | |
create.mutation.matrix | 2.005 | 0.036 | 2.043 | |
genomewidePlots | 0.000 | 0.001 | 0.000 | |
get.mutation.frequencies | 1.810 | 0.034 | 1.848 | |
histogramPlot | 0.000 | 0.001 | 0.000 | |
mutation.proba | 1.639 | 0.023 | 1.662 | |
mutation.rem | 2.226 | 0.042 | 2.269 | |
splitChromosomes | 0.005 | 0.001 | 0.006 | |