Back to Multiple platform build/check report for BioC 3.13 |
|
This page was generated on 2021-10-15 15:06:00 -0400 (Fri, 15 Oct 2021).
To the developers/maintainers of the Clomial package: - Please allow up to 24 hours (and sometimes 48 hours) for your latest push to git@git.bioconductor.org:packages/Clomial.git to reflect on this report. See How and When does the builder pull? When will my changes propagate? here for more information. - Make sure to use the following settings in order to reproduce any error or warning you see on this page. |
Package 323/2041 | Hostname | OS / Arch | INSTALL | BUILD | CHECK | BUILD BIN | ||||||||
Clomial 1.28.0 (landing page) Habil Zare
| nebbiolo1 | Linux (Ubuntu 20.04.2 LTS) / x86_64 | OK | OK | OK | ![]() | ||||||||
tokay2 | Windows Server 2012 R2 Standard / x64 | OK | OK | OK | OK | ![]() | ||||||||
machv2 | macOS 10.14.6 Mojave / x86_64 | OK | OK | OK | OK | ![]() | ||||||||
Package: Clomial |
Version: 1.28.0 |
Command: C:\Users\biocbuild\bbs-3.13-bioc\R\bin\R.exe CMD check --force-multiarch --install=check:Clomial.install-out.txt --library=C:\Users\biocbuild\bbs-3.13-bioc\R\library --no-vignettes --timings Clomial_1.28.0.tar.gz |
StartedAt: 2021-10-14 21:09:51 -0400 (Thu, 14 Oct 2021) |
EndedAt: 2021-10-14 21:15:02 -0400 (Thu, 14 Oct 2021) |
EllapsedTime: 311.8 seconds |
RetCode: 0 |
Status: OK |
CheckDir: Clomial.Rcheck |
Warnings: 0 |
############################################################################## ############################################################################## ### ### Running command: ### ### C:\Users\biocbuild\bbs-3.13-bioc\R\bin\R.exe CMD check --force-multiarch --install=check:Clomial.install-out.txt --library=C:\Users\biocbuild\bbs-3.13-bioc\R\library --no-vignettes --timings Clomial_1.28.0.tar.gz ### ############################################################################## ############################################################################## * using log directory 'C:/Users/biocbuild/bbs-3.13-bioc/meat/Clomial.Rcheck' * using R version 4.1.1 (2021-08-10) * using platform: x86_64-w64-mingw32 (64-bit) * using session charset: ISO8859-1 * using option '--no-vignettes' * checking for file 'Clomial/DESCRIPTION' ... OK * checking extension type ... Package * this is package 'Clomial' version '1.28.0' * checking package namespace information ... OK * checking package dependencies ... OK * checking if this is a source package ... OK * checking if there is a namespace ... OK * checking for hidden files and directories ... OK * checking for portable file names ... OK * checking whether package 'Clomial' can be installed ... OK * checking installed package size ... OK * checking package directory ... OK * checking 'build' directory ... OK * checking DESCRIPTION meta-information ... OK * checking top-level files ... OK * checking for left-over files ... OK * checking index information ... OK * checking package subdirectories ... OK * checking R files for non-ASCII characters ... OK * checking R files for syntax errors ... OK * loading checks for arch 'i386' ** checking whether the package can be loaded ... OK ** checking whether the package can be loaded with stated dependencies ... OK ** checking whether the package can be unloaded cleanly ... OK ** checking whether the namespace can be loaded with stated dependencies ... OK ** checking whether the namespace can be unloaded cleanly ... OK * loading checks for arch 'x64' ** checking whether the package can be loaded ... OK ** checking whether the package can be loaded with stated dependencies ... OK ** checking whether the package can be unloaded cleanly ... OK ** checking whether the namespace can be loaded with stated dependencies ... OK ** checking whether the namespace can be unloaded cleanly ... OK * checking dependencies in R code ... OK * checking S3 generic/method consistency ... OK * checking replacement functions ... OK * checking foreign function calls ... OK * checking R code for possible problems ... NOTE Clomial: no visible global function definition for 'runif' Clomial.generate.data: no visible global function definition for 'runif' Clomial.generate.data: no visible global function definition for 'rbinom' Clomial.likelihood: no visible global function definition for 'dbinom' Phi: no visible global function definition for 'dbinom' choose.best: no visible global function definition for 'tail' compute.P.reparam : update.Wj: no visible global function definition for 'optim' compute.q: no visible global function definition for 'dbinom' Undefined global functions or variables: dbinom optim rbinom runif tail Consider adding importFrom("stats", "dbinom", "optim", "rbinom", "runif") importFrom("utils", "tail") to your NAMESPACE file. * checking Rd files ... OK * checking Rd metadata ... OK * checking Rd cross-references ... OK * checking for missing documentation entries ... OK * checking for code/documentation mismatches ... OK * checking Rd \usage sections ... OK * checking Rd contents ... OK * checking for unstated dependencies in examples ... OK * checking contents of 'data' directory ... OK * checking data for non-ASCII characters ... OK * checking data for ASCII and uncompressed saves ... OK * checking files in 'vignettes' ... OK * checking examples ... ** running examples for arch 'i386' ... OK Examples with CPU (user + system) or elapsed time > 5s user system elapsed choose.best 52.25 1.70 53.96 Clomial 20.25 0.83 21.07 Clomial-package 20.28 0.78 21.07 compute.bic 12.88 0.47 13.34 Clomial.iterate 9.52 0.43 9.95 Clomial.likelihood 9.08 0.33 9.41 compute.errors 5.31 0.13 5.44 ** running examples for arch 'x64' ... OK Examples with CPU (user + system) or elapsed time > 5s user system elapsed choose.best 50.15 1.82 51.97 Clomial 17.72 0.50 18.22 Clomial-package 17.58 0.50 18.08 compute.bic 11.60 0.32 11.92 Clomial.likelihood 9.25 0.26 9.62 Clomial.iterate 8.03 0.35 8.38 compute.errors 5.01 0.19 5.20 * checking for unstated dependencies in vignettes ... OK * checking package vignettes in 'inst/doc' ... OK * checking running R code from vignettes ... SKIPPED * checking re-building of vignette outputs ... SKIPPED * checking PDF version of manual ... OK * DONE Status: 1 NOTE See 'C:/Users/biocbuild/bbs-3.13-bioc/meat/Clomial.Rcheck/00check.log' for details.
Clomial.Rcheck/00install.out
############################################################################## ############################################################################## ### ### Running command: ### ### C:\cygwin\bin\curl.exe -O http://155.52.207.165/BBS/3.13/bioc/src/contrib/Clomial_1.28.0.tar.gz && rm -rf Clomial.buildbin-libdir && mkdir Clomial.buildbin-libdir && C:\Users\biocbuild\bbs-3.13-bioc\R\bin\R.exe CMD INSTALL --merge-multiarch --build --library=Clomial.buildbin-libdir Clomial_1.28.0.tar.gz && C:\Users\biocbuild\bbs-3.13-bioc\R\bin\R.exe CMD INSTALL Clomial_1.28.0.zip && rm Clomial_1.28.0.tar.gz Clomial_1.28.0.zip ### ############################################################################## ############################################################################## % Total % Received % Xferd Average Speed Time Time Time Current Dload Upload Total Spent Left Speed 0 0 0 0 0 0 0 0 --:--:-- --:--:-- --:--:-- 0 100 1291k 100 1291k 0 0 3081k 0 --:--:-- --:--:-- --:--:-- 3088k install for i386 * installing *source* package 'Clomial' ... ** using staged installation ** R ** data ** inst ** byte-compile and prepare package for lazy loading ** help *** installing help indices converting help for package 'Clomial' finding HTML links ... done Clomial-package html Clomial html Clomial.generate.data html Clomial.iterate html Clomial.likelihood html Clomial1000 html breastCancer html choose.best html compute.bic html compute.errors html ** building package indices ** installing vignettes ** testing if installed package can be loaded from temporary location ** testing if installed package can be loaded from final location ** testing if installed package keeps a record of temporary installation path install for x64 * installing *source* package 'Clomial' ... ** testing if installed package can be loaded * MD5 sums packaged installation of 'Clomial' as Clomial_1.28.0.zip * DONE (Clomial) * installing to library 'C:/Users/biocbuild/bbs-3.13-bioc/R/library' package 'Clomial' successfully unpacked and MD5 sums checked
Clomial.Rcheck/examples_i386/Clomial-Ex.timings
|
Clomial.Rcheck/examples_x64/Clomial-Ex.timings
|