| Back to Multiple platform build/check report for BioC 3.13 |
|
This page was generated on 2021-10-15 15:05:37 -0400 (Fri, 15 Oct 2021).
|
To the developers/maintainers of the ChromSCape package: - Please allow up to 24 hours (and sometimes 48 hours) for your latest push to git@git.bioconductor.org:packages/ChromSCape.git to reflect on this report. See How and When does the builder pull? When will my changes propagate? here for more information. - Make sure to use the following settings in order to reproduce any error or warning you see on this page. |
| Package 306/2041 | Hostname | OS / Arch | INSTALL | BUILD | CHECK | BUILD BIN | ||||||||
| ChromSCape 1.2.62 (landing page) Pacome Prompsy
| nebbiolo1 | Linux (Ubuntu 20.04.2 LTS) / x86_64 | OK | OK | OK | |||||||||
| tokay2 | Windows Server 2012 R2 Standard / x64 | OK | OK | OK | OK | |||||||||
| machv2 | macOS 10.14.6 Mojave / x86_64 | OK | OK | OK | OK | |||||||||
| Package: ChromSCape |
| Version: 1.2.62 |
| Command: /home/biocbuild/bbs-3.13-bioc/R/bin/R CMD check --install=check:ChromSCape.install-out.txt --library=/home/biocbuild/bbs-3.13-bioc/R/library --no-vignettes --timings ChromSCape_1.2.62.tar.gz |
| StartedAt: 2021-10-14 09:15:05 -0400 (Thu, 14 Oct 2021) |
| EndedAt: 2021-10-14 09:26:29 -0400 (Thu, 14 Oct 2021) |
| EllapsedTime: 684.7 seconds |
| RetCode: 0 |
| Status: OK |
| CheckDir: ChromSCape.Rcheck |
| Warnings: 0 |
##############################################################################
##############################################################################
###
### Running command:
###
### /home/biocbuild/bbs-3.13-bioc/R/bin/R CMD check --install=check:ChromSCape.install-out.txt --library=/home/biocbuild/bbs-3.13-bioc/R/library --no-vignettes --timings ChromSCape_1.2.62.tar.gz
###
##############################################################################
##############################################################################
* using log directory ‘/home/biocbuild/bbs-3.13-bioc/meat/ChromSCape.Rcheck’
* using R version 4.1.1 (2021-08-10)
* using platform: x86_64-pc-linux-gnu (64-bit)
* using session charset: UTF-8
* using option ‘--no-vignettes’
* checking for file ‘ChromSCape/DESCRIPTION’ ... OK
* this is package ‘ChromSCape’ version ‘1.2.62’
* package encoding: UTF-8
* checking package namespace information ... OK
* checking package dependencies ... OK
* checking if this is a source package ... OK
* checking if there is a namespace ... OK
* checking for hidden files and directories ... NOTE
Found the following hidden files and directories:
.BBSoptions
These were most likely included in error. See section ‘Package
structure’ in the ‘Writing R Extensions’ manual.
* checking for portable file names ... OK
* checking for sufficient/correct file permissions ... OK
* checking whether package ‘ChromSCape’ can be installed ... OK
* checking installed package size ... OK
* checking package directory ... OK
* checking ‘build’ directory ... OK
* checking DESCRIPTION meta-information ... OK
* checking top-level files ... OK
* checking for left-over files ... OK
* checking index information ... OK
* checking package subdirectories ... OK
* checking R files for non-ASCII characters ... OK
* checking R files for syntax errors ... OK
* checking whether the package can be loaded ... OK
* checking whether the package can be loaded with stated dependencies ... OK
* checking whether the package can be unloaded cleanly ... OK
* checking whether the namespace can be loaded with stated dependencies ... OK
* checking whether the namespace can be unloaded cleanly ... OK
* checking dependencies in R code ... OK
* checking S3 generic/method consistency ... OK
* checking replacement functions ... OK
* checking foreign function calls ... OK
* checking R code for possible problems ... NOTE
CompareWilcox: no visible binding for global variable ‘annot.’
bams_to_matrix_indexes: no visible binding for global variable
‘files_dir_list’
filter_correlated_cell_scExp: no visible binding for global variable
‘run_tsne’
generate_analysis: no visible binding for global variable ‘k’
generate_analysis: no visible binding for global variable
‘clusterConsensus’
get_most_variable_cyto: no visible binding for global variable
‘cytoBand’
get_most_variable_cyto: no visible binding for global variable
‘Fri_cyto’
num_cell_after_QC_filt_scExp: no visible binding for global variable
‘sample_id’
num_cell_after_QC_filt_scExp: no visible binding for global variable
‘total_counts’
num_cell_scExp: no visible binding for global variable ‘sample_id’
num_cell_scExp: no visible binding for global variable ‘total_counts’
plot_gain_or_loss_barplots: no visible binding for global variable
‘Gain_or_Loss’
plot_gain_or_loss_barplots: no visible binding for global variable
‘ncells’
plot_gain_or_loss_barplots: no visible binding for global variable
‘cytoBand’
plot_most_contributing_features: no visible binding for global variable
‘genes’
plot_pie_most_contributing_chr: no visible binding for global variable
‘absolute_value’
plot_reduced_dim_scExp: no visible binding for global variable ‘V1’
plot_reduced_dim_scExp: no visible binding for global variable ‘V2’
plot_reduced_dim_scExp: no visible binding for global variable
‘cluster’
subset_bam_call_peaks: no visible binding for global variable
‘merged_bam’
Undefined global functions or variables:
Fri_cyto Gain_or_Loss V1 V2 absolute_value annot. cluster
clusterConsensus cytoBand files_dir_list genes k merged_bam ncells
run_tsne sample_id total_counts
* checking Rd files ... NOTE
prepare_Rd: raw_counts_to_sparse_matrix.Rd:6-8: Dropping empty section \source
* checking Rd metadata ... OK
* checking Rd cross-references ... OK
* checking for missing documentation entries ... OK
* checking for code/documentation mismatches ... OK
* checking Rd \usage sections ... OK
* checking Rd contents ... OK
* checking for unstated dependencies in examples ... OK
* checking contents of ‘data’ directory ... OK
* checking data for non-ASCII characters ... OK
* checking data for ASCII and uncompressed saves ... OK
* checking line endings in C/C++/Fortran sources/headers ... OK
* checking compiled code ... NOTE
Note: information on .o files is not available
* checking files in ‘vignettes’ ... OK
* checking examples ... OK
Examples with CPU (user + system) or elapsed time > 5s
user system elapsed
plot_gain_or_loss_barplots 53.550 0.240 53.791
calculate_CNA 26.640 2.416 29.058
calculate_gain_or_loss 26.420 0.916 27.337
plot_reduced_dim_scExp_CNA 27.036 0.116 27.153
calculate_cyto_mat 25.656 1.012 26.669
calculate_logRatio_CNA 24.726 0.712 25.439
get_most_variable_cyto 24.804 0.112 24.916
get_cyto_features 21.627 0.056 21.683
peaks_to_bins 10.272 3.965 5.455
filter_correlated_cell_scExp 11.326 0.162 11.470
num_cell_after_cor_filt_scExp 11.234 0.060 11.273
create_scDataset_raw 8.630 0.344 8.974
import_scExp 6.840 0.044 6.884
differential_analysis_scExp 4.836 1.461 3.913
CompareWilcox 5.247 0.666 5.195
CompareedgeRGLM 5.130 0.454 5.035
* checking for unstated dependencies in ‘tests’ ... OK
* checking tests ...
Running ‘testthat.R’
OK
* checking for unstated dependencies in vignettes ... OK
* checking package vignettes in ‘inst/doc’ ... OK
* checking running R code from vignettes ... SKIPPED
* checking re-building of vignette outputs ... SKIPPED
* checking PDF version of manual ... OK
* DONE
Status: 4 NOTEs
See
‘/home/biocbuild/bbs-3.13-bioc/meat/ChromSCape.Rcheck/00check.log’
for details.
ChromSCape.Rcheck/00install.out
############################################################################## ############################################################################## ### ### Running command: ### ### /home/biocbuild/bbs-3.13-bioc/R/bin/R CMD INSTALL ChromSCape ### ############################################################################## ############################################################################## * installing to library ‘/home/biocbuild/bbs-3.13-bioc/R/library’ * installing *source* package ‘ChromSCape’ ... ** using staged installation ** libs g++ -std=gnu++14 -I"/home/biocbuild/bbs-3.13-bioc/R/include" -DNDEBUG -I'/home/biocbuild/bbs-3.13-bioc/R/library/Rcpp/include' -I/usr/local/include -fpic -g -O2 -Wall -c RcppExports.cpp -o RcppExports.o g++ -std=gnu++14 -I"/home/biocbuild/bbs-3.13-bioc/R/include" -DNDEBUG -I'/home/biocbuild/bbs-3.13-bioc/R/library/Rcpp/include' -I/usr/local/include -fpic -g -O2 -Wall -c as_dist.cpp -o as_dist.o g++ -std=gnu++14 -shared -L/home/biocbuild/bbs-3.13-bioc/R/lib -L/usr/local/lib -o ChromSCape.so RcppExports.o as_dist.o -L/home/biocbuild/bbs-3.13-bioc/R/lib -lR installing to /home/biocbuild/bbs-3.13-bioc/R/library/00LOCK-ChromSCape/00new/ChromSCape/libs ** R ** data ** inst ** byte-compile and prepare package for lazy loading ** help *** installing help indices ** building package indices ** installing vignettes ** testing if installed package can be loaded from temporary location ** checking absolute paths in shared objects and dynamic libraries ** testing if installed package can be loaded from final location ** testing if installed package keeps a record of temporary installation path * DONE (ChromSCape)
ChromSCape.Rcheck/tests/testthat.Rout
R version 4.1.1 (2021-08-10) -- "Kick Things"
Copyright (C) 2021 The R Foundation for Statistical Computing
Platform: x86_64-pc-linux-gnu (64-bit)
R is free software and comes with ABSOLUTELY NO WARRANTY.
You are welcome to redistribute it under certain conditions.
Type 'license()' or 'licence()' for distribution details.
R is a collaborative project with many contributors.
Type 'contributors()' for more information and
'citation()' on how to cite R or R packages in publications.
Type 'demo()' for some demos, 'help()' for on-line help, or
'help.start()' for an HTML browser interface to help.
Type 'q()' to quit R.
> library(testthat)
> library(ChromSCape)
>
> test_check("ChromSCape")
[ FAIL 0 | WARN 0 | SKIP 0 | PASS 11 ]
>
> proc.time()
user system elapsed
43.290 1.693 44.671
ChromSCape.Rcheck/ChromSCape-Ex.timings
| name | user | system | elapsed | |
| CompareWilcox | 5.247 | 0.666 | 5.195 | |
| CompareedgeRGLM | 5.130 | 0.454 | 5.035 | |
| annotToCol2 | 1.310 | 0.108 | 1.419 | |
| calculate_CNA | 26.640 | 2.416 | 29.058 | |
| calculate_cyto_mat | 25.656 | 1.012 | 26.669 | |
| calculate_gain_or_loss | 26.420 | 0.916 | 27.337 | |
| calculate_logRatio_CNA | 24.726 | 0.712 | 25.439 | |
| choose_cluster_scExp | 3.954 | 0.104 | 4.045 | |
| colors_scExp | 0.278 | 0.000 | 0.279 | |
| consensus_clustering_scExp | 3.263 | 0.044 | 3.299 | |
| correlation_and_hierarchical_clust_scExp | 0.330 | 0.004 | 0.328 | |
| create_project_folder | 0.001 | 0.000 | 0.002 | |
| create_scDataset_raw | 8.630 | 0.344 | 8.974 | |
| create_scExp | 1.109 | 0.008 | 1.117 | |
| define_feature | 0.198 | 0.000 | 0.198 | |
| detect_samples | 1.104 | 0.020 | 1.050 | |
| differential_analysis_scExp | 4.836 | 1.461 | 3.913 | |
| exclude_features_scExp | 1.603 | 0.252 | 1.263 | |
| feature_annotation_scExp | 2.582 | 0.124 | 2.705 | |
| filter_correlated_cell_scExp | 11.326 | 0.162 | 11.470 | |
| filter_scExp | 1.302 | 0.017 | 1.319 | |
| find_top_features | 0.310 | 0.004 | 0.313 | |
| gene_set_enrichment_analysis_scExp | 0.137 | 0.004 | 0.141 | |
| generate_analysis | 0.001 | 0.000 | 0.000 | |
| generate_coverage_tracks | 0.000 | 0.000 | 0.001 | |
| getExperimentNames | 0.180 | 0.008 | 0.188 | |
| getMainExperiment | 0.279 | 0.008 | 0.286 | |
| get_cyto_features | 21.627 | 0.056 | 21.683 | |
| get_genomic_coordinates | 0.917 | 0.056 | 0.973 | |
| get_most_variable_cyto | 24.804 | 0.112 | 24.916 | |
| has_genomic_coordinates | 1.659 | 0.056 | 1.714 | |
| import_scExp | 6.840 | 0.044 | 6.884 | |
| inter_correlation_scExp | 0.447 | 0.012 | 0.460 | |
| intra_correlation_scExp | 0.603 | 0.003 | 0.605 | |
| launchApp | 0 | 0 | 0 | |
| normalize_scExp | 1.048 | 0.036 | 1.084 | |
| num_cell_after_QC_filt_scExp | 1.069 | 0.016 | 1.085 | |
| num_cell_after_cor_filt_scExp | 11.234 | 0.060 | 11.273 | |
| num_cell_before_cor_filt_scExp | 0.121 | 0.008 | 0.129 | |
| num_cell_in_cluster_scExp | 0.554 | 0.004 | 0.552 | |
| num_cell_scExp | 0.896 | 0.028 | 0.923 | |
| peaks_to_bins | 10.272 | 3.965 | 5.455 | |
| plot_cluster_consensus_scExp | 0.625 | 0.004 | 0.629 | |
| plot_coverage_BigWig | 0.530 | 0.004 | 0.534 | |
| plot_differential_H1_scExp | 0.137 | 0.004 | 0.141 | |
| plot_differential_summary_scExp | 0.133 | 0.000 | 0.133 | |
| plot_differential_volcano_scExp | 0.200 | 0.008 | 0.208 | |
| plot_distribution_scExp | 0.415 | 0.020 | 0.435 | |
| plot_gain_or_loss_barplots | 53.550 | 0.240 | 53.791 | |
| plot_heatmap_scExp | 0.275 | 0.004 | 0.279 | |
| plot_inter_correlation_scExp | 0.536 | 0.000 | 0.536 | |
| plot_intra_correlation_scExp | 0.519 | 0.000 | 0.519 | |
| plot_most_contributing_features | 0.351 | 0.000 | 0.351 | |
| plot_pie_most_contributing_chr | 0.264 | 0.000 | 0.264 | |
| plot_reduced_dim_scExp | 1.966 | 0.016 | 1.982 | |
| plot_reduced_dim_scExp_CNA | 27.036 | 0.116 | 27.153 | |
| preprocess_CPM | 0.982 | 0.036 | 1.018 | |
| preprocess_RPKM | 1.034 | 0.032 | 1.066 | |
| preprocess_TFIDF | 0.995 | 0.040 | 1.035 | |
| preprocess_TPM | 1.013 | 0.020 | 1.034 | |
| preprocess_feature_size_only | 0.947 | 0.032 | 0.978 | |
| read_sparse_matrix | 0 | 0 | 0 | |
| reduce_dims_scExp | 3.505 | 0.004 | 3.509 | |
| scExp | 1.048 | 0.008 | 1.056 | |
| subsample_scExp | 1.347 | 0.008 | 1.354 | |
| subset_bam_call_peaks | 0.001 | 0.000 | 0.000 | |
| swapAltExp_sameColData | 0.262 | 0.016 | 0.278 | |
| table_enriched_genes_scExp | 0.134 | 0.000 | 0.135 | |
| wrapper_Signac_FeatureMatrix | 0 | 0 | 0 | |