| Back to Multiple platform build/check report for BioC 3.13 |
|
This page was generated on 2021-10-15 15:06:31 -0400 (Fri, 15 Oct 2021).
|
To the developers/maintainers of the ChIPpeakAnno package: - Please allow up to 24 hours (and sometimes 48 hours) for your latest push to git@git.bioconductor.org:packages/ChIPpeakAnno.git to reflect on this report. See How and When does the builder pull? When will my changes propagate? here for more information. - Make sure to use the following settings in order to reproduce any error or warning you see on this page. |
| Package 294/2041 | Hostname | OS / Arch | INSTALL | BUILD | CHECK | BUILD BIN | ||||||||
| ChIPpeakAnno 3.26.4 (landing page) Jianhong Ou
| nebbiolo1 | Linux (Ubuntu 20.04.2 LTS) / x86_64 | OK | OK | OK | |||||||||
| tokay2 | Windows Server 2012 R2 Standard / x64 | OK | OK | OK | OK | |||||||||
| machv2 | macOS 10.14.6 Mojave / x86_64 | OK | OK | OK | OK | |||||||||
| Package: ChIPpeakAnno |
| Version: 3.26.4 |
| Command: /Library/Frameworks/R.framework/Versions/Current/Resources/bin/R CMD build --keep-empty-dirs --no-resave-data ChIPpeakAnno |
| StartedAt: 2021-10-14 11:11:47 -0400 (Thu, 14 Oct 2021) |
| EndedAt: 2021-10-14 11:21:41 -0400 (Thu, 14 Oct 2021) |
| EllapsedTime: 593.9 seconds |
| RetCode: 0 |
| Status: OK |
| PackageFile: ChIPpeakAnno_3.26.4.tar.gz |
| PackageFileSize: 18.56 MiB |
############################################################################## ############################################################################## ### ### Running command: ### ### /Library/Frameworks/R.framework/Versions/Current/Resources/bin/R CMD build --keep-empty-dirs --no-resave-data ChIPpeakAnno ### ############################################################################## ############################################################################## * checking for file ‘ChIPpeakAnno/DESCRIPTION’ ... OK * preparing ‘ChIPpeakAnno’: * checking DESCRIPTION meta-information ... OK * installing the package to build vignettes * creating vignettes ... OK * checking for LF line-endings in source and make files and shell scripts * checking for empty or unneeded directories * building ‘ChIPpeakAnno_3.26.4.tar.gz’