| Back to Multiple platform build/check report for BioC 3.13 |
|
This page was generated on 2021-10-15 15:06:00 -0400 (Fri, 15 Oct 2021).
|
To the developers/maintainers of the ChIPexoQual package: - Please allow up to 24 hours (and sometimes 48 hours) for your latest push to git@git.bioconductor.org:packages/ChIPexoQual.git to reflect on this report. See How and When does the builder pull? When will my changes propagate? here for more information. - Make sure to use the following settings in order to reproduce any error or warning you see on this page. |
| Package 293/2041 | Hostname | OS / Arch | INSTALL | BUILD | CHECK | BUILD BIN | ||||||||
| ChIPexoQual 1.16.0 (landing page) Rene Welch
| nebbiolo1 | Linux (Ubuntu 20.04.2 LTS) / x86_64 | OK | OK | OK | |||||||||
| tokay2 | Windows Server 2012 R2 Standard / x64 | OK | OK | OK | OK | |||||||||
| machv2 | macOS 10.14.6 Mojave / x86_64 | OK | OK | OK | OK | |||||||||
| Package: ChIPexoQual |
| Version: 1.16.0 |
| Command: C:\cygwin\bin\curl.exe -O http://155.52.207.165/BBS/3.13/bioc/src/contrib/ChIPexoQual_1.16.0.tar.gz && rm -rf ChIPexoQual.buildbin-libdir && mkdir ChIPexoQual.buildbin-libdir && C:\Users\biocbuild\bbs-3.13-bioc\R\bin\R.exe CMD INSTALL --merge-multiarch --build --library=ChIPexoQual.buildbin-libdir ChIPexoQual_1.16.0.tar.gz && C:\Users\biocbuild\bbs-3.13-bioc\R\bin\R.exe CMD INSTALL ChIPexoQual_1.16.0.zip && rm ChIPexoQual_1.16.0.tar.gz ChIPexoQual_1.16.0.zip |
| StartedAt: 2021-10-14 10:51:00 -0400 (Thu, 14 Oct 2021) |
| EndedAt: 2021-10-14 10:52:20 -0400 (Thu, 14 Oct 2021) |
| EllapsedTime: 80.3 seconds |
| RetCode: 0 |
| Status: OK |
##############################################################################
##############################################################################
###
### Running command:
###
### C:\cygwin\bin\curl.exe -O http://155.52.207.165/BBS/3.13/bioc/src/contrib/ChIPexoQual_1.16.0.tar.gz && rm -rf ChIPexoQual.buildbin-libdir && mkdir ChIPexoQual.buildbin-libdir && C:\Users\biocbuild\bbs-3.13-bioc\R\bin\R.exe CMD INSTALL --merge-multiarch --build --library=ChIPexoQual.buildbin-libdir ChIPexoQual_1.16.0.tar.gz && C:\Users\biocbuild\bbs-3.13-bioc\R\bin\R.exe CMD INSTALL ChIPexoQual_1.16.0.zip && rm ChIPexoQual_1.16.0.tar.gz ChIPexoQual_1.16.0.zip
###
##############################################################################
##############################################################################
% Total % Received % Xferd Average Speed Time Time Time Current
Dload Upload Total Spent Left Speed
0 0 0 0 0 0 0 0 --:--:-- --:--:-- --:--:-- 0
52 2146k 52 1132k 0 0 1435k 0 0:00:01 --:--:-- 0:00:01 1435k
100 2146k 100 2146k 0 0 1743k 0 0:00:01 0:00:01 --:--:-- 1744k
install for i386
* installing *source* package 'ChIPexoQual' ...
** using staged installation
** R
** data
** inst
** byte-compile and prepare package for lazy loading
** help
*** installing help indices
converting help for package 'ChIPexoQual'
finding HTML links ... done
ARCvURCplot html
ExoData html
ExoDataBlacklist html
ExoDataSubsampling html
FSRDistplot html
MAplot html
beta1-methods html
beta2-methods html
blacklists html
calculateParamDist html
exoExample html
formatRegions html
nreads-methods html
paramDist-methods html
paramDistBoxplot html
regionCompplot html
** building package indices
** installing vignettes
** testing if installed package can be loaded from temporary location
** testing if installed package can be loaded from final location
** testing if installed package keeps a record of temporary installation path
install for x64
* installing *source* package 'ChIPexoQual' ...
** testing if installed package can be loaded
* MD5 sums
packaged installation of 'ChIPexoQual' as ChIPexoQual_1.16.0.zip
* DONE (ChIPexoQual)
* installing to library 'C:/Users/biocbuild/bbs-3.13-bioc/R/library'
package 'ChIPexoQual' successfully unpacked and MD5 sums checked