| Back to Multiple platform build/check report for BioC 3.13 |
|
This page was generated on 2021-10-15 15:05:37 -0400 (Fri, 15 Oct 2021).
|
To the developers/maintainers of the ChIPanalyser package: - Please allow up to 24 hours (and sometimes 48 hours) for your latest push to git@git.bioconductor.org:packages/ChIPanalyser.git to reflect on this report. See How and When does the builder pull? When will my changes propagate? here for more information. - Make sure to use the following settings in order to reproduce any error or warning you see on this page. |
| Package 290/2041 | Hostname | OS / Arch | INSTALL | BUILD | CHECK | BUILD BIN | ||||||||
| ChIPanalyser 1.14.0 (landing page) Patrick C.N. Martin
| nebbiolo1 | Linux (Ubuntu 20.04.2 LTS) / x86_64 | OK | OK | OK | |||||||||
| tokay2 | Windows Server 2012 R2 Standard / x64 | OK | OK | OK | OK | |||||||||
| machv2 | macOS 10.14.6 Mojave / x86_64 | OK | OK | OK | OK | |||||||||
| Package: ChIPanalyser |
| Version: 1.14.0 |
| Command: /home/biocbuild/bbs-3.13-bioc/R/bin/R CMD check --install=check:ChIPanalyser.install-out.txt --library=/home/biocbuild/bbs-3.13-bioc/R/library --no-vignettes --timings ChIPanalyser_1.14.0.tar.gz |
| StartedAt: 2021-10-14 09:13:24 -0400 (Thu, 14 Oct 2021) |
| EndedAt: 2021-10-14 09:16:58 -0400 (Thu, 14 Oct 2021) |
| EllapsedTime: 215.0 seconds |
| RetCode: 0 |
| Status: OK |
| CheckDir: ChIPanalyser.Rcheck |
| Warnings: 0 |
############################################################################## ############################################################################## ### ### Running command: ### ### /home/biocbuild/bbs-3.13-bioc/R/bin/R CMD check --install=check:ChIPanalyser.install-out.txt --library=/home/biocbuild/bbs-3.13-bioc/R/library --no-vignettes --timings ChIPanalyser_1.14.0.tar.gz ### ############################################################################## ############################################################################## * using log directory ‘/home/biocbuild/bbs-3.13-bioc/meat/ChIPanalyser.Rcheck’ * using R version 4.1.1 (2021-08-10) * using platform: x86_64-pc-linux-gnu (64-bit) * using session charset: UTF-8 * using option ‘--no-vignettes’ * checking for file ‘ChIPanalyser/DESCRIPTION’ ... OK * checking extension type ... Package * this is package ‘ChIPanalyser’ version ‘1.14.0’ * package encoding: UTF-8 * checking package namespace information ... OK * checking package dependencies ... OK * checking if this is a source package ... OK * checking if there is a namespace ... OK * checking for hidden files and directories ... OK * checking for portable file names ... OK * checking for sufficient/correct file permissions ... OK * checking whether package ‘ChIPanalyser’ can be installed ... OK * checking installed package size ... OK * checking package directory ... OK * checking ‘build’ directory ... OK * checking DESCRIPTION meta-information ... OK * checking top-level files ... OK * checking for left-over files ... OK * checking index information ... OK * checking package subdirectories ... OK * checking R files for non-ASCII characters ... OK * checking R files for syntax errors ... OK * checking whether the package can be loaded ... OK * checking whether the package can be loaded with stated dependencies ... OK * checking whether the package can be unloaded cleanly ... OK * checking whether the namespace can be loaded with stated dependencies ... OK * checking whether the namespace can be unloaded cleanly ... OK * checking dependencies in R code ... OK * checking S3 generic/method consistency ... OK * checking replacement functions ... OK * checking foreign function calls ... OK * checking R code for possible problems ... NOTE .methodSwitchGoF: no visible global function definition for ‘ks’ Undefined global functions or variables: ks * checking Rd files ... OK * checking Rd metadata ... OK * checking Rd cross-references ... OK * checking for missing documentation entries ... OK * checking for code/documentation mismatches ... OK * checking Rd \usage sections ... OK * checking Rd contents ... OK * checking for unstated dependencies in examples ... OK * checking contents of ‘data’ directory ... OK * checking data for non-ASCII characters ... OK * checking LazyData ... OK * checking data for ASCII and uncompressed saves ... OK * checking files in ‘vignettes’ ... OK * checking examples ... OK * checking for unstated dependencies in ‘tests’ ... OK * checking tests ... Running ‘runTests.R’ OK * checking for unstated dependencies in vignettes ... OK * checking package vignettes in ‘inst/doc’ ... OK * checking running R code from vignettes ... SKIPPED * checking re-building of vignette outputs ... SKIPPED * checking PDF version of manual ... OK * DONE Status: 1 NOTE See ‘/home/biocbuild/bbs-3.13-bioc/meat/ChIPanalyser.Rcheck/00check.log’ for details.
ChIPanalyser.Rcheck/00install.out
############################################################################## ############################################################################## ### ### Running command: ### ### /home/biocbuild/bbs-3.13-bioc/R/bin/R CMD INSTALL ChIPanalyser ### ############################################################################## ############################################################################## * installing to library ‘/home/biocbuild/bbs-3.13-bioc/R/library’ * installing *source* package ‘ChIPanalyser’ ... ** using staged installation ** R ** data *** moving datasets to lazyload DB ** inst ** byte-compile and prepare package for lazy loading Creating a new generic function for ‘drop’ in package ‘ChIPanalyser’ ** help *** installing help indices ** building package indices ** installing vignettes ** testing if installed package can be loaded from temporary location ** testing if installed package can be loaded from final location ** testing if installed package keeps a record of temporary installation path * DONE (ChIPanalyser)
ChIPanalyser.Rcheck/tests/runTests.Rout
R version 4.1.1 (2021-08-10) -- "Kick Things"
Copyright (C) 2021 The R Foundation for Statistical Computing
Platform: x86_64-pc-linux-gnu (64-bit)
R is free software and comes with ABSOLUTELY NO WARRANTY.
You are welcome to redistribute it under certain conditions.
Type 'license()' or 'licence()' for distribution details.
R is a collaborative project with many contributors.
Type 'contributors()' for more information and
'citation()' on how to cite R or R packages in publications.
Type 'demo()' for some demos, 'help()' for on-line help, or
'help.start()' for an HTML browser interface to help.
Type 'q()' to quit R.
> BiocGenerics:::testPackage("ChIPanalyser")
Attaching package: 'BiocGenerics'
The following objects are masked from 'package:parallel':
clusterApply, clusterApplyLB, clusterCall, clusterEvalQ,
clusterExport, clusterMap, parApply, parCapply, parLapply,
parLapplyLB, parRapply, parSapply, parSapplyLB
The following objects are masked from 'package:stats':
IQR, mad, sd, var, xtabs
The following objects are masked from 'package:base':
Filter, Find, Map, Position, Reduce, anyDuplicated, append,
as.data.frame, basename, cbind, colnames, dirname, do.call,
duplicated, eval, evalq, get, grep, grepl, intersect, is.unsorted,
lapply, mapply, match, mget, order, paste, pmax, pmax.int, pmin,
pmin.int, rank, rbind, rownames, sapply, setdiff, sort, table,
tapply, union, unique, unsplit, which.max, which.min
Attaching package: 'S4Vectors'
The following objects are masked from 'package:base':
I, expand.grid, unname
Attaching package: 'Biostrings'
The following object is masked from 'package:base':
strsplit
Attaching package: 'ChIPanalyser'
The following object is masked from 'package:IRanges':
drop
The following object is masked from 'package:base':
drop
Loading required package: BSgenome.Dmelanogaster.UCSC.dm3
RUNIT TEST PROTOCOL -- Thu Oct 14 09:16:54 2021
***********************************************
Number of test functions: 0
Number of errors: 0
Number of failures: 0
1 Test Suite :
ChIPanalyser RUnit Tests - 0 test functions, 0 errors, 0 failures
Number of test functions: 0
Number of errors: 0
Number of failures: 0
>
> proc.time()
user system elapsed
13.280 0.544 13.820
ChIPanalyser.Rcheck/ChIPanalyser-Ex.timings
| name | user | system | elapsed | |
| BPFrequency | 0.118 | 0.032 | 0.149 | |
| BPFrequency_- | 0.000 | 0.002 | 0.002 | |
| ChIPScore-class | 0.001 | 0.000 | 0.002 | |
| ChIPanalyser-package | 0.001 | 0.001 | 0.000 | |
| DNASequenceLength | 0.002 | 0.000 | 0.002 | |
| GRList-class | 0.001 | 0.000 | 0.000 | |
| PFMFormat | 0.148 | 0.015 | 0.164 | |
| PFMFormat_ | 0.037 | 0.012 | 0.050 | |
| PWMThreshold | 0.007 | 0.003 | 0.010 | |
| PWMThreshold_- | 0.01 | 0.00 | 0.01 | |
| PWMpseudocount | 0.002 | 0.007 | 0.010 | |
| PWMpseudocount_- | 0.010 | 0.001 | 0.010 | |
| PositionFrequencyMatrix | 0.045 | 0.003 | 0.048 | |
| PositionFrequencyMatrix_- | 0.017 | 0.001 | 0.017 | |
| PositionWeightMatrix | 0.044 | 0.003 | 0.047 | |
| PositionWeightMatrix_- | 0.009 | 0.004 | 0.013 | |
| averageExpPWMScore | 0.035 | 0.011 | 0.048 | |
| backgroundSignal | 0.009 | 0.000 | 0.009 | |
| backgroundSignal_- | 0.006 | 0.011 | 0.018 | |
| boundMolecules | 0.008 | 0.000 | 0.009 | |
| boundMolecules_- | 0.029 | 0.011 | 0.040 | |
| chipMean | 0.007 | 0.000 | 0.008 | |
| chipMean_- | 0.007 | 0.000 | 0.007 | |
| chipSd | 0.007 | 0.000 | 0.007 | |
| chipSd_- | 0.007 | 0.000 | 0.007 | |
| chipSmooth | 0.007 | 0.000 | 0.007 | |
| chipSmooth_- | 0.007 | 0.000 | 0.007 | |
| computeChIPProfile | 0.002 | 0.001 | 0.002 | |
| computeGenomeWideScores | 0 | 0 | 0 | |
| computeOccupancy | 0.000 | 0.002 | 0.001 | |
| computeOptimal | 0.001 | 0.000 | 0.002 | |
| computePWMScore | 0.001 | 0.000 | 0.002 | |
| data | 0.001 | 0.000 | 0.001 | |
| drop | 0.040 | 0.000 | 0.041 | |
| genomicProfiles-class | 0.002 | 0.000 | 0.001 | |
| genomicProfiles | 0.058 | 0.000 | 0.058 | |
| genomicProfilesInternal-class | 0.000 | 0.002 | 0.001 | |
| lambdaPWM | 0.004 | 0.006 | 0.009 | |
| lambdaPWM_ | 0.006 | 0.003 | 0.009 | |
| loci-class | 0.001 | 0.000 | 0.000 | |
| loci | 2.279 | 0.055 | 2.336 | |
| lociWidth | 0.008 | 0.000 | 0.008 | |
| lociWidth_ | 0.008 | 0.000 | 0.008 | |
| maxPWMScore | 0.002 | 0.000 | 0.002 | |
| maxSignal | 0.007 | 0.000 | 0.006 | |
| maxSignal_- | 0.007 | 0.001 | 0.007 | |
| minPWMScore | 0.000 | 0.003 | 0.002 | |
| naturalLog | 0.007 | 0.000 | 0.008 | |
| naturalLog_- | 0.008 | 0.000 | 0.008 | |
| noOfSites | 0.008 | 0.000 | 0.008 | |
| noOfSites_- | 0.008 | 0.000 | 0.008 | |
| noiseFilter | 0.007 | 0.000 | 0.008 | |
| noiseFilter_ | 0.004 | 0.004 | 0.008 | |
| nos-class | 0.001 | 0.000 | 0.000 | |
| parameterOptions-class | 0.001 | 0.000 | 0.002 | |
| parameterOptions | 0.006 | 0.008 | 0.015 | |
| ploidy | 0.007 | 0.000 | 0.007 | |
| ploidy_- | 0.006 | 0.000 | 0.007 | |
| plotOccupancyProfile | 0.002 | 0.000 | 0.002 | |
| plotOptimalHeatMaps | 0.000 | 0.001 | 0.002 | |
| processingChIP | 1.207 | 0.017 | 1.225 | |
| profileAccuracyEstimate | 0.002 | 0.000 | 0.002 | |
| removeBackground | 0.007 | 0.000 | 0.007 | |
| removeBackground_- | 0.008 | 0.000 | 0.007 | |
| scores | 1.076 | 0.016 | 1.092 | |
| searchSites | 0.000 | 0.002 | 0.002 | |
| stepSize | 0.007 | 0.000 | 0.007 | |
| stepSize_- | 0.007 | 0.000 | 0.007 | |
| strandRule | 0.008 | 0.000 | 0.008 | |
| strandRule_- | 0.008 | 0.000 | 0.008 | |
| whichstrand | 0.004 | 0.004 | 0.008 | |
| whichstrand_- | 0.008 | 0.000 | 0.008 | |