| Back to Multiple platform build/check report for BioC 3.13 |
|
This page was generated on 2021-10-15 15:06:00 -0400 (Fri, 15 Oct 2021).
|
To the developers/maintainers of the ChIPQC package: - Please allow up to 24 hours (and sometimes 48 hours) for your latest push to git@git.bioconductor.org:packages/ChIPQC.git to reflect on this report. See How and When does the builder pull? When will my changes propagate? here for more information. - Make sure to use the following settings in order to reproduce any error or warning you see on this page. |
| Package 295/2041 | Hostname | OS / Arch | INSTALL | BUILD | CHECK | BUILD BIN | ||||||||
| ChIPQC 1.28.0 (landing page) Tom Carroll
| nebbiolo1 | Linux (Ubuntu 20.04.2 LTS) / x86_64 | OK | OK | WARNINGS | |||||||||
| tokay2 | Windows Server 2012 R2 Standard / x64 | OK | OK | WARNINGS | OK | |||||||||
| machv2 | macOS 10.14.6 Mojave / x86_64 | OK | OK | WARNINGS | OK | |||||||||
| Package: ChIPQC |
| Version: 1.28.0 |
| Command: C:\cygwin\bin\curl.exe -O http://155.52.207.165/BBS/3.13/bioc/src/contrib/ChIPQC_1.28.0.tar.gz && rm -rf ChIPQC.buildbin-libdir && mkdir ChIPQC.buildbin-libdir && C:\Users\biocbuild\bbs-3.13-bioc\R\bin\R.exe CMD INSTALL --merge-multiarch --build --library=ChIPQC.buildbin-libdir ChIPQC_1.28.0.tar.gz && C:\Users\biocbuild\bbs-3.13-bioc\R\bin\R.exe CMD INSTALL ChIPQC_1.28.0.zip && rm ChIPQC_1.28.0.tar.gz ChIPQC_1.28.0.zip |
| StartedAt: 2021-10-14 10:45:52 -0400 (Thu, 14 Oct 2021) |
| EndedAt: 2021-10-14 10:49:12 -0400 (Thu, 14 Oct 2021) |
| EllapsedTime: 200.7 seconds |
| RetCode: 0 |
| Status: OK |
##############################################################################
##############################################################################
###
### Running command:
###
### C:\cygwin\bin\curl.exe -O http://155.52.207.165/BBS/3.13/bioc/src/contrib/ChIPQC_1.28.0.tar.gz && rm -rf ChIPQC.buildbin-libdir && mkdir ChIPQC.buildbin-libdir && C:\Users\biocbuild\bbs-3.13-bioc\R\bin\R.exe CMD INSTALL --merge-multiarch --build --library=ChIPQC.buildbin-libdir ChIPQC_1.28.0.tar.gz && C:\Users\biocbuild\bbs-3.13-bioc\R\bin\R.exe CMD INSTALL ChIPQC_1.28.0.zip && rm ChIPQC_1.28.0.tar.gz ChIPQC_1.28.0.zip
###
##############################################################################
##############################################################################
% Total % Received % Xferd Average Speed Time Time Time Current
Dload Upload Total Spent Left Speed
0 0 0 0 0 0 0 0 --:--:-- --:--:-- --:--:-- 0
14 1074k 14 154k 0 0 721k 0 0:00:01 --:--:-- 0:00:01 719k
100 1074k 100 1074k 0 0 1511k 0 --:--:-- --:--:-- --:--:-- 1511k
install for i386
* installing *source* package 'ChIPQC' ...
** using staged installation
** R
** data
** inst
** byte-compile and prepare package for lazy loading
** help
*** installing help indices
converting help for package 'ChIPQC'
finding HTML links ... done
ChIPQC-data html
finding level-2 HTML links ... done
ChIPQC-package html
ChIPQC html
ChIPQCexperiment-class html
ChIPQCreport html
ChIPQCsample-class html
FragmentLengthCrossCoverage-methods html
Normalisedaveragepeaksignal-methods html
QCannotation-methods html
QCcontrol-methods html
QCdba-methods html
QCmetadata-methods html
QCmetrics-methods html
QCsample-methods html
ReadLengthCrossCoverage-methods html
RelativeCrossCoverage-methods html
averagepeaksignal-methods html
coveragehistogram-methods html
crosscoverage-methods html
duplicateRate-methods html
duplicates-methods html
flagtagcounts-methods html
fragmentlength-methods html
frip-methods html
mapped-methods html
peaks-methods html
plotCC-methods html
plotCorHeatmap-methods html
plotCoverageHist-methods html
plotFribl-methods html
plotFrip-methods html
plotPeakProfile-methods html
plotPrincomp-methods html
plotRap-methods html
plotRegi-methods html
plotSSD-methods html
readlength-methods html
reads-methods html
regi-methods html
ribl-methods html
rip-methods html
ssd-methods html
** building package indices
** installing vignettes
'ChIPQC.Rnw'
** testing if installed package can be loaded from temporary location
** testing if installed package can be loaded from final location
** testing if installed package keeps a record of temporary installation path
install for x64
* installing *source* package 'ChIPQC' ...
** testing if installed package can be loaded
* MD5 sums
packaged installation of 'ChIPQC' as ChIPQC_1.28.0.zip
* DONE (ChIPQC)
* installing to library 'C:/Users/biocbuild/bbs-3.13-bioc/R/library'
package 'ChIPQC' successfully unpacked and MD5 sums checked