| Back to Multiple platform build/check report for BioC 3.13 | 
 | 
This page was generated on 2021-10-15 15:05:59 -0400 (Fri, 15 Oct 2021).
| To the developers/maintainers of the CelliD package: - Please allow up to 24 hours (and sometimes 48 hours) for your latest push to git@git.bioconductor.org:packages/CelliD.git to reflect on this report. See How and When does the builder pull? When will my changes propagate? here for more information. - Make sure to use the following settings in order to reproduce any error or warning you see on this page. | 
| Package 261/2041 | Hostname | OS / Arch | INSTALL | BUILD | CHECK | BUILD BIN | ||||||||
| CelliD 1.0.0  (landing page) Akira Cortal 
 | nebbiolo1 | Linux (Ubuntu 20.04.2 LTS) / x86_64 | OK | OK | OK |  | ||||||||
| tokay2 | Windows Server 2012 R2 Standard / x64 | OK | OK | OK | OK |  | ||||||||
| machv2 | macOS 10.14.6 Mojave / x86_64 | OK | OK | OK | OK |  | ||||||||
| Package: CelliD | 
| Version: 1.0.0 | 
| Command: rm -rf CelliD.buildbin-libdir && mkdir CelliD.buildbin-libdir && C:\Users\biocbuild\bbs-3.13-bioc\R\bin\R.exe CMD INSTALL --merge-multiarch --build --library=CelliD.buildbin-libdir CelliD_1.0.0.tar.gz | 
| StartedAt: 2021-10-15 08:27:30 -0400 (Fri, 15 Oct 2021) | 
| EndedAt: 2021-10-15 08:30:31 -0400 (Fri, 15 Oct 2021) | 
| EllapsedTime: 181.5 seconds | 
| RetCode: 0 | 
| Status: OK | 
| PackageFile: CelliD_1.0.0.zip | 
| PackageFileSize: 2.357 MiB | 
##############################################################################
##############################################################################
###
### Running command:
###
###   rm -rf CelliD.buildbin-libdir && mkdir CelliD.buildbin-libdir && C:\Users\biocbuild\bbs-3.13-bioc\R\bin\R.exe CMD INSTALL --merge-multiarch --build --library=CelliD.buildbin-libdir CelliD_1.0.0.tar.gz
###
##############################################################################
##############################################################################
install for i386
* installing *source* package 'CelliD' ...
** using staged installation
** libs
"C:/rtools40/mingw32/bin/"g++  -std=gnu++11 -I"C:/Users/BIOCBU~1/BBS-3~1.13-/R/include" -DNDEBUG  -I'C:/Users/biocbuild/bbs-3.13-bioc/R/library/Rcpp/include' -I'C:/Users/biocbuild/bbs-3.13-bioc/R/library/RcppArmadillo/include'   -I"c:/extsoft/include"  -fopenmp    -O2 -Wall  -mfpmath=sse -msse2 -mstackrealign  -c RcppExports.cpp -o RcppExports.o
"C:/rtools40/mingw32/bin/"g++  -std=gnu++11 -I"C:/Users/BIOCBU~1/BBS-3~1.13-/R/include" -DNDEBUG  -I'C:/Users/biocbuild/bbs-3.13-bioc/R/library/Rcpp/include' -I'C:/Users/biocbuild/bbs-3.13-bioc/R/library/RcppArmadillo/include'   -I"c:/extsoft/include"  -fopenmp    -O2 -Wall  -mfpmath=sse -msse2 -mstackrealign  -c dist.cpp -o dist.o
"C:/rtools40/mingw32/bin/"g++  -std=gnu++11 -I"C:/Users/BIOCBU~1/BBS-3~1.13-/R/include" -DNDEBUG  -I'C:/Users/biocbuild/bbs-3.13-bioc/R/library/Rcpp/include' -I'C:/Users/biocbuild/bbs-3.13-bioc/R/library/RcppArmadillo/include'   -I"c:/extsoft/include"  -fopenmp    -O2 -Wall  -mfpmath=sse -msse2 -mstackrealign  -c mca.cpp -o mca.o
"C:/rtools40/mingw32/bin/"g++  -std=gnu++11 -I"C:/Users/BIOCBU~1/BBS-3~1.13-/R/include" -DNDEBUG  -I'C:/Users/biocbuild/bbs-3.13-bioc/R/library/Rcpp/include' -I'C:/Users/biocbuild/bbs-3.13-bioc/R/library/RcppArmadillo/include'   -I"c:/extsoft/include"  -fopenmp    -O2 -Wall  -mfpmath=sse -msse2 -mstackrealign  -c order.cpp -o order.o
order.cpp: In function 'Rcpp::NumericMatrix fastOrder(Rcpp::NumericMatrix, Rcpp::NumericMatrix)':
order.cpp:21:22: warning: comparison of integer expressions of different signedness: 'int' and 'const uword' {aka 'const unsigned int'} [-Wsign-compare]
     for(int a = 0; a < C.n_cols; a = a + 1 ) {
                    ~~^~~~~~~~~~
C:/rtools40/mingw32/bin/g++ -shared -s -static-libgcc -o CelliD.dll tmp.def RcppExports.o dist.o mca.o order.o -fopenmp -LC:/Users/BIOCBU~1/BBS-3~1.13-/R/bin/i386 -lRlapack -LC:/Users/BIOCBU~1/BBS-3~1.13-/R/bin/i386 -lRblas -lgfortran -lm -lquadmath -Lc:/extsoft/lib/i386 -Lc:/extsoft/lib -LC:/Users/BIOCBU~1/BBS-3~1.13-/R/bin/i386 -lR
installing to C:/Users/biocbuild/bbs-3.13-bioc/meat/CelliD.buildbin-libdir/00LOCK-CelliD/00new/CelliD/libs/i386
** R
** data
*** moving datasets to lazyload DB
** inst
** byte-compile and prepare package for lazy loading
** help
*** installing help indices
  converting help for package 'CelliD'
    finding HTML links ... done
    DimPlotMC                               html  
    DistSort                                html  
    GetCellGeneDistance                     html  
    GetCellGeneRanking                      html  
    GetCellGeneSet                          html  
    GetGSEAMatrix                           html  
    GetGeneCellCoordinates                  html  
    GetGroupCoordinates                     html  
    GetGroupGeneDistance                    html  
    GetGroupGeneRanking                     html  
    GetGroupGeneSet                         html  
    Hallmark                                html  
    HgProteinCodingGenes                    html  
    MgProteinCodingGenes                    html  
    RunCellGSEA                             html  
    RunCellHGT                              html  
    RunGroupGSEA                            html  
    RunMCA                                  html  
    RunMCDMAP                               html  
    RunMCTSNE                               html  
    RunMCUMAP                               html  
    cellID-package                          html  
    checkCelliDArg                          html  
    fgseaCelliD                             html  
    import                                  html  
    pairDist                                html  
    plotReducedDimMC                        html  
    setDimMCSlot                            html  
    seuratPbmc                              html  
** building package indices
** installing vignettes
** testing if installed package can be loaded from temporary location
** testing if installed package can be loaded from final location
** testing if installed package keeps a record of temporary installation path
install for x64
* installing *source* package 'CelliD' ...
** libs
"C:/rtools40/mingw64/bin/"g++  -std=gnu++11 -I"C:/Users/BIOCBU~1/BBS-3~1.13-/R/include" -DNDEBUG  -I'C:/Users/biocbuild/bbs-3.13-bioc/R/library/Rcpp/include' -I'C:/Users/biocbuild/bbs-3.13-bioc/R/library/RcppArmadillo/include'   -I"C:/extsoft/include"  -fopenmp    -O2 -Wall  -mfpmath=sse -msse2 -mstackrealign  -c RcppExports.cpp -o RcppExports.o
"C:/rtools40/mingw64/bin/"g++  -std=gnu++11 -I"C:/Users/BIOCBU~1/BBS-3~1.13-/R/include" -DNDEBUG  -I'C:/Users/biocbuild/bbs-3.13-bioc/R/library/Rcpp/include' -I'C:/Users/biocbuild/bbs-3.13-bioc/R/library/RcppArmadillo/include'   -I"C:/extsoft/include"  -fopenmp    -O2 -Wall  -mfpmath=sse -msse2 -mstackrealign  -c dist.cpp -o dist.o
"C:/rtools40/mingw64/bin/"g++  -std=gnu++11 -I"C:/Users/BIOCBU~1/BBS-3~1.13-/R/include" -DNDEBUG  -I'C:/Users/biocbuild/bbs-3.13-bioc/R/library/Rcpp/include' -I'C:/Users/biocbuild/bbs-3.13-bioc/R/library/RcppArmadillo/include'   -I"C:/extsoft/include"  -fopenmp    -O2 -Wall  -mfpmath=sse -msse2 -mstackrealign  -c mca.cpp -o mca.o
"C:/rtools40/mingw64/bin/"g++  -std=gnu++11 -I"C:/Users/BIOCBU~1/BBS-3~1.13-/R/include" -DNDEBUG  -I'C:/Users/biocbuild/bbs-3.13-bioc/R/library/Rcpp/include' -I'C:/Users/biocbuild/bbs-3.13-bioc/R/library/RcppArmadillo/include'   -I"C:/extsoft/include"  -fopenmp    -O2 -Wall  -mfpmath=sse -msse2 -mstackrealign  -c order.cpp -o order.o
order.cpp: In function 'Rcpp::NumericMatrix fastOrder(Rcpp::NumericMatrix, Rcpp::NumericMatrix)':
order.cpp:21:22: warning: comparison of integer expressions of different signedness: 'int' and 'const uword' {aka 'const unsigned int'} [-Wsign-compare]
     for(int a = 0; a < C.n_cols; a = a + 1 ) {
                    ~~^~~~~~~~~~
C:/rtools40/mingw64/bin/g++ -shared -s -static-libgcc -o CelliD.dll tmp.def RcppExports.o dist.o mca.o order.o -fopenmp -LC:/Users/BIOCBU~1/BBS-3~1.13-/R/bin/x64 -lRlapack -LC:/Users/BIOCBU~1/BBS-3~1.13-/R/bin/x64 -lRblas -lgfortran -lm -lquadmath -LC:/extsoft/lib/x64 -LC:/extsoft/lib -LC:/Users/BIOCBU~1/BBS-3~1.13-/R/bin/x64 -lR
installing to C:/Users/biocbuild/bbs-3.13-bioc/meat/CelliD.buildbin-libdir/CelliD/libs/x64
** testing if installed package can be loaded
* MD5 sums
packaged installation of 'CelliD' as CelliD_1.0.0.zip
* DONE (CelliD)