Back to Multiple platform build/check report for BioC 3.13 |
|
This page was generated on 2021-10-15 15:06:00 -0400 (Fri, 15 Oct 2021).
To the developers/maintainers of the CellMixS package: - Please allow up to 24 hours (and sometimes 48 hours) for your latest push to git@git.bioconductor.org:packages/CellMixS.git to reflect on this report. See How and When does the builder pull? When will my changes propagate? here for more information. - Make sure to use the following settings in order to reproduce any error or warning you see on this page. |
Package 265/2041 | Hostname | OS / Arch | INSTALL | BUILD | CHECK | BUILD BIN | ||||||||
CellMixS 1.8.0 (landing page) Almut Lütge
| nebbiolo1 | Linux (Ubuntu 20.04.2 LTS) / x86_64 | OK | OK | OK | ![]() | ||||||||
tokay2 | Windows Server 2012 R2 Standard / x64 | OK | OK | OK | OK | ![]() | ||||||||
machv2 | macOS 10.14.6 Mojave / x86_64 | OK | OK | OK | OK | ![]() | ||||||||
Package: CellMixS |
Version: 1.8.0 |
Command: C:\cygwin\bin\curl.exe -O http://155.52.207.165/BBS/3.13/bioc/src/contrib/CellMixS_1.8.0.tar.gz && rm -rf CellMixS.buildbin-libdir && mkdir CellMixS.buildbin-libdir && C:\Users\biocbuild\bbs-3.13-bioc\R\bin\R.exe CMD INSTALL --merge-multiarch --build --library=CellMixS.buildbin-libdir CellMixS_1.8.0.tar.gz && C:\Users\biocbuild\bbs-3.13-bioc\R\bin\R.exe CMD INSTALL CellMixS_1.8.0.zip && rm CellMixS_1.8.0.tar.gz CellMixS_1.8.0.zip |
StartedAt: 2021-10-14 09:28:56 -0400 (Thu, 14 Oct 2021) |
EndedAt: 2021-10-14 09:29:46 -0400 (Thu, 14 Oct 2021) |
EllapsedTime: 49.8 seconds |
RetCode: 0 |
Status: OK |
############################################################################## ############################################################################## ### ### Running command: ### ### C:\cygwin\bin\curl.exe -O http://155.52.207.165/BBS/3.13/bioc/src/contrib/CellMixS_1.8.0.tar.gz && rm -rf CellMixS.buildbin-libdir && mkdir CellMixS.buildbin-libdir && C:\Users\biocbuild\bbs-3.13-bioc\R\bin\R.exe CMD INSTALL --merge-multiarch --build --library=CellMixS.buildbin-libdir CellMixS_1.8.0.tar.gz && C:\Users\biocbuild\bbs-3.13-bioc\R\bin\R.exe CMD INSTALL CellMixS_1.8.0.zip && rm CellMixS_1.8.0.tar.gz CellMixS_1.8.0.zip ### ############################################################################## ############################################################################## % Total % Received % Xferd Average Speed Time Time Time Current Dload Upload Total Spent Left Speed 0 0 0 0 0 0 0 0 --:--:-- --:--:-- --:--:-- 0 51 1451k 51 751k 0 0 1928k 0 --:--:-- --:--:-- --:--:-- 1926k 100 1451k 100 1451k 0 0 2392k 0 --:--:-- --:--:-- --:--:-- 2391k install for i386 * installing *source* package 'CellMixS' ... ** using staged installation ** R ** inst ** byte-compile and prepare package for lazy loading ** help *** installing help indices converting help for package 'CellMixS' finding HTML links ... done CellMixS-package html cms html finding level-2 HTML links ... done dot-cmsCell html dot-defineSubspace html dot-filterKnn html dot-filterLocMin html dot-ldfKnn html dot-smoothCms html entropy html evalIntegration html isi html ldfDiff html ldfSce html locStructure html mixMetric html visCluster html visGroup html visHist html visIntegration html visMetric html visOverview html ** building package indices ** installing vignettes ** testing if installed package can be loaded from temporary location ** testing if installed package can be loaded from final location ** testing if installed package keeps a record of temporary installation path install for x64 * installing *source* package 'CellMixS' ... ** testing if installed package can be loaded * MD5 sums packaged installation of 'CellMixS' as CellMixS_1.8.0.zip * DONE (CellMixS) * installing to library 'C:/Users/biocbuild/bbs-3.13-bioc/R/library' package 'CellMixS' successfully unpacked and MD5 sums checked