| Back to Multiple platform build/check report for BioC 3.13 |
|
This page was generated on 2021-10-15 15:05:36 -0400 (Fri, 15 Oct 2021).
|
To the developers/maintainers of the CausalR package: - Please allow up to 24 hours (and sometimes 48 hours) for your latest push to git@git.bioconductor.org:packages/CausalR.git to reflect on this report. See How and When does the builder pull? When will my changes propagate? here for more information. - Make sure to use the following settings in order to reproduce any error or warning you see on this page. |
| Package 247/2041 | Hostname | OS / Arch | INSTALL | BUILD | CHECK | BUILD BIN | ||||||||
| CausalR 1.24.0 (landing page) Glyn Bradley
| nebbiolo1 | Linux (Ubuntu 20.04.2 LTS) / x86_64 | OK | OK | OK | |||||||||
| tokay2 | Windows Server 2012 R2 Standard / x64 | OK | OK | OK | OK | |||||||||
| machv2 | macOS 10.14.6 Mojave / x86_64 | OK | OK | OK | OK | |||||||||
| Package: CausalR |
| Version: 1.24.0 |
| Command: /home/biocbuild/bbs-3.13-bioc/R/bin/R CMD check --install=check:CausalR.install-out.txt --library=/home/biocbuild/bbs-3.13-bioc/R/library --no-vignettes --timings CausalR_1.24.0.tar.gz |
| StartedAt: 2021-10-14 09:09:06 -0400 (Thu, 14 Oct 2021) |
| EndedAt: 2021-10-14 09:09:32 -0400 (Thu, 14 Oct 2021) |
| EllapsedTime: 26.3 seconds |
| RetCode: 0 |
| Status: OK |
| CheckDir: CausalR.Rcheck |
| Warnings: 0 |
############################################################################## ############################################################################## ### ### Running command: ### ### /home/biocbuild/bbs-3.13-bioc/R/bin/R CMD check --install=check:CausalR.install-out.txt --library=/home/biocbuild/bbs-3.13-bioc/R/library --no-vignettes --timings CausalR_1.24.0.tar.gz ### ############################################################################## ############################################################################## * using log directory ‘/home/biocbuild/bbs-3.13-bioc/meat/CausalR.Rcheck’ * using R version 4.1.1 (2021-08-10) * using platform: x86_64-pc-linux-gnu (64-bit) * using session charset: UTF-8 * using option ‘--no-vignettes’ * checking for file ‘CausalR/DESCRIPTION’ ... OK * checking extension type ... Package * this is package ‘CausalR’ version ‘1.24.0’ * checking package namespace information ... OK * checking package dependencies ... OK * checking if this is a source package ... OK * checking if there is a namespace ... OK * checking for hidden files and directories ... OK * checking for portable file names ... OK * checking for sufficient/correct file permissions ... OK * checking whether package ‘CausalR’ can be installed ... OK * checking installed package size ... OK * checking package directory ... OK * checking ‘build’ directory ... OK * checking DESCRIPTION meta-information ... OK * checking top-level files ... OK * checking for left-over files ... OK * checking index information ... OK * checking package subdirectories ... OK * checking R files for non-ASCII characters ... OK * checking R files for syntax errors ... OK * checking whether the package can be loaded ... OK * checking whether the package can be loaded with stated dependencies ... OK * checking whether the package can be unloaded cleanly ... OK * checking whether the namespace can be loaded with stated dependencies ... OK * checking whether the namespace can be unloaded cleanly ... OK * checking dependencies in R code ... OK * checking S3 generic/method consistency ... OK * checking replacement functions ... OK * checking foreign function calls ... OK * checking R code for possible problems ... OK * checking Rd files ... OK * checking Rd metadata ... OK * checking Rd cross-references ... OK * checking for missing documentation entries ... OK * checking for code/documentation mismatches ... OK * checking Rd \usage sections ... OK * checking Rd contents ... OK * checking for unstated dependencies in examples ... OK * checking files in ‘vignettes’ ... NOTE The following directory looks like a leftover from 'knitr': ‘figure’ Please remove from your package. * checking examples ... OK * checking for unstated dependencies in ‘tests’ ... OK * checking tests ... Running ‘runTests.R’ OK * checking for unstated dependencies in vignettes ... OK * checking package vignettes in ‘inst/doc’ ... OK * checking running R code from vignettes ... SKIPPED * checking re-building of vignette outputs ... SKIPPED * checking PDF version of manual ... OK * DONE Status: 1 NOTE See ‘/home/biocbuild/bbs-3.13-bioc/meat/CausalR.Rcheck/00check.log’ for details.
CausalR.Rcheck/00install.out
############################################################################## ############################################################################## ### ### Running command: ### ### /home/biocbuild/bbs-3.13-bioc/R/bin/R CMD INSTALL CausalR ### ############################################################################## ############################################################################## * installing to library ‘/home/biocbuild/bbs-3.13-bioc/R/library’ * installing *source* package ‘CausalR’ ... ** using staged installation ** R ** inst ** byte-compile and prepare package for lazy loading ** help *** installing help indices ** building package indices ** installing vignettes ** testing if installed package can be loaded from temporary location ** testing if installed package can be loaded from final location ** testing if installed package keeps a record of temporary installation path * DONE (CausalR)
CausalR.Rcheck/tests/runTests.Rout
R version 4.1.1 (2021-08-10) -- "Kick Things"
Copyright (C) 2021 The R Foundation for Statistical Computing
Platform: x86_64-pc-linux-gnu (64-bit)
R is free software and comes with ABSOLUTELY NO WARRANTY.
You are welcome to redistribute it under certain conditions.
Type 'license()' or 'licence()' for distribution details.
R is a collaborative project with many contributors.
Type 'contributors()' for more information and
'citation()' on how to cite R or R packages in publications.
Type 'demo()' for some demos, 'help()' for on-line help, or
'help.start()' for an HTML browser interface to help.
Type 'q()' to quit R.
> # Make sure that the igraph package has been loaded
>
> library(igraph)
Attaching package: 'igraph'
The following objects are masked from 'package:stats':
decompose, spectrum
The following object is masked from 'package:base':
union
>
> BiocGenerics:::testPackage("CausalR")
[1] "File read complete - read in 3 lines. Now constructing network"
[1] "Network has been created - now adding edge properties"
[1] "Added weights to edges"
[1] "File read complete - read in 2 lines. Now constructing network"
[1] "Network has been created - now adding edge properties"
[1] "Added weights to edges"
[1] "File read complete - read in 2 lines. Now constructing network"
[1] "Network has been created - now adding edge properties"
[1] "Added weights to edges"
[1] "File read complete - read in 4 lines. Now constructing network"
[1] "Network has been created - now adding edge properties"
[1] "Added weights to edges"
[1] "File read complete - read in 4 lines. Now constructing network"
[1] "Network has been created - now adding edge properties"
[1] "Added weights to edges"
[1] "The values in the second column do not match what is expected. They should be (+)1, 0 or -1"
[1] "The experimental data read in didn't have two columns"
Number of Nodes to analyse: 3
Number of Nodes to analyse: 1
Number of Nodes to analyse: 1
Number of Nodes to analyse: 3
Number of Nodes to analyse: 3
Number of Nodes to analyse: 3
Number of Nodes to analyse: 3
Number of Nodes to analyse: 3
Number of Nodes to analyse: 3
Number of Nodes to analyse: 3
Number of Nodes to analyse: 3
Number of Nodes to analyse: 3
Number of Nodes to analyse: 3
Number of Nodes to analyse: 3
Number of Nodes to analyse: 1
Number of Nodes to analyse: 1
Number of Nodes to analyse: 1
Number of Nodes to analyse: 1
Number of Nodes to analyse: 2
Number of Nodes to analyse: 2
Number of Nodes to analyse: 1
Number of Nodes to analyse: 1
Number of Nodes to analyse: 1
Number of Nodes to analyse: 1
Number of Nodes to analyse: 2
Number of Nodes to analyse: 2
Number of Nodes to analyse: 2
Number of Nodes to analyse: 2
Number of Nodes to analyse: 1
Number of Nodes to analyse: 1
Number of Nodes to analyse: 1
Number of Nodes to analyse: 1
Number of Nodes to analyse: 3
Number of Nodes to analyse: 3
[1] "File read complete - read in 2 lines. Now constructing network"
[1] "Network has been created - now adding edge properties"
[1] "Added weights to edges"
Writing sif file to: /tmp/RtmpaRoNDv-612193598/corExplainedNodes-file3f35ff48c4829f.sif
Writing annotation file to: /tmp/RtmpaRoNDv-612193598/corExplainedNodes-file3f35ff48c4829f_anno.txt
corExplainedNodes
Node0 Activates Node1
Node0 Inhibits Node2
Node1 Activates Node3
Node2 Activates Node6
Node2 Activates Node7
Writing sif file to: /tmp/RtmpaRoNDv-310357266/corExplainedNodes-testNetwork1-testData1-delta2-Node0+.sif
Writing annotation file to: /tmp/RtmpaRoNDv-310357266/corExplainedNodes-testNetwork1-testData1-delta2-Node0+_anno.txt
corExplainedNodes
Node0 Activates Node1
Node0 Inhibits Node2
Node1 Activates Node3
Node2 Activates Node6
Node2 Activates Node7
Writing sif file to: /tmp/RtmpaRoNDv-626414742/corExplainedNodes-testNetwork1-testData1-delta2-Node0+.sif
Writing annotation file to: /tmp/RtmpaRoNDv-626414742/corExplainedNodes-testNetwork1-testData1-delta2-Node0+_anno.txt
corExplainedNodes
Node0 Activates Node1
Node0 Inhibits Node2
Node1 Activates Node3
Node2 Activates Node6
Node2 Activates Node7
Writing sif file to: /tmp/RtmpaRoNDv-626414742/incorExplainedNodes-testNetwork1-testData1-delta2-Node0+.sif
Writing annotation file to: /tmp/RtmpaRoNDv-626414742/incorExplainedNodes-testNetwork1-testData1-delta2-Node0+_anno.txt
incorExplainedNodes
Node0 Inhibits Node2
Writing sif file to: /tmp/RtmpaRoNDv-626414742/ambExplainedNodes-testNetwork1-testData1-delta2-Node0+.sif
Writing annotation file to: /tmp/RtmpaRoNDv-626414742/ambExplainedNodes-testNetwork1-testData1-delta2-Node0+_anno.txt
ambExplainedNodes
Node0 Activates Node1
Node0 Inhibits Node2
Node1 Inhibits Node5
Node2 Inhibits Node5
Writing sif file to: /tmp/RtmpaRoNDv/corExplainedNodes-file3f35ff58715282.sif
Writing annotation file to: /tmp/RtmpaRoNDv/corExplainedNodes-file3f35ff58715282_anno.txt
corExplainedNodes
Node0 Activates Node1
Writing sif file to: /tmp/RtmpaRoNDv/incorExplainedNodes-file3f35ff58715282.sif
Writing annotation file to: /tmp/RtmpaRoNDv/incorExplainedNodes-file3f35ff58715282_anno.txt
incorExplainedNodes
Node0 Inhibits Node2
Writing sif file to: /tmp/RtmpaRoNDv/ambExplainedNodes-file3f35ff58715282.sif
Writing annotation file to: /tmp/RtmpaRoNDv/ambExplainedNodes-file3f35ff58715282_anno.txt
ambExplainedNodes
Writing sif file to: /tmp/RtmpaRoNDv/corExplainedNodes-file3f35ff3758e216.sif
Writing annotation file to: /tmp/RtmpaRoNDv/corExplainedNodes-file3f35ff3758e216_anno.txt
corExplainedNodes
Node0 Activates Node1
Node0 Inhibits Node2
Node1 Activates Node3
Node2 Activates Node6
Node2 Activates Node7
Writing sif file to: /tmp/RtmpaRoNDv/incorExplainedNodes-file3f35ff3758e216.sif
Writing annotation file to: /tmp/RtmpaRoNDv/incorExplainedNodes-file3f35ff3758e216_anno.txt
incorExplainedNodes
Node0 Inhibits Node2
Writing sif file to: /tmp/RtmpaRoNDv/ambExplainedNodes-file3f35ff3758e216.sif
Writing annotation file to: /tmp/RtmpaRoNDv/ambExplainedNodes-file3f35ff3758e216_anno.txt
ambExplainedNodes
Node0 Activates Node1
Node0 Inhibits Node2
Node1 Inhibits Node5
Node2 Inhibits Node5
Writing sif file to: /tmp/RtmpaRoNDv-340215485/corExplainedNodes-file3f35ff40580934.sif
Writing annotation file to: /tmp/RtmpaRoNDv-340215485/corExplainedNodes-file3f35ff40580934_anno.txt
corExplainedNodes
Node0 Activates Node1
Node0 Inhibits Node2
Node1 Activates Node3
Node2 Activates Node6
Node2 Activates Node7
Writing sif file to: /tmp/RtmpaRoNDv-618063236/corExplainedNodes-testNetwork1-testData1-delta2-Node0+.sif
Writing annotation file to: /tmp/RtmpaRoNDv-618063236/corExplainedNodes-testNetwork1-testData1-delta2-Node0+_anno.txt
corExplainedNodes
Node0 Activates Node1
Node0 Inhibits Node2
Node1 Activates Node3
Node2 Activates Node6
Node2 Activates Node7
Writing sif file to: /tmp/RtmpaRoNDv-794742956/corExplainedNodes-testNetwork1-testData1-delta2-Node0+.sif
Writing annotation file to: /tmp/RtmpaRoNDv-794742956/corExplainedNodes-testNetwork1-testData1-delta2-Node0+_anno.txt
corExplainedNodes
Node0 Activates Node1
Node0 Inhibits Node2
Node1 Activates Node3
Node2 Activates Node6
Node2 Activates Node7
Writing sif file to: /tmp/RtmpaRoNDv-794742956/incorExplainedNodes-testNetwork1-testData1-delta2-Node0+.sif
Writing annotation file to: /tmp/RtmpaRoNDv-794742956/incorExplainedNodes-testNetwork1-testData1-delta2-Node0+_anno.txt
incorExplainedNodes
Node0 Inhibits Node2
Writing sif file to: /tmp/RtmpaRoNDv-794742956/ambExplainedNodes-testNetwork1-testData1-delta2-Node0+.sif
Writing annotation file to: /tmp/RtmpaRoNDv-794742956/ambExplainedNodes-testNetwork1-testData1-delta2-Node0+_anno.txt
ambExplainedNodes
Node0 Activates Node1
Node0 Inhibits Node2
Node1 Inhibits Node5
Node2 Inhibits Node5
RUNIT TEST PROTOCOL -- Thu Oct 14 09:09:29 2021
***********************************************
Number of test functions: 129
Number of errors: 0
Number of failures: 0
1 Test Suite :
CausalR RUnit Tests - 129 test functions, 0 errors, 0 failures
Number of test functions: 129
Number of errors: 0
Number of failures: 0
Warning messages:
1: In file(file, "rt") :
cannot open file 'nonExistentFile.sif': No such file or directory
2: In file(file, "rt") :
cannot open file 'nonExistentFile.sif': No such file or directory
>
> proc.time()
user system elapsed
1.773 0.504 1.979
CausalR.Rcheck/CausalR-Ex.timings
| name | user | system | elapsed | |
| AnalysePredictionsList | 0.022 | 0.001 | 0.023 | |
| CalculateEnrichmentPValue | 0.002 | 0.000 | 0.002 | |
| CalculateSignificance | 0.042 | 0.000 | 0.043 | |
| CalculateSignificanceUsingCubicAlgorithm | 0.041 | 0.000 | 0.041 | |
| CalculateSignificanceUsingCubicAlgorithm1b | 0.034 | 0.000 | 0.033 | |
| CalculateSignificanceUsingQuarticAlgorithm | 0.045 | 0.000 | 0.045 | |
| CompareHypothesis | 0.008 | 0.000 | 0.007 | |
| CreateCCG | 0.005 | 0.000 | 0.006 | |
| CreateCG | 0.005 | 0.000 | 0.005 | |
| GetNodeName | 0.005 | 0.000 | 0.005 | |
| GetNumberOfPositiveAndNegativeEntries | 0.001 | 0.000 | 0.001 | |
| GetShortestPathsFromCCG | 0.006 | 0.000 | 0.006 | |
| MakePredictions | 0.009 | 0.000 | 0.009 | |
| MakePredictionsFromCCG | 0.007 | 0.000 | 0.006 | |
| MakePredictionsFromCG | 0.027 | 0.000 | 0.027 | |
| PlotGraphWithNodeNames | 0.056 | 0.000 | 0.056 | |
| RankTheHypotheses | 0.067 | 0.020 | 0.064 | |
| ReadExperimentalData | 0.006 | 0.004 | 0.010 | |
| ScoreHypothesis | 0.003 | 0.000 | 0.003 | |
| WriteAllExplainedNodesToSifFile | 0.101 | 0.057 | 0.094 | |
| WriteExplainedNodesToSifFile | 0.031 | 0.003 | 0.034 | |
| runSCANR | 0.372 | 0.037 | 0.367 | |