| Back to Multiple platform build/check report for BioC 3.13 |
|
This page was generated on 2021-10-15 15:05:59 -0400 (Fri, 15 Oct 2021).
|
To the developers/maintainers of the Category package: - Please allow up to 24 hours (and sometimes 48 hours) for your latest push to git@git.bioconductor.org:packages/Category.git to reflect on this report. See How and When does the builder pull? When will my changes propagate? here for more information. - Make sure to use the following settings in order to reproduce any error or warning you see on this page. |
| Package 245/2041 | Hostname | OS / Arch | INSTALL | BUILD | CHECK | BUILD BIN | ||||||||
| Category 2.58.0 (landing page) Bioconductor Package Maintainer
| nebbiolo1 | Linux (Ubuntu 20.04.2 LTS) / x86_64 | OK | OK | OK | |||||||||
| tokay2 | Windows Server 2012 R2 Standard / x64 | OK | OK | OK | OK | |||||||||
| machv2 | macOS 10.14.6 Mojave / x86_64 | OK | OK | OK | OK | |||||||||
| Package: Category |
| Version: 2.58.0 |
| Command: rm -rf Category.buildbin-libdir && mkdir Category.buildbin-libdir && C:\Users\biocbuild\bbs-3.13-bioc\R\bin\R.exe CMD INSTALL --merge-multiarch --build --library=Category.buildbin-libdir Category_2.58.0.tar.gz |
| StartedAt: 2021-10-15 08:25:15 -0400 (Fri, 15 Oct 2021) |
| EndedAt: 2021-10-15 08:26:32 -0400 (Fri, 15 Oct 2021) |
| EllapsedTime: 77.0 seconds |
| RetCode: 0 |
| Status: OK |
| PackageFile: Category_2.58.0.zip |
| PackageFileSize: 1.584 MiB |
##############################################################################
##############################################################################
###
### Running command:
###
### rm -rf Category.buildbin-libdir && mkdir Category.buildbin-libdir && C:\Users\biocbuild\bbs-3.13-bioc\R\bin\R.exe CMD INSTALL --merge-multiarch --build --library=Category.buildbin-libdir Category_2.58.0.tar.gz
###
##############################################################################
##############################################################################
install for i386
* installing *source* package 'Category' ...
** using staged installation
** R
** inst
** byte-compile and prepare package for lazy loading
** help
*** installing help indices
converting help for package 'Category'
finding HTML links ... done
Category-defunct html
ChrBandTree-class html
ChrMapHyperGParams-class html
ChrMapHyperGResult-class html
ChrMapLinearMParams-class html
ChrMapLinearMResult-class html
DatPkg-class html
GOHyperGParams-class html
GSEAGOHyperGParams html
HyperGParams-class html
HyperGResult-accessors html
HyperGResult-class html
HyperGResultBase-class html
KEGGHyperGParams-class html
LinearMParams-class html
LinearMResult-class html
LinearMResultBase-class html
MAPAmat html
NewChrBandTree html
OBOHyperGParams-class html
applyByCategory html
cateGOryMatrix html
categoryToEntrezBuilder html
cb_contingency html
cb_parse_band_Hs html
cb_parse_band_Mm html
cb_test html
effectSize html
exampleLevels html
findAMstats html
getPathNames html
gseattperm html
hyperGTest html
hyperg html
linearMTest html
local_test_factory html
makeChrBandGraph html
makeEBcontr html
makeValidParams html
probes2MAP html
probes2Path html
tree_visitor html
ttperm html
universeBuilder html
** building package indices
** installing vignettes
** testing if installed package can be loaded from temporary location
** testing if installed package can be loaded from final location
** testing if installed package keeps a record of temporary installation path
install for x64
* installing *source* package 'Category' ...
** testing if installed package can be loaded
* MD5 sums
packaged installation of 'Category' as Category_2.58.0.zip
* DONE (Category)