| Back to Multiple platform build/check report for BioC 3.13 | 
 | 
This page was generated on 2021-10-15 15:05:36 -0400 (Fri, 15 Oct 2021).
| To the developers/maintainers of the Cardinal package: - Please allow up to 24 hours (and sometimes 48 hours) for your latest push to git@git.bioconductor.org:packages/Cardinal.git to reflect on this report. See How and When does the builder pull? When will my changes propagate? here for more information. - Make sure to use the following settings in order to reproduce any error or warning you see on this page. | 
| Package 241/2041 | Hostname | OS / Arch | INSTALL | BUILD | CHECK | BUILD BIN | ||||||||
| Cardinal 2.10.0  (landing page) Kylie A. Bemis 
 | nebbiolo1 | Linux (Ubuntu 20.04.2 LTS) / x86_64 | OK | OK | OK |  | ||||||||
| tokay2 | Windows Server 2012 R2 Standard / x64 | OK | OK | OK | OK |  | ||||||||
| machv2 | macOS 10.14.6 Mojave / x86_64 | OK | OK | OK | OK |  | ||||||||
| Package: Cardinal | 
| Version: 2.10.0 | 
| Command: /home/biocbuild/bbs-3.13-bioc/R/bin/R CMD check --install=check:Cardinal.install-out.txt --library=/home/biocbuild/bbs-3.13-bioc/R/library --no-vignettes --timings Cardinal_2.10.0.tar.gz | 
| StartedAt: 2021-10-14 09:08:40 -0400 (Thu, 14 Oct 2021) | 
| EndedAt: 2021-10-14 09:14:06 -0400 (Thu, 14 Oct 2021) | 
| EllapsedTime: 325.7 seconds | 
| RetCode: 0 | 
| Status: OK | 
| CheckDir: Cardinal.Rcheck | 
| Warnings: 0 | 
##############################################################################
##############################################################################
###
### Running command:
###
###   /home/biocbuild/bbs-3.13-bioc/R/bin/R CMD check --install=check:Cardinal.install-out.txt --library=/home/biocbuild/bbs-3.13-bioc/R/library --no-vignettes --timings Cardinal_2.10.0.tar.gz
###
##############################################################################
##############################################################################
* using log directory ‘/home/biocbuild/bbs-3.13-bioc/meat/Cardinal.Rcheck’
* using R version 4.1.1 (2021-08-10)
* using platform: x86_64-pc-linux-gnu (64-bit)
* using session charset: UTF-8
* using option ‘--no-vignettes’
* checking for file ‘Cardinal/DESCRIPTION’ ... OK
* checking extension type ... Package
* this is package ‘Cardinal’ version ‘2.10.0’
* checking package namespace information ... OK
* checking package dependencies ... OK
* checking if this is a source package ... OK
* checking if there is a namespace ... OK
* checking for hidden files and directories ... OK
* checking for portable file names ... OK
* checking for sufficient/correct file permissions ... OK
* checking whether package ‘Cardinal’ can be installed ... OK
* checking installed package size ... OK
* checking package directory ... OK
* checking ‘build’ directory ... OK
* checking DESCRIPTION meta-information ... OK
* checking top-level files ... OK
* checking for left-over files ... OK
* checking index information ... OK
* checking package subdirectories ... OK
* checking R files for non-ASCII characters ... OK
* checking R files for syntax errors ... OK
* checking whether the package can be loaded ... OK
* checking whether the package can be loaded with stated dependencies ... OK
* checking whether the package can be unloaded cleanly ... OK
* checking whether the namespace can be loaded with stated dependencies ... OK
* checking whether the namespace can be unloaded cleanly ... OK
* checking dependencies in R code ... OK
* checking S3 generic/method consistency ... OK
* checking replacement functions ... OK
* checking foreign function calls ... OK
* checking R code for possible problems ... OK
* checking Rd files ... OK
* checking Rd metadata ... OK
* checking Rd cross-references ... OK
* checking for missing documentation entries ... OK
* checking for code/documentation mismatches ... OK
* checking Rd \usage sections ... OK
* checking Rd contents ... OK
* checking for unstated dependencies in examples ... OK
* checking line endings in C/C++/Fortran sources/headers ... OK
* checking compiled code ... NOTE
Note: information on .o files is not available
* checking files in ‘vignettes’ ... OK
* checking examples ... OK
Examples with CPU (user + system) or elapsed time > 5s
                                   user system elapsed
spatialShrunkenCentroids-methods 10.978  0.080  11.057
spatialKMeans-methods             6.478  0.236   6.715
* checking for unstated dependencies in ‘tests’ ... OK
* checking tests ...
  Running ‘testthat.R’
 OK
* checking for unstated dependencies in vignettes ... OK
* checking package vignettes in ‘inst/doc’ ... OK
* checking running R code from vignettes ... SKIPPED
* checking re-building of vignette outputs ... SKIPPED
* checking PDF version of manual ... OK
* DONE
Status: 1 NOTE
See
  ‘/home/biocbuild/bbs-3.13-bioc/meat/Cardinal.Rcheck/00check.log’
for details.
Cardinal.Rcheck/00install.out
############################################################################## ############################################################################## ### ### Running command: ### ### /home/biocbuild/bbs-3.13-bioc/R/bin/R CMD INSTALL Cardinal ### ############################################################################## ############################################################################## * installing to library ‘/home/biocbuild/bbs-3.13-bioc/R/library’ * installing *source* package ‘Cardinal’ ... ** using staged installation ** libs g++ -std=gnu++14 -I"/home/biocbuild/bbs-3.13-bioc/R/include" -DNDEBUG -I/usr/local/include -fpic -g -O2 -Wall -c DIP.cpp -o DIP.o g++ -std=gnu++14 -I"/home/biocbuild/bbs-3.13-bioc/R/include" -DNDEBUG -I/usr/local/include -fpic -g -O2 -Wall -c dynAlign.cpp -o dynAlign.o g++ -std=gnu++14 -I"/home/biocbuild/bbs-3.13-bioc/R/include" -DNDEBUG -I/usr/local/include -fpic -g -O2 -Wall -c imzML.cpp -o imzML.o g++ -std=gnu++14 -I"/home/biocbuild/bbs-3.13-bioc/R/include" -DNDEBUG -I/usr/local/include -fpic -g -O2 -Wall -c init.cpp -o init.o g++ -std=gnu++14 -I"/home/biocbuild/bbs-3.13-bioc/R/include" -DNDEBUG -I/usr/local/include -fpic -g -O2 -Wall -c pugixml.cpp -o pugixml.o g++ -std=gnu++14 -I"/home/biocbuild/bbs-3.13-bioc/R/include" -DNDEBUG -I/usr/local/include -fpic -g -O2 -Wall -c spatial.cpp -o spatial.o g++ -std=gnu++14 -I"/home/biocbuild/bbs-3.13-bioc/R/include" -DNDEBUG -I/usr/local/include -fpic -g -O2 -Wall -c utils.cpp -o utils.o g++ -std=gnu++14 -shared -L/home/biocbuild/bbs-3.13-bioc/R/lib -L/usr/local/lib -o Cardinal.so DIP.o dynAlign.o imzML.o init.o pugixml.o spatial.o utils.o -L/home/biocbuild/bbs-3.13-bioc/R/lib -lR installing to /home/biocbuild/bbs-3.13-bioc/R/library/00LOCK-Cardinal/00new/Cardinal/libs ** R ** inst ** byte-compile and prepare package for lazy loading ** help *** installing help indices ** building package indices ** installing vignettes ** testing if installed package can be loaded from temporary location ** checking absolute paths in shared objects and dynamic libraries ** testing if installed package can be loaded from final location ** testing if installed package keeps a record of temporary installation path * DONE (Cardinal)
Cardinal.Rcheck/tests/testthat.Rout
R version 4.1.1 (2021-08-10) -- "Kick Things"
Copyright (C) 2021 The R Foundation for Statistical Computing
Platform: x86_64-pc-linux-gnu (64-bit)
R is free software and comes with ABSOLUTELY NO WARRANTY.
You are welcome to redistribute it under certain conditions.
Type 'license()' or 'licence()' for distribution details.
R is a collaborative project with many contributors.
Type 'contributors()' for more information and
'citation()' on how to cite R or R packages in publications.
Type 'demo()' for some demos, 'help()' for on-line help, or
'help.start()' for an HTML browser interface to help.
Type 'q()' to quit R.
> library(testthat)
> library(Cardinal)
Loading required package: BiocGenerics
Loading required package: parallel
Attaching package: 'BiocGenerics'
The following objects are masked from 'package:parallel':
    clusterApply, clusterApplyLB, clusterCall, clusterEvalQ,
    clusterExport, clusterMap, parApply, parCapply, parLapply,
    parLapplyLB, parRapply, parSapply, parSapplyLB
The following objects are masked from 'package:stats':
    IQR, mad, sd, var, xtabs
The following objects are masked from 'package:base':
    Filter, Find, Map, Position, Reduce, anyDuplicated, append,
    as.data.frame, basename, cbind, colnames, dirname, do.call,
    duplicated, eval, evalq, get, grep, grepl, intersect, is.unsorted,
    lapply, mapply, match, mget, order, paste, pmax, pmax.int, pmin,
    pmin.int, rank, rbind, rownames, sapply, setdiff, sort, table,
    tapply, union, unique, unsplit, which.max, which.min
Loading required package: BiocParallel
Loading required package: EBImage
Loading required package: S4Vectors
Loading required package: stats4
Attaching package: 'S4Vectors'
The following objects are masked from 'package:base':
    I, expand.grid, unname
Loading required package: ProtGenerics
Attaching package: 'ProtGenerics'
The following object is masked from 'package:stats':
    smooth
Attaching package: 'Cardinal'
The following object is masked from 'package:stats':
    filter
> 
> test_check("Cardinal")
[ FAIL 0 | WARN 411 | SKIP 0 | PASS 304 ]
> 
> proc.time()
   user  system elapsed 
146.477   1.615 148.089 
Cardinal.Rcheck/Cardinal-Ex.timings
| name | user | system | elapsed | |
| AnnotatedImagingExperiment-class | 0.000 | 0.000 | 0.001 | |
| ImageList-class | 0.073 | 0.004 | 0.078 | |
| ImagingExperiment-class | 0.031 | 0.012 | 0.044 | |
| MSImagingExperiment-class | 0.087 | 0.008 | 0.095 | |
| MSImagingInfo-class | 0.216 | 0.044 | 0.259 | |
| MassDataFrame-class | 0.007 | 0.000 | 0.007 | |
| PCA-methods | 0.614 | 0.056 | 0.672 | |
| PLS-methods | 0.645 | 0.008 | 0.653 | |
| PositionDataFrame-class | 0.011 | 0.000 | 0.011 | |
| SparseImagingExperiment-class | 0.033 | 0.000 | 0.033 | |
| XDataFrame-class | 0.009 | 0.000 | 0.009 | |
| aggregate-methods | 2.103 | 0.012 | 2.115 | |
| colocalized-methods | 0.744 | 0.007 | 0.752 | |
| colors-functions | 0.567 | 0.008 | 0.575 | |
| findNeighbors-methods | 0.039 | 0.045 | 0.084 | |
| image-methods | 0.654 | 0.020 | 0.674 | |
| meansTest-methods | 2.730 | 0.060 | 2.791 | |
| mz-methods | 0.000 | 0.003 | 0.003 | |
| mzAlign-methods | 0.53 | 0.00 | 0.53 | |
| mzBin-methods | 0.303 | 0.008 | 0.310 | |
| mzFilter-methods | 0.827 | 0.007 | 0.835 | |
| normalize-methods | 0.289 | 0.004 | 0.293 | |
| peakAlign-methods | 0.528 | 0.000 | 0.528 | |
| peakBin-methods | 0.307 | 0.000 | 0.308 | |
| peakPick-methods | 0.295 | 0.003 | 0.299 | |
| pixelApply-methods | 0.965 | 0.009 | 0.974 | |
| plot-methods | 0.853 | 0.012 | 0.865 | |
| process-methods | 0.869 | 0.012 | 0.881 | |
| reduceBaseline-methods | 0.324 | 0.000 | 0.325 | |
| simulateSpectrum | 0.439 | 0.008 | 0.446 | |
| slice-methods | 0.362 | 0.015 | 0.377 | |
| smoothSignal-methods | 0.326 | 0.001 | 0.326 | |
| spatialDGMM-methods | 1.606 | 0.008 | 1.614 | |
| spatialFastmap-methods | 1.891 | 0.300 | 2.191 | |
| spatialKMeans-methods | 6.478 | 0.236 | 6.715 | |
| spatialShrunkenCentroids-methods | 10.978 | 0.080 | 11.057 | |
| subset-methods | 0.422 | 0.024 | 0.446 | |
| topFeatures-methods | 2.101 | 0.036 | 2.136 | |