| Back to Multiple platform build/check report for BioC 3.13 | 
 | 
This page was generated on 2021-10-15 15:06:01 -0400 (Fri, 15 Oct 2021).
| To the developers/maintainers of the CRImage package: - Please allow up to 24 hours (and sometimes 48 hours) for your latest push to git@git.bioconductor.org:packages/CRImage.git to reflect on this report. See How and When does the builder pull? When will my changes propagate? here for more information. - Make sure to use the following settings in order to reproduce any error or warning you see on this page. | 
| Package 408/2041 | Hostname | OS / Arch | INSTALL | BUILD | CHECK | BUILD BIN | ||||||||
| CRImage 1.40.0  (landing page) Henrik Failmezger 
 | nebbiolo1 | Linux (Ubuntu 20.04.2 LTS) / x86_64 | OK | OK | OK |  | ||||||||
| tokay2 | Windows Server 2012 R2 Standard / x64 | OK | OK | OK | OK |  | ||||||||
| machv2 | macOS 10.14.6 Mojave / x86_64 | OK | OK | OK | OK |  | ||||||||
| Package: CRImage | 
| Version: 1.40.0 | 
| Command: C:\cygwin\bin\curl.exe -O http://155.52.207.165/BBS/3.13/bioc/src/contrib/CRImage_1.40.0.tar.gz && rm -rf CRImage.buildbin-libdir && mkdir CRImage.buildbin-libdir && C:\Users\biocbuild\bbs-3.13-bioc\R\bin\R.exe CMD INSTALL --merge-multiarch --build --library=CRImage.buildbin-libdir CRImage_1.40.0.tar.gz && C:\Users\biocbuild\bbs-3.13-bioc\R\bin\R.exe CMD INSTALL CRImage_1.40.0.zip && rm CRImage_1.40.0.tar.gz CRImage_1.40.0.zip | 
| StartedAt: 2021-10-14 07:42:36 -0400 (Thu, 14 Oct 2021) | 
| EndedAt: 2021-10-14 07:43:47 -0400 (Thu, 14 Oct 2021) | 
| EllapsedTime: 71.2 seconds | 
| RetCode: 0 | 
| Status: OK | 
##############################################################################
##############################################################################
###
### Running command:
###
###   C:\cygwin\bin\curl.exe -O http://155.52.207.165/BBS/3.13/bioc/src/contrib/CRImage_1.40.0.tar.gz && rm -rf CRImage.buildbin-libdir && mkdir CRImage.buildbin-libdir && C:\Users\biocbuild\bbs-3.13-bioc\R\bin\R.exe CMD INSTALL --merge-multiarch --build --library=CRImage.buildbin-libdir CRImage_1.40.0.tar.gz && C:\Users\biocbuild\bbs-3.13-bioc\R\bin\R.exe CMD INSTALL CRImage_1.40.0.zip && rm CRImage_1.40.0.tar.gz CRImage_1.40.0.zip
###
##############################################################################
##############################################################################
  % Total    % Received % Xferd  Average Speed   Time    Time     Time  Current
                                 Dload  Upload   Total   Spent    Left  Speed
  0     0    0     0    0     0      0      0 --:--:-- --:--:-- --:--:--     0
 14 6454k   14  911k    0     0  2546k      0  0:00:02 --:--:--  0:00:02 2544k
100 6454k  100 6454k    0     0  6687k      0 --:--:-- --:--:-- --:--:-- 6689k
install for i386
* installing *source* package 'CRImage' ...
** using staged installation
** R
** inst
** byte-compile and prepare package for lazy loading
** help
*** installing help indices
  converting help for package 'CRImage'
    finding HTML links ... done
    CRImage-internal                        html  
    CRImage-package                         html  
    SauvolaThreshold                        html  
    calculateCellularity                    html  
    calculateMeanStdTarget                  html  
    calculateOtsu                           html  
    classifyCells                           html  
    colorCorrection                         html  
    convertHSVToRGB                         html  
    convertLABToRGB                         html  
    convertRGBToHSV                         html  
    convertRGBToLAB                         html  
    correctCopyNumber                       html  
    createBinaryImage                       html  
    createClassifier                        html  
    labelCells                              html  
    plotCorrectedCN                         html  
    processAperio                           html  
    segmentImage                            html  
** building package indices
** installing vignettes
** testing if installed package can be loaded from temporary location
** testing if installed package can be loaded from final location
** testing if installed package keeps a record of temporary installation path
install for x64
* installing *source* package 'CRImage' ...
** testing if installed package can be loaded
* MD5 sums
packaged installation of 'CRImage' as CRImage_1.40.0.zip
* DONE (CRImage)
* installing to library 'C:/Users/biocbuild/bbs-3.13-bioc/R/library'
package 'CRImage' successfully unpacked and MD5 sums checked