| Back to Multiple platform build/check report for BioC 3.13 |
|
This page was generated on 2021-10-15 15:06:01 -0400 (Fri, 15 Oct 2021).
|
To the developers/maintainers of the COCOA package: - Please allow up to 24 hours (and sometimes 48 hours) for your latest push to git@git.bioconductor.org:packages/COCOA.git to reflect on this report. See How and When does the builder pull? When will my changes propagate? here for more information. - Make sure to use the following settings in order to reproduce any error or warning you see on this page. |
| Package 356/2041 | Hostname | OS / Arch | INSTALL | BUILD | CHECK | BUILD BIN | ||||||||
| COCOA 2.6.0 (landing page) John Lawson
| nebbiolo1 | Linux (Ubuntu 20.04.2 LTS) / x86_64 | OK | OK | OK | |||||||||
| tokay2 | Windows Server 2012 R2 Standard / x64 | OK | OK | OK | OK | |||||||||
| machv2 | macOS 10.14.6 Mojave / x86_64 | OK | OK | OK | OK | |||||||||
| Package: COCOA |
| Version: 2.6.0 |
| Command: rm -rf COCOA.buildbin-libdir && mkdir COCOA.buildbin-libdir && C:\Users\biocbuild\bbs-3.13-bioc\R\bin\R.exe CMD INSTALL --merge-multiarch --build --library=COCOA.buildbin-libdir COCOA_2.6.0.tar.gz |
| StartedAt: 2021-10-15 08:40:09 -0400 (Fri, 15 Oct 2021) |
| EndedAt: 2021-10-15 08:41:40 -0400 (Fri, 15 Oct 2021) |
| EllapsedTime: 91.1 seconds |
| RetCode: 0 |
| Status: OK |
| PackageFile: COCOA_2.6.0.zip |
| PackageFileSize: 2.676 MiB |
##############################################################################
##############################################################################
###
### Running command:
###
### rm -rf COCOA.buildbin-libdir && mkdir COCOA.buildbin-libdir && C:\Users\biocbuild\bbs-3.13-bioc\R\bin\R.exe CMD INSTALL --merge-multiarch --build --library=COCOA.buildbin-libdir COCOA_2.6.0.tar.gz
###
##############################################################################
##############################################################################
install for i386
* installing *source* package 'COCOA' ...
** using staged installation
** R
** data
** inst
** byte-compile and prepare package for lazy loading
** help
*** installing help indices
converting help for package 'COCOA'
finding HTML links ... done
COCOA html
aggregateSignal html
aggregateSignalGRList html
atf3_chr1 html
brcaATACCoord1 html
brcaATACData1 html
brcaMCoord1 html
brcaMetadata html
brcaMethylData1 html
brcaPCScores html
brcaPCScores657 html
convertToFromNullDist html
esr1_chr1 html
gata3_chr1 html
getGammaPVal html
getMetaRegionProfile html
getPermStat html
getTopRegions html
nrf1_chr1 html
plotAnnoScoreDist html
regionQuantileByTargetVar html
rsRankingIndex html
rsScoreHeatmap html
rsScores html
runCOCOA html
runCOCOAPerm html
signalAlongAxis html
** building package indices
** installing vignettes
** testing if installed package can be loaded from temporary location
** testing if installed package can be loaded from final location
** testing if installed package keeps a record of temporary installation path
install for x64
* installing *source* package 'COCOA' ...
** testing if installed package can be loaded
* MD5 sums
packaged installation of 'COCOA' as COCOA_2.6.0.zip
* DONE (COCOA)