| Back to Multiple platform build/check report for BioC 3.13 |
|
This page was generated on 2021-10-15 15:06:00 -0400 (Fri, 15 Oct 2021).
|
To the developers/maintainers of the CNORfeeder package: - Please allow up to 24 hours (and sometimes 48 hours) for your latest push to git@git.bioconductor.org:packages/CNORfeeder.git to reflect on this report. See How and When does the builder pull? When will my changes propagate? here for more information. - Make sure to use the following settings in order to reproduce any error or warning you see on this page. |
| Package 344/2041 | Hostname | OS / Arch | INSTALL | BUILD | CHECK | BUILD BIN | ||||||||
| CNORfeeder 1.32.0 (landing page) E.Gjerga
| nebbiolo1 | Linux (Ubuntu 20.04.2 LTS) / x86_64 | OK | OK | OK | |||||||||
| tokay2 | Windows Server 2012 R2 Standard / x64 | OK | OK | OK | OK | |||||||||
| machv2 | macOS 10.14.6 Mojave / x86_64 | OK | OK | OK | OK | |||||||||
| Package: CNORfeeder |
| Version: 1.32.0 |
| Command: C:\cygwin\bin\curl.exe -O http://155.52.207.165/BBS/3.13/bioc/src/contrib/CNORfeeder_1.32.0.tar.gz && rm -rf CNORfeeder.buildbin-libdir && mkdir CNORfeeder.buildbin-libdir && C:\Users\biocbuild\bbs-3.13-bioc\R\bin\R.exe CMD INSTALL --merge-multiarch --build --library=CNORfeeder.buildbin-libdir CNORfeeder_1.32.0.tar.gz && C:\Users\biocbuild\bbs-3.13-bioc\R\bin\R.exe CMD INSTALL CNORfeeder_1.32.0.zip && rm CNORfeeder_1.32.0.tar.gz CNORfeeder_1.32.0.zip |
| StartedAt: 2021-10-14 08:23:46 -0400 (Thu, 14 Oct 2021) |
| EndedAt: 2021-10-14 08:24:59 -0400 (Thu, 14 Oct 2021) |
| EllapsedTime: 72.1 seconds |
| RetCode: 0 |
| Status: OK |
##############################################################################
##############################################################################
###
### Running command:
###
### C:\cygwin\bin\curl.exe -O http://155.52.207.165/BBS/3.13/bioc/src/contrib/CNORfeeder_1.32.0.tar.gz && rm -rf CNORfeeder.buildbin-libdir && mkdir CNORfeeder.buildbin-libdir && C:\Users\biocbuild\bbs-3.13-bioc\R\bin\R.exe CMD INSTALL --merge-multiarch --build --library=CNORfeeder.buildbin-libdir CNORfeeder_1.32.0.tar.gz && C:\Users\biocbuild\bbs-3.13-bioc\R\bin\R.exe CMD INSTALL CNORfeeder_1.32.0.zip && rm CNORfeeder_1.32.0.tar.gz CNORfeeder_1.32.0.zip
###
##############################################################################
##############################################################################
% Total % Received % Xferd Average Speed Time Time Time Current
Dload Upload Total Spent Left Speed
0 0 0 0 0 0 0 0 --:--:-- --:--:-- --:--:-- 0
4 3478k 4 154k 0 0 714k 0 0:00:04 --:--:-- 0:00:04 714k
79 3478k 79 2763k 0 0 2258k 0 0:00:01 0:00:01 --:--:-- 2259k
100 3478k 100 3478k 0 0 2328k 0 0:00:01 0:00:01 --:--:-- 2328k
install for i386
* installing *source* package 'CNORfeeder' ...
** using staged installation
** R
** data
** inst
** byte-compile and prepare package for lazy loading
** help
*** installing help indices
converting help for package 'CNORfeeder'
finding HTML links ... done
Binference html
finding level-2 HTML links ... done
CNORfeeder-package html
MIinference html
PPINigraph html
UniprotIDdream html
buildFeederObjectDynamic html
cnolist html
database html
feederObject html
gaBinaryT1W html
identifyMisfitIndices html
indices html
integrateLinks html
integratedModel html
linksRanking html
makeBTables html
mapBTables2model html
mapDDN2model html
model html
runDynamicFeeder html
simData html
weighting html
** building package indices
** installing vignettes
** testing if installed package can be loaded from temporary location
** testing if installed package can be loaded from final location
** testing if installed package keeps a record of temporary installation path
install for x64
* installing *source* package 'CNORfeeder' ...
** testing if installed package can be loaded
* MD5 sums
packaged installation of 'CNORfeeder' as CNORfeeder_1.32.0.zip
* DONE (CNORfeeder)
* installing to library 'C:/Users/biocbuild/bbs-3.13-bioc/R/library'
package 'CNORfeeder' successfully unpacked and MD5 sums checked