| Back to Multiple platform build/check report for BioC 3.13 |
|
This page was generated on 2021-10-15 15:05:36 -0400 (Fri, 15 Oct 2021).
|
To the developers/maintainers of the CATALYST package: - Please allow up to 24 hours (and sometimes 48 hours) for your latest push to git@git.bioconductor.org:packages/CATALYST.git to reflect on this report. See How and When does the builder pull? When will my changes propagate? here for more information. - Make sure to use the following settings in order to reproduce any error or warning you see on this page. |
| Package 244/2041 | Hostname | OS / Arch | INSTALL | BUILD | CHECK | BUILD BIN | ||||||||
| CATALYST 1.16.2 (landing page) Helena L. Crowell
| nebbiolo1 | Linux (Ubuntu 20.04.2 LTS) / x86_64 | OK | OK | OK | |||||||||
| tokay2 | Windows Server 2012 R2 Standard / x64 | OK | OK | OK | OK | |||||||||
| machv2 | macOS 10.14.6 Mojave / x86_64 | OK | OK | OK | OK | |||||||||
| Package: CATALYST |
| Version: 1.16.2 |
| Command: /home/biocbuild/bbs-3.13-bioc/R/bin/R CMD check --install=check:CATALYST.install-out.txt --library=/home/biocbuild/bbs-3.13-bioc/R/library --no-vignettes --timings CATALYST_1.16.2.tar.gz |
| StartedAt: 2021-10-14 09:08:57 -0400 (Thu, 14 Oct 2021) |
| EndedAt: 2021-10-14 09:19:40 -0400 (Thu, 14 Oct 2021) |
| EllapsedTime: 643.4 seconds |
| RetCode: 0 |
| Status: OK |
| CheckDir: CATALYST.Rcheck |
| Warnings: 0 |
##############################################################################
##############################################################################
###
### Running command:
###
### /home/biocbuild/bbs-3.13-bioc/R/bin/R CMD check --install=check:CATALYST.install-out.txt --library=/home/biocbuild/bbs-3.13-bioc/R/library --no-vignettes --timings CATALYST_1.16.2.tar.gz
###
##############################################################################
##############################################################################
* using log directory ‘/home/biocbuild/bbs-3.13-bioc/meat/CATALYST.Rcheck’
* using R version 4.1.1 (2021-08-10)
* using platform: x86_64-pc-linux-gnu (64-bit)
* using session charset: UTF-8
* using option ‘--no-vignettes’
* checking for file ‘CATALYST/DESCRIPTION’ ... OK
* checking extension type ... Package
* this is package ‘CATALYST’ version ‘1.16.2’
* package encoding: UTF-8
* checking package namespace information ... OK
* checking package dependencies ... OK
* checking if this is a source package ... OK
* checking if there is a namespace ... OK
* checking for hidden files and directories ... OK
* checking for portable file names ... OK
* checking for sufficient/correct file permissions ... OK
* checking whether package ‘CATALYST’ can be installed ... OK
* checking installed package size ... OK
* checking package directory ... OK
* checking ‘build’ directory ... OK
* checking DESCRIPTION meta-information ... OK
* checking top-level files ... OK
* checking for left-over files ... OK
* checking index information ... OK
* checking package subdirectories ... OK
* checking R files for non-ASCII characters ... OK
* checking R files for syntax errors ... OK
* checking whether the package can be loaded ... OK
* checking whether the package can be loaded with stated dependencies ... OK
* checking whether the package can be unloaded cleanly ... OK
* checking whether the namespace can be loaded with stated dependencies ... OK
* checking whether the namespace can be unloaded cleanly ... OK
* checking dependencies in R code ... OK
* checking S3 generic/method consistency ... OK
* checking replacement functions ... OK
* checking foreign function calls ... OK
* checking R code for possible problems ... OK
* checking Rd files ... OK
* checking Rd metadata ... OK
* checking Rd cross-references ... OK
* checking for missing documentation entries ... OK
* checking for code/documentation mismatches ... OK
* checking Rd \usage sections ... OK
* checking Rd contents ... OK
* checking for unstated dependencies in examples ... OK
* checking contents of ‘data’ directory ... OK
* checking data for non-ASCII characters ... OK
* checking LazyData ... OK
* checking data for ASCII and uncompressed saves ... OK
* checking files in ‘vignettes’ ... OK
* checking examples ... OK
Examples with CPU (user + system) or elapsed time > 5s
user system elapsed
plotMultiHeatmap 14.324 0.023 14.276
plotDR 13.608 0.092 13.693
plotPbExprs 13.028 0.016 12.982
sce2fcs 12.102 0.104 12.208
plotDiffHeatmap 11.748 0.040 11.764
plotExprHeatmap 11.581 0.032 11.582
plotClusterExprs 8.930 0.064 8.984
plotCodes 7.907 0.076 7.984
pbMDS 7.562 0.068 7.594
plotFreqHeatmap 7.596 0.032 7.628
mergeClusters 6.867 0.012 6.865
runDR 6.649 0.156 6.799
plotAbundances 6.722 0.052 6.774
computeSpillmat 5.683 0.796 6.487
cluster 6.285 0.051 6.337
SCE-accessors 5.986 0.149 6.134
clrDR 5.880 0.084 5.964
filterSCE 5.893 0.008 5.902
compCytof 5.556 0.072 5.628
plotMahal 5.194 0.012 5.210
plotSpillmat 5.138 0.036 5.174
* checking for unstated dependencies in ‘tests’ ... OK
* checking tests ...
Running ‘testthat.R’
OK
* checking for unstated dependencies in vignettes ... OK
* checking package vignettes in ‘inst/doc’ ... OK
* checking running R code from vignettes ... SKIPPED
* checking re-building of vignette outputs ... SKIPPED
* checking PDF version of manual ... OK
* DONE
Status: OK
CATALYST.Rcheck/00install.out
############################################################################## ############################################################################## ### ### Running command: ### ### /home/biocbuild/bbs-3.13-bioc/R/bin/R CMD INSTALL CATALYST ### ############################################################################## ############################################################################## * installing to library ‘/home/biocbuild/bbs-3.13-bioc/R/library’ * installing *source* package ‘CATALYST’ ... ** using staged installation ** R ** data *** moving datasets to lazyload DB ** inst ** byte-compile and prepare package for lazy loading ** help *** installing help indices ** building package indices ** installing vignettes ** testing if installed package can be loaded from temporary location ** testing if installed package can be loaded from final location ** testing if installed package keeps a record of temporary installation path * DONE (CATALYST)
CATALYST.Rcheck/tests/testthat.Rout
R version 4.1.1 (2021-08-10) -- "Kick Things"
Copyright (C) 2021 The R Foundation for Statistical Computing
Platform: x86_64-pc-linux-gnu (64-bit)
R is free software and comes with ABSOLUTELY NO WARRANTY.
You are welcome to redistribute it under certain conditions.
Type 'license()' or 'licence()' for distribution details.
R is a collaborative project with many contributors.
Type 'contributors()' for more information and
'citation()' on how to cite R or R packages in publications.
Type 'demo()' for some demos, 'help()' for on-line help, or
'help.start()' for an HTML browser interface to help.
Type 'q()' to quit R.
> library(testthat)
> library(CATALYST)
Loading required package: SingleCellExperiment
Loading required package: SummarizedExperiment
Loading required package: MatrixGenerics
Loading required package: matrixStats
Attaching package: 'MatrixGenerics'
The following objects are masked from 'package:matrixStats':
colAlls, colAnyNAs, colAnys, colAvgsPerRowSet, colCollapse,
colCounts, colCummaxs, colCummins, colCumprods, colCumsums,
colDiffs, colIQRDiffs, colIQRs, colLogSumExps, colMadDiffs,
colMads, colMaxs, colMeans2, colMedians, colMins, colOrderStats,
colProds, colQuantiles, colRanges, colRanks, colSdDiffs, colSds,
colSums2, colTabulates, colVarDiffs, colVars, colWeightedMads,
colWeightedMeans, colWeightedMedians, colWeightedSds,
colWeightedVars, rowAlls, rowAnyNAs, rowAnys, rowAvgsPerColSet,
rowCollapse, rowCounts, rowCummaxs, rowCummins, rowCumprods,
rowCumsums, rowDiffs, rowIQRDiffs, rowIQRs, rowLogSumExps,
rowMadDiffs, rowMads, rowMaxs, rowMeans2, rowMedians, rowMins,
rowOrderStats, rowProds, rowQuantiles, rowRanges, rowRanks,
rowSdDiffs, rowSds, rowSums2, rowTabulates, rowVarDiffs, rowVars,
rowWeightedMads, rowWeightedMeans, rowWeightedMedians,
rowWeightedSds, rowWeightedVars
Loading required package: GenomicRanges
Loading required package: stats4
Loading required package: BiocGenerics
Loading required package: parallel
Attaching package: 'BiocGenerics'
The following objects are masked from 'package:parallel':
clusterApply, clusterApplyLB, clusterCall, clusterEvalQ,
clusterExport, clusterMap, parApply, parCapply, parLapply,
parLapplyLB, parRapply, parSapply, parSapplyLB
The following objects are masked from 'package:stats':
IQR, mad, sd, var, xtabs
The following objects are masked from 'package:base':
Filter, Find, Map, Position, Reduce, anyDuplicated, append,
as.data.frame, basename, cbind, colnames, dirname, do.call,
duplicated, eval, evalq, get, grep, grepl, intersect, is.unsorted,
lapply, mapply, match, mget, order, paste, pmax, pmax.int, pmin,
pmin.int, rank, rbind, rownames, sapply, setdiff, sort, table,
tapply, union, unique, unsplit, which.max, which.min
Loading required package: S4Vectors
Attaching package: 'S4Vectors'
The following objects are masked from 'package:base':
I, expand.grid, unname
Loading required package: IRanges
Loading required package: GenomeInfoDb
Loading required package: Biobase
Welcome to Bioconductor
Vignettes contain introductory material; view with
'browseVignettes()'. To cite Bioconductor, see
'citation("Biobase")', and for packages 'citation("pkgname")'.
Attaching package: 'Biobase'
The following object is masked from 'package:MatrixGenerics':
rowMedians
The following objects are masked from 'package:matrixStats':
anyMissing, rowMedians
>
> test_check("CATALYST")
[ FAIL 0 | WARN 21 | SKIP 0 | PASS 742 ]
>
> proc.time()
user system elapsed
194.246 3.157 196.946
CATALYST.Rcheck/CATALYST-Ex.timings
| name | user | system | elapsed | |
| SCE-accessors | 5.986 | 0.149 | 6.134 | |
| adaptSpillmat | 4.287 | 0.091 | 4.378 | |
| applyCutoffs | 3.650 | 0.048 | 3.697 | |
| assignPrelim | 1.757 | 0.019 | 1.776 | |
| clrDR | 5.880 | 0.084 | 5.964 | |
| cluster | 6.285 | 0.051 | 6.337 | |
| compCytof | 5.556 | 0.072 | 5.628 | |
| computeSpillmat | 5.683 | 0.796 | 6.487 | |
| data | 0.009 | 0.000 | 0.009 | |
| estCutoffs | 4.358 | 0.272 | 4.630 | |
| extractClusters | 4.800 | 0.080 | 4.881 | |
| filterSCE | 5.893 | 0.008 | 5.902 | |
| guessPanel | 0.027 | 0.004 | 0.032 | |
| mergeClusters | 6.867 | 0.012 | 6.865 | |
| normCytof | 2.774 | 0.007 | 2.782 | |
| pbMDS | 7.562 | 0.068 | 7.594 | |
| plotAbundances | 6.722 | 0.052 | 6.774 | |
| plotClusterExprs | 8.930 | 0.064 | 8.984 | |
| plotCodes | 7.907 | 0.076 | 7.984 | |
| plotCounts | 1.174 | 0.004 | 1.178 | |
| plotDR | 13.608 | 0.092 | 13.693 | |
| plotDiffHeatmap | 11.748 | 0.040 | 11.764 | |
| plotEvents | 2.203 | 0.016 | 2.220 | |
| plotExprHeatmap | 11.581 | 0.032 | 11.582 | |
| plotExprs | 4.000 | 0.052 | 4.053 | |
| plotFreqHeatmap | 7.596 | 0.032 | 7.628 | |
| plotMahal | 5.194 | 0.012 | 5.210 | |
| plotMultiHeatmap | 14.324 | 0.023 | 14.276 | |
| plotNRS | 1.307 | 0.008 | 1.315 | |
| plotPbExprs | 13.028 | 0.016 | 12.982 | |
| plotScatter | 4.487 | 0.020 | 4.508 | |
| plotSpillmat | 5.138 | 0.036 | 5.174 | |
| plotYields | 4.499 | 0.028 | 4.527 | |
| prepData | 2.212 | 0.000 | 2.212 | |
| runDR | 6.649 | 0.156 | 6.799 | |
| sce2fcs | 12.102 | 0.104 | 12.208 | |