| Back to Multiple platform build/check report for BioC 3.13 |
|
This page was generated on 2021-10-15 15:06:30 -0400 (Fri, 15 Oct 2021).
|
To the developers/maintainers of the CAGEfightR package: - Please allow up to 24 hours (and sometimes 48 hours) for your latest push to git@git.bioconductor.org:packages/CAGEfightR.git to reflect on this report. See How and When does the builder pull? When will my changes propagate? here for more information. - Make sure to use the following settings in order to reproduce any error or warning you see on this page. |
| Package 230/2041 | Hostname | OS / Arch | INSTALL | BUILD | CHECK | BUILD BIN | ||||||||
| CAGEfightR 1.12.0 (landing page) Malte Thodberg
| nebbiolo1 | Linux (Ubuntu 20.04.2 LTS) / x86_64 | OK | OK | OK | |||||||||
| tokay2 | Windows Server 2012 R2 Standard / x64 | OK | OK | OK | OK | |||||||||
| machv2 | macOS 10.14.6 Mojave / x86_64 | OK | OK | OK | OK | |||||||||
| Package: CAGEfightR |
| Version: 1.12.0 |
| Command: /Library/Frameworks/R.framework/Versions/Current/Resources/bin/R CMD check --install=check:CAGEfightR.install-out.txt --library=/Library/Frameworks/R.framework/Versions/Current/Resources/library --no-vignettes --timings CAGEfightR_1.12.0.tar.gz |
| StartedAt: 2021-10-14 17:01:15 -0400 (Thu, 14 Oct 2021) |
| EndedAt: 2021-10-14 17:08:30 -0400 (Thu, 14 Oct 2021) |
| EllapsedTime: 435.4 seconds |
| RetCode: 0 |
| Status: OK |
| CheckDir: CAGEfightR.Rcheck |
| Warnings: 0 |
##############################################################################
##############################################################################
###
### Running command:
###
### /Library/Frameworks/R.framework/Versions/Current/Resources/bin/R CMD check --install=check:CAGEfightR.install-out.txt --library=/Library/Frameworks/R.framework/Versions/Current/Resources/library --no-vignettes --timings CAGEfightR_1.12.0.tar.gz
###
##############################################################################
##############################################################################
* using log directory ‘/Users/biocbuild/bbs-3.13-bioc/meat/CAGEfightR.Rcheck’
* using R version 4.1.1 (2021-08-10)
* using platform: x86_64-apple-darwin17.0 (64-bit)
* using session charset: UTF-8
* using option ‘--no-vignettes’
* checking for file ‘CAGEfightR/DESCRIPTION’ ... OK
* checking extension type ... Package
* this is package ‘CAGEfightR’ version ‘1.12.0’
* package encoding: UTF-8
* checking package namespace information ... OK
* checking package dependencies ... OK
* checking if this is a source package ... OK
* checking if there is a namespace ... OK
* checking for hidden files and directories ... NOTE
Found the following hidden files and directories:
.git_fetch_output.txt
.git_merge_output.txt
These were most likely included in error. See section ‘Package
structure’ in the ‘Writing R Extensions’ manual.
* checking for portable file names ... OK
* checking for sufficient/correct file permissions ... OK
* checking whether package ‘CAGEfightR’ can be installed ... OK
* checking installed package size ... OK
* checking package directory ... OK
* checking ‘build’ directory ... OK
* checking DESCRIPTION meta-information ... OK
* checking top-level files ... OK
* checking for left-over files ... OK
* checking index information ... OK
* checking package subdirectories ... OK
* checking R files for non-ASCII characters ... OK
* checking R files for syntax errors ... OK
* checking whether the package can be loaded ... OK
* checking whether the package can be loaded with stated dependencies ... OK
* checking whether the package can be unloaded cleanly ... OK
* checking whether the namespace can be loaded with stated dependencies ... OK
* checking whether the namespace can be unloaded cleanly ... OK
* checking dependencies in R code ... OK
* checking S3 generic/method consistency ... OK
* checking replacement functions ... OK
* checking foreign function calls ... OK
* checking R code for possible problems ... OK
* checking Rd files ... OK
* checking Rd metadata ... OK
* checking Rd cross-references ... OK
* checking for missing documentation entries ... OK
* checking for code/documentation mismatches ... OK
* checking Rd \usage sections ... OK
* checking Rd contents ... OK
* checking for unstated dependencies in examples ... OK
* checking contents of ‘data’ directory ... OK
* checking data for non-ASCII characters ... OK
* checking LazyData ... OK
* checking data for ASCII and uncompressed saves ... OK
* checking files in ‘vignettes’ ... OK
* checking examples ... OK
Examples with CPU (user + system) or elapsed time > 5s
user system elapsed
findLinks 5.684 1.290 5.704
calcShape 5.768 0.231 6.005
trimToPercentiles 5.547 0.036 5.585
assignGeneID 5.295 0.152 5.490
* checking for unstated dependencies in vignettes ... OK
* checking package vignettes in ‘inst/doc’ ... OK
* checking running R code from vignettes ... SKIPPED
* checking re-building of vignette outputs ... SKIPPED
* checking PDF version of manual ... OK
* DONE
Status: 1 NOTE
See
‘/Users/biocbuild/bbs-3.13-bioc/meat/CAGEfightR.Rcheck/00check.log’
for details.
CAGEfightR.Rcheck/00install.out
############################################################################## ############################################################################## ### ### Running command: ### ### /Library/Frameworks/R.framework/Versions/Current/Resources/bin/R CMD INSTALL CAGEfightR ### ############################################################################## ############################################################################## * installing to library ‘/Library/Frameworks/R.framework/Versions/4.1/Resources/library’ * installing *source* package ‘CAGEfightR’ ... ** using staged installation ** R ** data *** moving datasets to lazyload DB ** inst ** byte-compile and prepare package for lazy loading ** help *** installing help indices ** building package indices ** installing vignettes ** testing if installed package can be loaded from temporary location ** testing if installed package can be loaded from final location ** testing if installed package keeps a record of temporary installation path * DONE (CAGEfightR)
CAGEfightR.Rcheck/CAGEfightR-Ex.timings
| name | user | system | elapsed | |
| assignGeneID | 5.295 | 0.152 | 5.490 | |
| assignMissingID | 1.904 | 0.049 | 1.997 | |
| assignTxID | 1.464 | 0.022 | 1.488 | |
| assignTxType | 0.000 | 0.001 | 0.001 | |
| balanceBC | 0.000 | 0.000 | 0.001 | |
| balanceD | 0.001 | 0.000 | 0.001 | |
| bwCommonGenome | 0.048 | 0.004 | 0.053 | |
| bwGenomeCompatibility | 0.016 | 0.003 | 0.019 | |
| bwValid | 0.007 | 0.002 | 0.009 | |
| calcBidirectionality | 0.738 | 0.010 | 0.749 | |
| calcComposition | 3.347 | 0.090 | 3.440 | |
| calcPooled | 0.302 | 0.005 | 0.307 | |
| calcShape | 5.768 | 0.231 | 6.005 | |
| calcSupport | 0.303 | 0.006 | 0.309 | |
| calcTPM | 0.371 | 0.007 | 0.379 | |
| calcTotalTags | 0.162 | 0.004 | 0.167 | |
| checkCTSSs | 0.495 | 0.006 | 0.501 | |
| checkPeaked | 0.268 | 0.035 | 0.304 | |
| checkPooled | 0.095 | 0.005 | 0.100 | |
| clusterBidirectionally | 0.000 | 0.001 | 0.000 | |
| clusterUnidirectionally | 2.077 | 0.029 | 2.107 | |
| combineClusters | 1.498 | 0.027 | 1.526 | |
| convertBAM2BigWig | 0 | 0 | 0 | |
| convertBED2BigWig | 0.000 | 0.000 | 0.001 | |
| convertGRanges2GPos | 0.111 | 0.010 | 0.121 | |
| exampleDesign | 0.005 | 0.008 | 0.012 | |
| findLinks | 5.684 | 1.290 | 5.704 | |
| findStretches | 0.920 | 0.085 | 1.006 | |
| quantifyCTSSs | 0.000 | 0.002 | 0.002 | |
| quantifyCTSSs2 | 0.001 | 0.001 | 0.000 | |
| quantifyClusters | 0.840 | 0.076 | 0.916 | |
| quantifyGenes | 1.960 | 0.095 | 2.056 | |
| quickEnhancers | 0.000 | 0.000 | 0.001 | |
| quickGenes | 0.001 | 0.000 | 0.000 | |
| quickTSSs | 0 | 0 | 0 | |
| shapeEntropy | 0.000 | 0.000 | 0.001 | |
| shapeIQR | 0.000 | 0.001 | 0.000 | |
| shapeMean | 0.000 | 0.000 | 0.001 | |
| shapeMultimodality | 0 | 0 | 0 | |
| subsetByBidirectionality | 0.726 | 0.019 | 0.746 | |
| subsetByComposition | 2.229 | 0.052 | 2.307 | |
| subsetBySupport | 0.206 | 0.005 | 0.211 | |
| swapRanges | 0.374 | 0.008 | 0.382 | |
| swapScores | 0.213 | 0.016 | 0.228 | |
| trackBalance | 0.000 | 0.001 | 0.001 | |
| trackCTSS | 4.248 | 0.211 | 4.464 | |
| trackClusters | 2.757 | 0.031 | 2.789 | |
| trackLinks | 2.043 | 0.942 | 2.033 | |
| trimToPeak | 2.256 | 0.184 | 2.445 | |
| trimToPercentiles | 5.547 | 0.036 | 5.585 | |
| tuneTagClustering | 0.000 | 0.001 | 0.001 | |
| utilsAggregateRows | 0.584 | 0.594 | 1.207 | |
| utilsDeStrand | 0.193 | 0.003 | 0.197 | |
| utilsScoreOverlaps | 0.149 | 0.001 | 0.150 | |
| utilsSimplifyTxDb | 0.000 | 0.001 | 0.001 | |