| Back to Multiple platform build/check report for BioC 3.13 |
|
This page was generated on 2021-10-15 15:05:59 -0400 (Fri, 15 Oct 2021).
|
To the developers/maintainers of the BubbleTree package: - Please allow up to 24 hours (and sometimes 48 hours) for your latest push to git@git.bioconductor.org:packages/BubbleTree.git to reflect on this report. See How and When does the builder pull? When will my changes propagate? here for more information. - Make sure to use the following settings in order to reproduce any error or warning you see on this page. |
| Package 219/2041 | Hostname | OS / Arch | INSTALL | BUILD | CHECK | BUILD BIN | ||||||||
| BubbleTree 2.22.0 (landing page) Todd Creasy
| nebbiolo1 | Linux (Ubuntu 20.04.2 LTS) / x86_64 | OK | OK | OK | |||||||||
| tokay2 | Windows Server 2012 R2 Standard / x64 | OK | OK | OK | OK | |||||||||
| machv2 | macOS 10.14.6 Mojave / x86_64 | OK | OK | OK | OK | |||||||||
| Package: BubbleTree |
| Version: 2.22.0 |
| Command: C:\cygwin\bin\curl.exe -O http://155.52.207.165/BBS/3.13/bioc/src/contrib/BubbleTree_2.22.0.tar.gz && rm -rf BubbleTree.buildbin-libdir && mkdir BubbleTree.buildbin-libdir && C:\Users\biocbuild\bbs-3.13-bioc\R\bin\R.exe CMD INSTALL --merge-multiarch --build --library=BubbleTree.buildbin-libdir BubbleTree_2.22.0.tar.gz && C:\Users\biocbuild\bbs-3.13-bioc\R\bin\R.exe CMD INSTALL BubbleTree_2.22.0.zip && rm BubbleTree_2.22.0.tar.gz BubbleTree_2.22.0.zip |
| StartedAt: 2021-10-14 10:59:12 -0400 (Thu, 14 Oct 2021) |
| EndedAt: 2021-10-14 11:00:47 -0400 (Thu, 14 Oct 2021) |
| EllapsedTime: 95.4 seconds |
| RetCode: 0 |
| Status: OK |
##############################################################################
##############################################################################
###
### Running command:
###
### C:\cygwin\bin\curl.exe -O http://155.52.207.165/BBS/3.13/bioc/src/contrib/BubbleTree_2.22.0.tar.gz && rm -rf BubbleTree.buildbin-libdir && mkdir BubbleTree.buildbin-libdir && C:\Users\biocbuild\bbs-3.13-bioc\R\bin\R.exe CMD INSTALL --merge-multiarch --build --library=BubbleTree.buildbin-libdir BubbleTree_2.22.0.tar.gz && C:\Users\biocbuild\bbs-3.13-bioc\R\bin\R.exe CMD INSTALL BubbleTree_2.22.0.zip && rm BubbleTree_2.22.0.tar.gz BubbleTree_2.22.0.zip
###
##############################################################################
##############################################################################
% Total % Received % Xferd Average Speed Time Time Time Current
Dload Upload Total Spent Left Speed
0 0 0 0 0 0 0 0 --:--:-- --:--:-- --:--:-- 0
8 23.7M 8 2075k 0 0 2523k 0 0:00:09 --:--:-- 0:00:09 2521k
22 23.7M 22 5504k 0 0 3020k 0 0:00:08 0:00:01 0:00:07 3020k
42 23.7M 42 10.0M 0 0 3656k 0 0:00:06 0:00:02 0:00:04 3655k
63 23.7M 63 15.1M 0 0 4070k 0 0:00:05 0:00:03 0:00:02 4069k
89 23.7M 89 21.3M 0 0 4528k 0 0:00:05 0:00:04 0:00:01 4527k
100 23.7M 100 23.7M 0 0 4705k 0 0:00:05 0:00:05 --:--:-- 5119k
install for i386
* installing *source* package 'BubbleTree' ...
** using staged installation
It is recommended to use 'given' instead of 'middle'.
** R
** data
** inst
** byte-compile and prepare package for lazy loading
** help
*** installing help indices
converting help for package 'BubbleTree'
finding HTML links ... done
Annotate html
BTreePlotter html
BTreePredictor html
RBD html
RscoreTrack html
TrackPlotter html
all.somatic.lst html
allCNV.lst html
allCall.lst html
allHetero.lst html
allRBD.lst html
annoByGenesAndCyto html
bafTrack html
btcompare html
btpredict html
cancer.genes.minus2 html
centromere.dat html
cnv.gr html
cyto.gr html
drawBTree html
drawBubbles html
drawFeatures html
gene.uni.clean.gr html
getTracks html
heteroLociTrack html
hg19.seqinfo html
info html
loadRBD html
makeRBD html
mergeSnpCnv html
saveXLS html
snp.gr html
trackBTree html
vol.genes html
xyTrack html
** building package indices
** installing vignettes
** testing if installed package can be loaded from temporary location
** testing if installed package can be loaded from final location
** testing if installed package keeps a record of temporary installation path
install for x64
* installing *source* package 'BubbleTree' ...
** testing if installed package can be loaded
* MD5 sums
packaged installation of 'BubbleTree' as BubbleTree_2.22.0.zip
* DONE (BubbleTree)
* installing to library 'C:/Users/biocbuild/bbs-3.13-bioc/R/library'
package 'BubbleTree' successfully unpacked and MD5 sums checked