| Back to Multiple platform build/check report for BioC 3.13 |
|
This page was generated on 2021-10-15 15:05:59 -0400 (Fri, 15 Oct 2021).
|
To the developers/maintainers of the BridgeDbR package: - Please allow up to 24 hours (and sometimes 48 hours) for your latest push to git@git.bioconductor.org:packages/BridgeDbR.git to reflect on this report. See How and When does the builder pull? When will my changes propagate? here for more information. - Make sure to use the following settings in order to reproduce any error or warning you see on this page. |
| Package 215/2041 | Hostname | OS / Arch | INSTALL | BUILD | CHECK | BUILD BIN | ||||||||
| BridgeDbR 2.2.1 (landing page) Egon Willighagen
| nebbiolo1 | Linux (Ubuntu 20.04.2 LTS) / x86_64 | OK | OK | OK | |||||||||
| tokay2 | Windows Server 2012 R2 Standard / x64 | OK | OK | OK | OK | |||||||||
| machv2 | macOS 10.14.6 Mojave / x86_64 | OK | OK | OK | OK | |||||||||
| Package: BridgeDbR |
| Version: 2.2.1 |
| Command: C:\Users\biocbuild\bbs-3.13-bioc\R\bin\R.exe --arch x64 CMD INSTALL --no-multiarch BridgeDbR |
| StartedAt: 2021-10-14 06:57:19 -0400 (Thu, 14 Oct 2021) |
| EndedAt: 2021-10-14 06:58:34 -0400 (Thu, 14 Oct 2021) |
| EllapsedTime: 74.9 seconds |
| RetCode: 0 |
| Status: OK |
##############################################################################
##############################################################################
###
### Running command:
###
### C:\Users\biocbuild\bbs-3.13-bioc\R\bin\R.exe --arch x64 CMD INSTALL --no-multiarch BridgeDbR
###
##############################################################################
##############################################################################
* installing to library 'C:/Users/biocbuild/bbs-3.13-bioc/R/library'
* installing *source* package 'BridgeDbR' ...
** using staged installation
** R
** inst
** byte-compile and prepare package for lazy loading
** help
*** installing help indices
converting help for package 'BridgeDbR'
finding HTML links ... done
BridgeDbR html
fullNameExists html
getAttributes html
getBridgeNames html
getDataSource html
getDatabase html
getFullName html
getMatchingSources html
getOrganismCode html
getProperties html
getSystemCode html
loadDatabase html
map html
maps html
registerDataSource html
systemCodeExists html
** building package indices
** installing vignettes
** testing if installed package can be loaded from temporary location
** testing if installed package can be loaded from final location
** testing if installed package keeps a record of temporary installation path
* DONE (BridgeDbR)
Making 'packages.html' ... done