| Back to Multiple platform build/check report for BioC 3.13 |
|
This page was generated on 2021-10-15 15:05:58 -0400 (Fri, 15 Oct 2021).
|
To the developers/maintainers of the BiocSklearn package: - Please allow up to 24 hours (and sometimes 48 hours) for your latest push to git@git.bioconductor.org:packages/BiocSklearn.git to reflect on this report. See How and When does the builder pull? When will my changes propagate? here for more information. - Make sure to use the following settings in order to reproduce any error or warning you see on this page. |
| Package 172/2041 | Hostname | OS / Arch | INSTALL | BUILD | CHECK | BUILD BIN | ||||||||
| BiocSklearn 1.14.1 (landing page) Vince Carey
| nebbiolo1 | Linux (Ubuntu 20.04.2 LTS) / x86_64 | OK | OK | OK | |||||||||
| tokay2 | Windows Server 2012 R2 Standard / x64 | OK | OK | OK | OK | |||||||||
| machv2 | macOS 10.14.6 Mojave / x86_64 | OK | OK | OK | OK | |||||||||
| Package: BiocSklearn |
| Version: 1.14.1 |
| Command: rm -rf BiocSklearn.buildbin-libdir && mkdir BiocSklearn.buildbin-libdir && C:\Users\biocbuild\bbs-3.13-bioc\R\bin\R.exe --arch x64 CMD INSTALL --no-multiarch --build --library=BiocSklearn.buildbin-libdir BiocSklearn_1.14.1.tar.gz |
| StartedAt: 2021-10-15 08:15:00 -0400 (Fri, 15 Oct 2021) |
| EndedAt: 2021-10-15 08:16:27 -0400 (Fri, 15 Oct 2021) |
| EllapsedTime: 88.0 seconds |
| RetCode: 0 |
| Status: OK |
| PackageFile: BiocSklearn_1.14.1.zip |
| PackageFileSize: 32.74 MiB |
##############################################################################
##############################################################################
###
### Running command:
###
### rm -rf BiocSklearn.buildbin-libdir && mkdir BiocSklearn.buildbin-libdir && C:\Users\biocbuild\bbs-3.13-bioc\R\bin\R.exe --arch x64 CMD INSTALL --no-multiarch --build --library=BiocSklearn.buildbin-libdir BiocSklearn_1.14.1.tar.gz
###
##############################################################################
##############################################################################
* installing *source* package 'BiocSklearn' ...
** using non-staged installation via StagedInstall field
**********************************************
WARNING: this package has a configure script
It probably needs manual configuration
**********************************************
** R
** inst
** byte-compile and prepare package for lazy loading
** help
*** installing help indices
converting help for package 'BiocSklearn'
finding HTML links ... done
H5matref html
SkDecomp-class html
SkDecomp html
SklearnEls html
h5mat html
skIncrPCA html
skIncrPCA_h5 html
skIncrPPCA html
skIncrPartialPCA html
skKMeans html
skPCA html
skPartialPCA_step html
** building package indices
** installing vignettes
** testing if installed package can be loaded
* MD5 sums
packaged installation of 'BiocSklearn' as BiocSklearn_1.14.1.zip
* DONE (BiocSklearn)