| Back to Multiple platform build/check report for BioC 3.13 | 
 | 
This page was generated on 2021-10-15 15:05:58 -0400 (Fri, 15 Oct 2021).
| To the developers/maintainers of the BiocPkgTools package: - Please allow up to 24 hours (and sometimes 48 hours) for your latest push to git@git.bioconductor.org:packages/BiocPkgTools.git to reflect on this report. See How and When does the builder pull? When will my changes propagate? here for more information. - Make sure to use the following settings in order to reproduce any error or warning you see on this page. | 
| Package 169/2041 | Hostname | OS / Arch | INSTALL | BUILD | CHECK | BUILD BIN | ||||||||
| BiocPkgTools 1.10.2  (landing page) Sean Davis 
 | nebbiolo1 | Linux (Ubuntu 20.04.2 LTS) / x86_64 | OK | OK | OK |  | ||||||||
| tokay2 | Windows Server 2012 R2 Standard / x64 | OK | OK | OK | OK |  | ||||||||
| machv2 | macOS 10.14.6 Mojave / x86_64 | OK | OK | OK | OK |  | ||||||||
| Package: BiocPkgTools | 
| Version: 1.10.2 | 
| Command: rm -rf BiocPkgTools.buildbin-libdir && mkdir BiocPkgTools.buildbin-libdir && C:\Users\biocbuild\bbs-3.13-bioc\R\bin\R.exe CMD INSTALL --merge-multiarch --build --library=BiocPkgTools.buildbin-libdir BiocPkgTools_1.10.2.tar.gz | 
| StartedAt: 2021-10-15 08:14:35 -0400 (Fri, 15 Oct 2021) | 
| EndedAt: 2021-10-15 08:16:03 -0400 (Fri, 15 Oct 2021) | 
| EllapsedTime: 88.1 seconds | 
| RetCode: 0 | 
| Status: OK | 
| PackageFile: BiocPkgTools_1.10.2.zip | 
| PackageFileSize: 1.494 MiB | 
##############################################################################
##############################################################################
###
### Running command:
###
###   rm -rf BiocPkgTools.buildbin-libdir && mkdir BiocPkgTools.buildbin-libdir && C:\Users\biocbuild\bbs-3.13-bioc\R\bin\R.exe CMD INSTALL --merge-multiarch --build --library=BiocPkgTools.buildbin-libdir BiocPkgTools_1.10.2.tar.gz
###
##############################################################################
##############################################################################
install for i386
* installing *source* package 'BiocPkgTools' ...
** using staged installation
** R
** inst
** byte-compile and prepare package for lazy loading
** help
*** installing help indices
  converting help for package 'BiocPkgTools'
    finding HTML links ... done
    BiocPkgTools-cache                      html  
    BiocPkgTools                            html  
    CRANstatus                              html  
    anacondaDownloadStats                   html  
    biocBuildEmail                          html  
    biocBuildReport                         html  
    biocDownloadStats                       html  
    biocExplore                             html  
    biocPkgList                             html  
    biocPkgRanges                           html  
    buildPkgDependencyDataFrame             html  
    buildPkgDependencyIgraph                html  
    class-dependencies                      html  
    dataciteXMLGenerate                     html  
    dot-getDepGain                          html  
    firstInBioc                             html  
    generateBiocPkgDOI                      html  
    getBiocVignette                         html  
    getPackageInfo                          html  
    get_bioc_data                           html  
    githubDetails                           html  
    githubURLParts                          html  
    inducedSubgraphByPkgs                   html  
    pkgCombDependencyGain                   html  
    pkgDepImports                           html  
    pkgDepMetrics                           html  
    problemPage                             html  
    subgraphByDegree                        html  
** building package indices
** installing vignettes
** testing if installed package can be loaded from temporary location
** testing if installed package can be loaded from final location
** testing if installed package keeps a record of temporary installation path
install for x64
* installing *source* package 'BiocPkgTools' ...
** testing if installed package can be loaded
* MD5 sums
packaged installation of 'BiocPkgTools' as BiocPkgTools_1.10.2.zip
* DONE (BiocPkgTools)