| Back to Multiple platform build/check report for BioC 3.13 |
|
This page was generated on 2021-10-15 15:06:29 -0400 (Fri, 15 Oct 2021).
|
To the developers/maintainers of the BiocOncoTK package: - Please allow up to 24 hours (and sometimes 48 hours) for your latest push to git@git.bioconductor.org:packages/BiocOncoTK.git to reflect on this report. See How and When does the builder pull? When will my changes propagate? here for more information. - Make sure to use the following settings in order to reproduce any error or warning you see on this page. |
| Package 166/2041 | Hostname | OS / Arch | INSTALL | BUILD | CHECK | BUILD BIN | ||||||||
| BiocOncoTK 1.12.1 (landing page) VJ Carey
| nebbiolo1 | Linux (Ubuntu 20.04.2 LTS) / x86_64 | OK | OK | OK | |||||||||
| tokay2 | Windows Server 2012 R2 Standard / x64 | OK | OK | OK | OK | |||||||||
| machv2 | macOS 10.14.6 Mojave / x86_64 | OK | OK | OK | OK | |||||||||
| Package: BiocOncoTK |
| Version: 1.12.1 |
| Command: /Library/Frameworks/R.framework/Versions/Current/Resources/bin/R CMD check --install=check:BiocOncoTK.install-out.txt --library=/Library/Frameworks/R.framework/Versions/Current/Resources/library --no-vignettes --timings BiocOncoTK_1.12.1.tar.gz |
| StartedAt: 2021-10-14 16:44:48 -0400 (Thu, 14 Oct 2021) |
| EndedAt: 2021-10-14 16:54:08 -0400 (Thu, 14 Oct 2021) |
| EllapsedTime: 560.6 seconds |
| RetCode: 0 |
| Status: OK |
| CheckDir: BiocOncoTK.Rcheck |
| Warnings: 0 |
##############################################################################
##############################################################################
###
### Running command:
###
### /Library/Frameworks/R.framework/Versions/Current/Resources/bin/R CMD check --install=check:BiocOncoTK.install-out.txt --library=/Library/Frameworks/R.framework/Versions/Current/Resources/library --no-vignettes --timings BiocOncoTK_1.12.1.tar.gz
###
##############################################################################
##############################################################################
* using log directory ‘/Users/biocbuild/bbs-3.13-bioc/meat/BiocOncoTK.Rcheck’
* using R version 4.1.1 (2021-08-10)
* using platform: x86_64-apple-darwin17.0 (64-bit)
* using session charset: UTF-8
* using option ‘--no-vignettes’
* checking for file ‘BiocOncoTK/DESCRIPTION’ ... OK
* this is package ‘BiocOncoTK’ version ‘1.12.1’
* package encoding: UTF-8
* checking package namespace information ... OK
* checking package dependencies ... OK
* checking if this is a source package ... OK
* checking if there is a namespace ... OK
* checking for hidden files and directories ... NOTE
Found the following hidden files and directories:
.git_fetch_output.txt
.git_merge_output.txt
These were most likely included in error. See section ‘Package
structure’ in the ‘Writing R Extensions’ manual.
* checking for portable file names ... OK
* checking for sufficient/correct file permissions ... OK
* checking whether package ‘BiocOncoTK’ can be installed ... OK
* checking installed package size ... NOTE
installed size is 8.0Mb
sub-directories of 1Mb or more:
data 3.1Mb
pamphlets 4.5Mb
* checking package directory ... OK
* checking ‘build’ directory ... OK
* checking DESCRIPTION meta-information ... OK
* checking top-level files ... OK
* checking for left-over files ... OK
* checking index information ... OK
* checking package subdirectories ... OK
* checking R files for non-ASCII characters ... OK
* checking R files for syntax errors ... OK
* checking whether the package can be loaded ... OK
* checking whether the package can be loaded with stated dependencies ... OK
* checking whether the package can be unloaded cleanly ... OK
* checking whether the namespace can be loaded with stated dependencies ... OK
* checking whether the namespace can be unloaded cleanly ... OK
* checking dependencies in R code ... OK
* checking S3 generic/method consistency ... OK
* checking replacement functions ... OK
* checking foreign function calls ... OK
* checking R code for possible problems ... NOTE
ggscat_av: warning in png(file = tempfile()): partial argument match of
'file' to 'filename'
.flexbi: no visible binding for global variable ‘v1’
.flexbi: no visible binding for global variable ‘v2’
.rainfall.bq.df: no visible global function definition for ‘seqlengths’
.rainfall.maeGRL.df: no visible global function definition for ‘genome’
.rainfall.maeGRL.df: no visible global function definition for
‘seqlengths’
acronym_to_system: no visible binding for global variable
‘map_tcga_ncit’
add_sym: no visible global function definition for ‘mapIds’
bipg_tests: no visible global function definition for ‘new’
checkCache_patel: no visible global function definition for
‘BiocFileCache’
chrbounds_basic: no visible global function definition for ‘seqlengths’
ggFeatDens : <anonymous>: no visible binding for global variable
‘Consequence’
ggFeatDens: no visible binding for global variable ‘tfstart’
ggFeatureSegs: no visible binding for global variable ‘symbol’
ggMutDens : <anonymous>: no visible binding for global variable
‘Consequence’
ggMutDens: no visible binding for global variable ‘project_short_name’
ggbox: no visible binding for global variable ‘acronym’
ggbox: no visible binding for global variable ‘symbol’
ggbox: no visible binding for global variable ‘log2ex’
ggbox: no visible binding for global variable ‘msicode’
ggscat: no visible binding for global variable ‘acronym’
ggscat: no visible binding for global variable ‘symbol’
ggscat: no visible binding for global variable ‘msival’
ggscat: no visible binding for global variable ‘log2ex’
ggscat_av: no visible binding for global variable ‘acronym’
ggscat_av: no visible binding for global variable ‘symbol’
ggscat_av: no visible binding for global variable ‘msival’
ggscat_av: no visible binding for global variable ‘tmsi’
ggscat_av: no visible binding for global variable ‘log2exa’
mc3toGR : <anonymous>: no visible binding for global variable
‘Consequence’
multiviz: no visible binding for global variable ‘acronym’
multiviz: no visible binding for global variable ‘msival’
prc: no visible binding for global variable ‘acronym’
prc: no visible global function definition for ‘right_join’
rainfall: no visible global function definition for ‘genome’
tumNorSet : <anonymous>: no visible global function definition for
‘pancan_SE’
Undefined global functions or variables:
BiocFileCache Consequence acronym genome log2ex log2exa mapIds
map_tcga_ncit msicode msival new pancan_SE project_short_name
right_join seqlengths symbol tfstart tmsi v1 v2
Consider adding
importFrom("methods", "new")
to your NAMESPACE file (and ensure that your DESCRIPTION Imports field
contains 'methods').
* checking Rd files ... OK
* checking Rd metadata ... OK
* checking Rd cross-references ... OK
* checking for missing documentation entries ... OK
* checking for code/documentation mismatches ... OK
* checking Rd \usage sections ... OK
* checking Rd contents ... OK
* checking for unstated dependencies in examples ... OK
* checking contents of ‘data’ directory ... OK
* checking data for non-ASCII characters ... NOTE
Note: found 46 marked UTF-8 strings
* checking LazyData ... OK
* checking data for ASCII and uncompressed saves ... OK
* checking files in ‘vignettes’ ... OK
* checking examples ... OK
* checking for unstated dependencies in ‘tests’ ... OK
* checking tests ...
Running ‘testthat.R’
OK
* checking for unstated dependencies in vignettes ... OK
* checking package vignettes in ‘inst/doc’ ... OK
* checking running R code from vignettes ... SKIPPED
* checking re-building of vignette outputs ... SKIPPED
* checking PDF version of manual ... OK
* DONE
Status: 4 NOTEs
See
‘/Users/biocbuild/bbs-3.13-bioc/meat/BiocOncoTK.Rcheck/00check.log’
for details.
BiocOncoTK.Rcheck/00install.out
############################################################################## ############################################################################## ### ### Running command: ### ### /Library/Frameworks/R.framework/Versions/Current/Resources/bin/R CMD INSTALL BiocOncoTK ### ############################################################################## ############################################################################## * installing to library ‘/Library/Frameworks/R.framework/Versions/4.1/Resources/library’ * installing *source* package ‘BiocOncoTK’ ... ** using staged installation ** R ** data *** moving datasets to lazyload DB ** inst ** byte-compile and prepare package for lazy loading ** help *** installing help indices ** building package indices ** installing vignettes ** testing if installed package can be loaded from temporary location ** testing if installed package can be loaded from final location ** testing if installed package keeps a record of temporary installation path * DONE (BiocOncoTK)
BiocOncoTK.Rcheck/tests/testthat.Rout
R version 4.1.1 (2021-08-10) -- "Kick Things"
Copyright (C) 2021 The R Foundation for Statistical Computing
Platform: x86_64-apple-darwin17.0 (64-bit)
R is free software and comes with ABSOLUTELY NO WARRANTY.
You are welcome to redistribute it under certain conditions.
Type 'license()' or 'licence()' for distribution details.
R is a collaborative project with many contributors.
Type 'contributors()' for more information and
'citation()' on how to cite R or R packages in publications.
Type 'demo()' for some demos, 'help()' for on-line help, or
'help.start()' for an HTML browser interface to help.
Type 'q()' to quit R.
> # authentication is so problematic that I am skipping this for now
> library(testthat)
> library(BiocOncoTK)
Attaching package: 'BiocOncoTK'
The following object is masked from 'package:stats':
filter
> library(restfulSE)
Loading required package: SummarizedExperiment
Loading required package: MatrixGenerics
Loading required package: matrixStats
Attaching package: 'MatrixGenerics'
The following objects are masked from 'package:matrixStats':
colAlls, colAnyNAs, colAnys, colAvgsPerRowSet, colCollapse,
colCounts, colCummaxs, colCummins, colCumprods, colCumsums,
colDiffs, colIQRDiffs, colIQRs, colLogSumExps, colMadDiffs,
colMads, colMaxs, colMeans2, colMedians, colMins, colOrderStats,
colProds, colQuantiles, colRanges, colRanks, colSdDiffs, colSds,
colSums2, colTabulates, colVarDiffs, colVars, colWeightedMads,
colWeightedMeans, colWeightedMedians, colWeightedSds,
colWeightedVars, rowAlls, rowAnyNAs, rowAnys, rowAvgsPerColSet,
rowCollapse, rowCounts, rowCummaxs, rowCummins, rowCumprods,
rowCumsums, rowDiffs, rowIQRDiffs, rowIQRs, rowLogSumExps,
rowMadDiffs, rowMads, rowMaxs, rowMeans2, rowMedians, rowMins,
rowOrderStats, rowProds, rowQuantiles, rowRanges, rowRanks,
rowSdDiffs, rowSds, rowSums2, rowTabulates, rowVarDiffs, rowVars,
rowWeightedMads, rowWeightedMeans, rowWeightedMedians,
rowWeightedSds, rowWeightedVars
Loading required package: GenomicRanges
Loading required package: stats4
Loading required package: BiocGenerics
Loading required package: parallel
Attaching package: 'BiocGenerics'
The following objects are masked from 'package:parallel':
clusterApply, clusterApplyLB, clusterCall, clusterEvalQ,
clusterExport, clusterMap, parApply, parCapply, parLapply,
parLapplyLB, parRapply, parSapply, parSapplyLB
The following objects are masked from 'package:stats':
IQR, mad, sd, var, xtabs
The following objects are masked from 'package:base':
Filter, Find, Map, Position, Reduce, anyDuplicated, append,
as.data.frame, basename, cbind, colnames, dirname, do.call,
duplicated, eval, evalq, get, grep, grepl, intersect, is.unsorted,
lapply, mapply, match, mget, order, paste, pmax, pmax.int, pmin,
pmin.int, rank, rbind, rownames, sapply, setdiff, sort, table,
tapply, union, unique, unsplit, which.max, which.min
Loading required package: S4Vectors
Attaching package: 'S4Vectors'
The following objects are masked from 'package:base':
I, expand.grid, unname
Loading required package: IRanges
Loading required package: GenomeInfoDb
Loading required package: Biobase
Welcome to Bioconductor
Vignettes contain introductory material; view with
'browseVignettes()'. To cite Bioconductor, see
'citation("Biobase")', and for packages 'citation("pkgname")'.
Attaching package: 'Biobase'
The following object is masked from 'package:MatrixGenerics':
rowMedians
The following objects are masked from 'package:matrixStats':
anyMissing, rowMedians
Loading required package: DelayedArray
Loading required package: Matrix
Attaching package: 'Matrix'
The following object is masked from 'package:S4Vectors':
expand
Attaching package: 'DelayedArray'
The following objects are masked from 'package:base':
aperm, apply, rowsum, scale, sweep
> library(reshape2)
>
> test_check("BiocOncoTK")
Loading required package: BiocGenerics
Loading required package: parallel
Attaching package: ‘BiocGenerics’
The following objects are masked from ‘package:parallel’:
clusterApply, clusterApplyLB, clusterCall, clusterEvalQ,
clusterExport, clusterMap, parApply, parCapply, parLapply,
parLapplyLB, parRapply, parSapply, parSapplyLB
The following objects are masked from ‘package:stats’:
IQR, mad, sd, var, xtabs
The following objects are masked from ‘package:base’:
Filter, Find, Map, Position, Reduce, anyDuplicated, append,
as.data.frame, basename, cbind, colnames, dirname, do.call,
duplicated, eval, evalq, get, grep, grepl, intersect, is.unsorted,
lapply, mapply, match, mget, order, paste, pmax, pmax.int, pmin,
pmin.int, rank, rbind, rownames, sapply, setdiff, sort, table,
tapply, union, unique, unsplit, which.max, which.min
Loading required package: AnnotationHub
Loading required package: BiocFileCache
Loading required package: dbplyr
snapshotDate(): 2021-05-18
Working on: BLCA_RNASeq2GeneNorm-20160128
see ?curatedTCGAData and browseVignettes('curatedTCGAData') for documentation
loading from cache
Working on: BLCA_colData-20160128
see ?curatedTCGAData and browseVignettes('curatedTCGAData') for documentation
loading from cache
Working on: BLCA_metadata-20160128
see ?curatedTCGAData and browseVignettes('curatedTCGAData') for documentation
loading from cache
Working on: BLCA_sampleMap-20160128
see ?curatedTCGAData and browseVignettes('curatedTCGAData') for documentation
loading from cache
harmonizing input:
removing 4463 sampleMap rows not in names(experiments)
removing 4 colData rownames not in sampleMap 'primary'
Loading required package: BiocGenerics
Loading required package: parallel
Attaching package: ‘BiocGenerics’
The following objects are masked from ‘package:parallel’:
clusterApply, clusterApplyLB, clusterCall, clusterEvalQ,
clusterExport, clusterMap, parApply, parCapply, parLapply,
parLapplyLB, parRapply, parSapply, parSapplyLB
The following objects are masked from ‘package:stats’:
IQR, mad, sd, var, xtabs
The following objects are masked from ‘package:base’:
Filter, Find, Map, Position, Reduce, anyDuplicated, append,
as.data.frame, basename, cbind, colnames, dirname, do.call,
duplicated, eval, evalq, get, grep, grepl, intersect, is.unsorted,
lapply, mapply, match, mget, order, paste, pmax, pmax.int, pmin,
pmin.int, rank, rbind, rownames, sapply, setdiff, sort, table,
tapply, union, unique, unsplit, which.max, which.min
Loading required package: AnnotationHub
Loading required package: BiocFileCache
Loading required package: dbplyr
snapshotDate(): 2021-05-18
Working on: BLCA_RNASeq2GeneNorm-20160128
see ?curatedTCGAData and browseVignettes('curatedTCGAData') for documentation
loading from cache
Working on: BLCA_colData-20160128
see ?curatedTCGAData and browseVignettes('curatedTCGAData') for documentation
loading from cache
Working on: BLCA_metadata-20160128
see ?curatedTCGAData and browseVignettes('curatedTCGAData') for documentation
loading from cache
Working on: BLCA_sampleMap-20160128
see ?curatedTCGAData and browseVignettes('curatedTCGAData') for documentation
loading from cache
harmonizing input:
removing 4463 sampleMap rows not in names(experiments)
removing 4 colData rownames not in sampleMap 'primary'
Loading required package: BiocGenerics
Loading required package: parallel
Attaching package: ‘BiocGenerics’
The following objects are masked from ‘package:parallel’:
clusterApply, clusterApplyLB, clusterCall, clusterEvalQ,
clusterExport, clusterMap, parApply, parCapply, parLapply,
parLapplyLB, parRapply, parSapply, parSapplyLB
The following objects are masked from ‘package:stats’:
IQR, mad, sd, var, xtabs
The following objects are masked from ‘package:base’:
Filter, Find, Map, Position, Reduce, anyDuplicated, append,
as.data.frame, basename, cbind, colnames, dirname, do.call,
duplicated, eval, evalq, get, grep, grepl, intersect, is.unsorted,
lapply, mapply, match, mget, order, paste, pmax, pmax.int, pmin,
pmin.int, rank, rbind, rownames, sapply, setdiff, sort, table,
tapply, union, unique, unsplit, which.max, which.min
Loading required package: AnnotationHub
Loading required package: BiocFileCache
Loading required package: dbplyr
snapshotDate(): 2021-05-18
Working on: SKCM_RNASeq2GeneNorm-20160128
see ?curatedTCGAData and browseVignettes('curatedTCGAData') for documentation
loading from cache
Working on: SKCM_colData-20160128
see ?curatedTCGAData and browseVignettes('curatedTCGAData') for documentation
loading from cache
Working on: SKCM_metadata-20160128
see ?curatedTCGAData and browseVignettes('curatedTCGAData') for documentation
loading from cache
Working on: SKCM_sampleMap-20160128
see ?curatedTCGAData and browseVignettes('curatedTCGAData') for documentation
loading from cache
harmonizing input:
removing 4841 sampleMap rows not in names(experiments)
removing 1 colData rownames not in sampleMap 'primary'
[ FAIL 0 | WARN 0 | SKIP 0 | PASS 5 ]
>
> proc.time()
user system elapsed
150.716 6.845 164.654
BiocOncoTK.Rcheck/BiocOncoTK-Ex.timings
| name | user | system | elapsed | |
| CCLE_DRUG_BROAD | 0.169 | 0.011 | 0.188 | |
| MSIsensor.10k | 0.027 | 0.002 | 0.029 | |
| TcgaMutCounts | 0.000 | 0.000 | 0.001 | |
| TcgaNIndWithAnyMut | 0 | 0 | 0 | |
| add_sym | 0.000 | 0.000 | 0.001 | |
| annotTabs | 0.000 | 0.001 | 0.002 | |
| bindMSI | 0.001 | 0.000 | 0.002 | |
| bipg_tests | 0.401 | 0.028 | 0.431 | |
| brcaMAE | 1.388 | 0.046 | 1.441 | |
| buildPancanSE | 0.000 | 0.001 | 0.001 | |
| cell_70138 | 0.001 | 0.002 | 0.003 | |
| clueDemos | 0.001 | 0.001 | 0.001 | |
| clueServiceNames | 0.001 | 0.001 | 0.001 | |
| darmGBMcls | 0.388 | 0.017 | 0.405 | |
| dingMSI | 0.005 | 0.000 | 0.006 | |
| featIDMapper | 0.001 | 0.000 | 0.000 | |
| fireMSI | 0.908 | 0.139 | 1.048 | |
| get_plates | 0.000 | 0.000 | 0.001 | |
| ggFeatDens | 0.000 | 0.000 | 0.001 | |
| ggFeatureSegs | 0.001 | 0.000 | 0.001 | |
| ggMutDens | 0 | 0 | 0 | |
| icd10_c | 0.044 | 0.032 | 0.077 | |
| k23sig | 0.005 | 0.002 | 0.006 | |
| loadPatel | 0.001 | 0.000 | 0.000 | |
| mc3toGR | 0.001 | 0.000 | 0.001 | |
| molpo_3utr | 0.093 | 0.013 | 0.105 | |
| molpo_5utr | 0.044 | 0.006 | 0.050 | |
| molpo_CDS | 0.155 | 0.013 | 0.169 | |
| molpo_WGS | 0.022 | 0.001 | 0.023 | |
| oncoPrintISB | 0.000 | 0.001 | 0.001 | |
| pancan.clin.varnames | 0.014 | 0.000 | 0.014 | |
| pancan_BQ | 0.000 | 0.000 | 0.001 | |
| pancan_app | 0.000 | 0.001 | 0.000 | |
| pancan_clinicalTabVarnames | 0 | 0 | 0 | |
| pancan_longname | 0.001 | 0.000 | 0.001 | |
| pancan_sampTypeMap | 0.002 | 0.001 | 0.003 | |
| pancan_tabulate | 0 | 0 | 0 | |
| patient_to_tumor_code | 0.013 | 0.001 | 0.015 | |
| pertClasses | 0 | 0 | 0 | |
| pert_70138 | 0.001 | 0.000 | 0.002 | |
| query_clue | 0.000 | 0.000 | 0.001 | |
| small_msi | 0.005 | 0.002 | 0.006 | |
| tumNorSet | 0.000 | 0.001 | 0.000 | |
| utils | 0.256 | 0.017 | 0.275 | |
| viz_msi_raw | 0 | 0 | 0 | |