Back to Multiple platform build/check report for BioC 3.13 |
|
This page was generated on 2021-10-15 15:05:58 -0400 (Fri, 15 Oct 2021).
To the developers/maintainers of the BiocGenerics package: - Please allow up to 24 hours (and sometimes 48 hours) for your latest push to git@git.bioconductor.org:packages/BiocGenerics.git to reflect on this report. See How and When does the builder pull? When will my changes propagate? here for more information. - Make sure to use the following settings in order to reproduce any error or warning you see on this page. |
Package 162/2041 | Hostname | OS / Arch | INSTALL | BUILD | CHECK | BUILD BIN | ||||||||
BiocGenerics 0.38.0 (landing page) Bioconductor Package Maintainer
| nebbiolo1 | Linux (Ubuntu 20.04.2 LTS) / x86_64 | OK | OK | WARNINGS | |||||||||
tokay2 | Windows Server 2012 R2 Standard / x64 | OK | OK | WARNINGS | OK | |||||||||
machv2 | macOS 10.14.6 Mojave / x86_64 | OK | OK | WARNINGS | OK | |||||||||
Package: BiocGenerics |
Version: 0.38.0 |
Command: rm -rf BiocGenerics.buildbin-libdir && mkdir BiocGenerics.buildbin-libdir && C:\Users\biocbuild\bbs-3.13-bioc\R\bin\R.exe CMD INSTALL --merge-multiarch --build --library=BiocGenerics.buildbin-libdir BiocGenerics_0.38.0.tar.gz |
StartedAt: 2021-10-15 08:13:31 -0400 (Fri, 15 Oct 2021) |
EndedAt: 2021-10-15 08:15:13 -0400 (Fri, 15 Oct 2021) |
EllapsedTime: 101.3 seconds |
RetCode: 0 |
Status: OK |
PackageFile: BiocGenerics_0.38.0.zip |
PackageFileSize: 789.3 KiB |
############################################################################## ############################################################################## ### ### Running command: ### ### rm -rf BiocGenerics.buildbin-libdir && mkdir BiocGenerics.buildbin-libdir && C:\Users\biocbuild\bbs-3.13-bioc\R\bin\R.exe CMD INSTALL --merge-multiarch --build --library=BiocGenerics.buildbin-libdir BiocGenerics_0.38.0.tar.gz ### ############################################################################## ############################################################################## install for i386 * installing *source* package 'BiocGenerics' ... ** using staged installation ** R ** inst ** byte-compile and prepare package for lazy loading Creating a new generic function for 'append' in package 'BiocGenerics' Creating a new generic function for 'as.data.frame' in package 'BiocGenerics' Creating a new generic function for 'cbind' in package 'BiocGenerics' Creating a new generic function for 'rbind' in package 'BiocGenerics' Creating a new generic function for 'do.call' in package 'BiocGenerics' Creating a new generic function for 'duplicated' in package 'BiocGenerics' Creating a new generic function for 'anyDuplicated' in package 'BiocGenerics' Creating a new generic function for 'eval' in package 'BiocGenerics' Creating a new generic function for 'pmax' in package 'BiocGenerics' Creating a new generic function for 'pmin' in package 'BiocGenerics' Creating a new generic function for 'pmax.int' in package 'BiocGenerics' Creating a new generic function for 'pmin.int' in package 'BiocGenerics' Creating a new generic function for 'Reduce' in package 'BiocGenerics' Creating a new generic function for 'Filter' in package 'BiocGenerics' Creating a new generic function for 'Find' in package 'BiocGenerics' Creating a new generic function for 'Map' in package 'BiocGenerics' Creating a new generic function for 'Position' in package 'BiocGenerics' Creating a new generic function for 'get' in package 'BiocGenerics' Creating a new generic function for 'mget' in package 'BiocGenerics' Creating a new generic function for 'grep' in package 'BiocGenerics' Creating a new generic function for 'grepl' in package 'BiocGenerics' Creating a new generic function for 'is.unsorted' in package 'BiocGenerics' Creating a new generic function for 'lapply' in package 'BiocGenerics' Creating a new generic function for 'sapply' in package 'BiocGenerics' Creating a new generic function for 'mapply' in package 'BiocGenerics' Creating a new generic function for 'match' in package 'BiocGenerics' Creating a new generic function for 'order' in package 'BiocGenerics' Creating a new generic function for 'paste' in package 'BiocGenerics' Creating a new generic function for 'rank' in package 'BiocGenerics' Creating a new generic function for 'rownames' in package 'BiocGenerics' Creating a new generic function for 'colnames' in package 'BiocGenerics' Creating a new generic function for 'union' in package 'BiocGenerics' Creating a new generic function for 'intersect' in package 'BiocGenerics' Creating a new generic function for 'setdiff' in package 'BiocGenerics' Creating a new generic function for 'sort' in package 'BiocGenerics' Creating a new generic function for 'table' in package 'BiocGenerics' Creating a new generic function for 'tapply' in package 'BiocGenerics' Creating a new generic function for 'unique' in package 'BiocGenerics' Creating a new generic function for 'unsplit' in package 'BiocGenerics' Creating a new generic function for 'var' in package 'BiocGenerics' Creating a new generic function for 'sd' in package 'BiocGenerics' Creating a new generic function for 'which.min' in package 'BiocGenerics' Creating a new generic function for 'which.max' in package 'BiocGenerics' Creating a new generic function for 'IQR' in package 'BiocGenerics' Creating a new generic function for 'mad' in package 'BiocGenerics' Creating a new generic function for 'xtabs' in package 'BiocGenerics' Creating a new generic function for 'clusterCall' in package 'BiocGenerics' Creating a new generic function for 'clusterApply' in package 'BiocGenerics' Creating a new generic function for 'clusterApplyLB' in package 'BiocGenerics' Creating a new generic function for 'clusterEvalQ' in package 'BiocGenerics' Creating a new generic function for 'clusterExport' in package 'BiocGenerics' Creating a new generic function for 'clusterMap' in package 'BiocGenerics' Creating a new generic function for 'parLapply' in package 'BiocGenerics' Creating a new generic function for 'parSapply' in package 'BiocGenerics' Creating a new generic function for 'parApply' in package 'BiocGenerics' Creating a new generic function for 'parRapply' in package 'BiocGenerics' Creating a new generic function for 'parCapply' in package 'BiocGenerics' Creating a new generic function for 'parLapplyLB' in package 'BiocGenerics' Creating a new generic function for 'parSapplyLB' in package 'BiocGenerics' Creating a new generic function for 'basename' in package 'BiocGenerics' Creating a new generic function for 'dirname' in package 'BiocGenerics' ** help *** installing help indices converting help for package 'BiocGenerics' finding HTML links ... done BiocGenerics-package html Extremes html IQR html Ontology html S3-classes-as-S4-classes html annotation html append html as.data.frame html as.list html as.vector html boxplot html cbind html clusterApply html colSums html combine html dbconn html density html dge html dims html do.call html duplicated html eval html evalq html fileName html funprog html get html grep html image html is.unsorted html lapply html mad html mapply html match html mean html normalize html nrow html REDIRECT:topic Previous alias or file overwritten by alias: C:/Users/biocbuild/bbs-3.13-bioc/meat/BiocGenerics.buildbin-libdir/00LOCK-BiocGenerics/00new/BiocGenerics/help/NROW.html REDIRECT:topic Previous alias or file overwritten by alias: C:/Users/biocbuild/bbs-3.13-bioc/meat/BiocGenerics.buildbin-libdir/00LOCK-BiocGenerics/00new/BiocGenerics/help/NCOL.html order html organism_species html paste html path html plotMA html plotPCA html rank html relist html rep html residuals html row_colnames html score html sets html sort html start html strand html subset html t html table html tapply html testPackage html toTable html type html unique html unlist html unsplit html updateObject html var html weights html which html which.min html xtabs html ** building package indices ** testing if installed package can be loaded from temporary location ** testing if installed package can be loaded from final location ** testing if installed package keeps a record of temporary installation path install for x64 * installing *source* package 'BiocGenerics' ... ** testing if installed package can be loaded * MD5 sums packaged installation of 'BiocGenerics' as BiocGenerics_0.38.0.zip * DONE (BiocGenerics)