| Back to Multiple platform build/check report for BioC 3.13 |
|
This page was generated on 2021-10-15 15:05:58 -0400 (Fri, 15 Oct 2021).
|
To the developers/maintainers of the BiGGR package: - Please allow up to 24 hours (and sometimes 48 hours) for your latest push to git@git.bioconductor.org:packages/BiGGR.git to reflect on this report. See How and When does the builder pull? When will my changes propagate? here for more information. - Make sure to use the following settings in order to reproduce any error or warning you see on this page. |
| Package 149/2041 | Hostname | OS / Arch | INSTALL | BUILD | CHECK | BUILD BIN | ||||||||
| BiGGR 1.28.0 (landing page) Anand K. Gavai
| nebbiolo1 | Linux (Ubuntu 20.04.2 LTS) / x86_64 | OK | OK | OK | |||||||||
| tokay2 | Windows Server 2012 R2 Standard / x64 | OK | OK | OK | OK | |||||||||
| machv2 | macOS 10.14.6 Mojave / x86_64 | ... NOT SUPPORTED ... | ||||||||||||
| Package: BiGGR |
| Version: 1.28.0 |
| Command: chmod a+r BiGGR -R && C:\Users\biocbuild\bbs-3.13-bioc\R\bin\R.exe --arch x64 CMD build --keep-empty-dirs --no-resave-data BiGGR |
| StartedAt: 2021-10-14 12:00:18 -0400 (Thu, 14 Oct 2021) |
| EndedAt: 2021-10-14 12:00:44 -0400 (Thu, 14 Oct 2021) |
| EllapsedTime: 26.8 seconds |
| RetCode: 0 |
| Status: OK |
| PackageFile: BiGGR_1.28.0.tar.gz |
| PackageFileSize: 4.235 MiB |
##############################################################################
##############################################################################
###
### Running command:
###
### chmod a+r BiGGR -R && C:\Users\biocbuild\bbs-3.13-bioc\R\bin\R.exe --arch x64 CMD build --keep-empty-dirs --no-resave-data BiGGR
###
##############################################################################
##############################################################################
* checking for file 'BiGGR/DESCRIPTION' ... OK
* preparing 'BiGGR':
* checking DESCRIPTION meta-information ... OK
* installing the package to build vignettes
* creating vignettes ... OK
Warning: 'inst/doc' files
'BiGGR.Rnw', 'BiGGR.pdf', 'BiGGR.R'
ignored as vignettes have been rebuilt.
Run R CMD build with --no-build-vignettes to prevent rebuilding.
* checking for LF line-endings in source and make files and shell scripts
* checking for empty or unneeded directories
* looking to see if a 'data/datalist' file should be added
* building 'BiGGR_1.28.0.tar.gz'