| Back to Multiple platform build/check report for BioC 3.13 |
|
This page was generated on 2021-10-15 15:05:58 -0400 (Fri, 15 Oct 2021).
|
To the developers/maintainers of the BgeeDB package: - Please allow up to 24 hours (and sometimes 48 hours) for your latest push to git@git.bioconductor.org:packages/BgeeDB.git to reflect on this report. See How and When does the builder pull? When will my changes propagate? here for more information. - Make sure to use the following settings in order to reproduce any error or warning you see on this page. |
| Package 143/2041 | Hostname | OS / Arch | INSTALL | BUILD | CHECK | BUILD BIN | ||||||||
| BgeeDB 2.18.1 (landing page) Julien Wollbrett
| nebbiolo1 | Linux (Ubuntu 20.04.2 LTS) / x86_64 | OK | OK | OK | |||||||||
| tokay2 | Windows Server 2012 R2 Standard / x64 | OK | OK | OK | OK | |||||||||
| machv2 | macOS 10.14.6 Mojave / x86_64 | OK | OK | OK | OK | |||||||||
| Package: BgeeDB |
| Version: 2.18.1 |
| Command: rm -rf BgeeDB.buildbin-libdir && mkdir BgeeDB.buildbin-libdir && C:\Users\biocbuild\bbs-3.13-bioc\R\bin\R.exe CMD INSTALL --merge-multiarch --build --library=BgeeDB.buildbin-libdir BgeeDB_2.18.1.tar.gz |
| StartedAt: 2021-10-15 08:11:10 -0400 (Fri, 15 Oct 2021) |
| EndedAt: 2021-10-15 08:12:25 -0400 (Fri, 15 Oct 2021) |
| EllapsedTime: 75.4 seconds |
| RetCode: 0 |
| Status: OK |
| PackageFile: BgeeDB_2.18.1.zip |
| PackageFileSize: 339.7 KiB |
##############################################################################
##############################################################################
###
### Running command:
###
### rm -rf BgeeDB.buildbin-libdir && mkdir BgeeDB.buildbin-libdir && C:\Users\biocbuild\bbs-3.13-bioc\R\bin\R.exe CMD INSTALL --merge-multiarch --build --library=BgeeDB.buildbin-libdir BgeeDB_2.18.1.tar.gz
###
##############################################################################
##############################################################################
install for i386
* installing *source* package 'BgeeDB' ...
** using staged installation
** R
** data
** inst
** byte-compile and prepare package for lazy loading
groupGOTerms: GOBPTerm, GOMFTerm, GOCCTerm environments built.
** help
*** installing help indices
converting help for package 'BgeeDB'
finding HTML links ... done
Bgee-class html
deleteLocalData html
deleteOldData html
formatData html
geneList html
getAnnotation html
getData html
listBgeeRelease html
listBgeeSpecies html
loadTopAnatData html
makeTable html
topAnat html
** building package indices
** installing vignettes
** testing if installed package can be loaded from temporary location
groupGOTerms: GOBPTerm, GOMFTerm, GOCCTerm environments built.
** testing if installed package can be loaded from final location
groupGOTerms: GOBPTerm, GOMFTerm, GOCCTerm environments built.
** testing if installed package keeps a record of temporary installation path
install for x64
* installing *source* package 'BgeeDB' ...
** testing if installed package can be loaded
groupGOTerms: GOBPTerm, GOMFTerm, GOCCTerm environments built.
* MD5 sums
packaged installation of 'BgeeDB' as BgeeDB_2.18.1.zip
* DONE (BgeeDB)