| Back to Multiple platform build/check report for BioC 3.13 |
|
This page was generated on 2021-10-15 15:06:29 -0400 (Fri, 15 Oct 2021).
|
To the developers/maintainers of the BgeeCall package: - Please allow up to 24 hours (and sometimes 48 hours) for your latest push to git@git.bioconductor.org:packages/BgeeCall.git to reflect on this report. See How and When does the builder pull? When will my changes propagate? here for more information. - Make sure to use the following settings in order to reproduce any error or warning you see on this page. |
| Package 142/2041 | Hostname | OS / Arch | INSTALL | BUILD | CHECK | BUILD BIN | ||||||||
| BgeeCall 1.8.0 (landing page) Julien Wollbrett
| nebbiolo1 | Linux (Ubuntu 20.04.2 LTS) / x86_64 | OK | OK | OK | |||||||||
| tokay2 | Windows Server 2012 R2 Standard / x64 | OK | OK | OK | OK | |||||||||
| machv2 | macOS 10.14.6 Mojave / x86_64 | OK | OK | OK | OK | |||||||||
| Package: BgeeCall |
| Version: 1.8.0 |
| Command: /Library/Frameworks/R.framework/Versions/Current/Resources/bin/R CMD check --install=check:BgeeCall.install-out.txt --library=/Library/Frameworks/R.framework/Versions/Current/Resources/library --no-vignettes --timings BgeeCall_1.8.0.tar.gz |
| StartedAt: 2021-10-14 16:38:58 -0400 (Thu, 14 Oct 2021) |
| EndedAt: 2021-10-14 16:45:34 -0400 (Thu, 14 Oct 2021) |
| EllapsedTime: 396.0 seconds |
| RetCode: 0 |
| Status: OK |
| CheckDir: BgeeCall.Rcheck |
| Warnings: 0 |
##############################################################################
##############################################################################
###
### Running command:
###
### /Library/Frameworks/R.framework/Versions/Current/Resources/bin/R CMD check --install=check:BgeeCall.install-out.txt --library=/Library/Frameworks/R.framework/Versions/Current/Resources/library --no-vignettes --timings BgeeCall_1.8.0.tar.gz
###
##############################################################################
##############################################################################
* using log directory ‘/Users/biocbuild/bbs-3.13-bioc/meat/BgeeCall.Rcheck’
* using R version 4.1.1 (2021-08-10)
* using platform: x86_64-apple-darwin17.0 (64-bit)
* using session charset: UTF-8
* using option ‘--no-vignettes’
* checking for file ‘BgeeCall/DESCRIPTION’ ... OK
* checking extension type ... Package
* this is package ‘BgeeCall’ version ‘1.8.0’
* package encoding: UTF-8
* checking package namespace information ... OK
* checking package dependencies ... OK
* checking if this is a source package ... OK
* checking if there is a namespace ... OK
* checking for hidden files and directories ... NOTE
Found the following hidden files and directories:
.git_fetch_output.txt
.git_merge_output.txt
These were most likely included in error. See section ‘Package
structure’ in the ‘Writing R Extensions’ manual.
* checking for portable file names ... OK
* checking for sufficient/correct file permissions ... OK
* checking whether package ‘BgeeCall’ can be installed ... OK
* checking installed package size ... NOTE
installed size is 9.1Mb
sub-directories of 1Mb or more:
extdata 8.6Mb
* checking package directory ... OK
* checking ‘build’ directory ... OK
* checking DESCRIPTION meta-information ... OK
* checking top-level files ... OK
* checking for left-over files ... OK
* checking index information ... OK
* checking package subdirectories ... OK
* checking R files for non-ASCII characters ... OK
* checking R files for syntax errors ... OK
* checking whether the package can be loaded ... OK
* checking whether the package can be loaded with stated dependencies ... OK
* checking whether the package can be unloaded cleanly ... OK
* checking whether the namespace can be loaded with stated dependencies ... OK
* checking whether the namespace can be unloaded cleanly ... OK
* checking dependencies in R code ... OK
* checking S3 generic/method consistency ... OK
* checking replacement functions ... OK
* checking foreign function calls ... OK
* checking R code for possible problems ... NOTE
approachesMerging : <anonymous>: no visible global function definition
for ‘p.adjust’
generate_calls_workflow: no visible binding for global variable
‘myUserMetadata’
generate_qValue: no visible global function definition for ‘approxfun’
generate_qValue: no visible global function definition for ‘integrate’
generate_qValue : calculate_qValue: no visible global function
definition for ‘integrate’
generate_theoretical_pValue: no visible binding for global variable
‘abundance’
generate_theoretical_pValue: no visible binding for global variable
‘type’
generate_theoretical_pValue: no visible global function definition for
‘pnorm’
merging_libraries: no visible binding for global variable ‘read.delim’
should_ignore_tx_version: no visible global function definition for
‘complete.cases’
Undefined global functions or variables:
abundance approxfun complete.cases integrate myUserMetadata p.adjust
pnorm read.delim type
Consider adding
importFrom("stats", "approxfun", "complete.cases", "integrate",
"p.adjust", "pnorm")
importFrom("utils", "read.delim")
to your NAMESPACE file.
* checking Rd files ... OK
* checking Rd metadata ... OK
* checking Rd cross-references ... OK
* checking for missing documentation entries ... OK
* checking for code/documentation mismatches ... OK
* checking Rd \usage sections ... OK
* checking Rd contents ... OK
* checking for unstated dependencies in examples ... OK
* checking files in ‘vignettes’ ... OK
* checking examples ... OK
Examples with CPU (user + system) or elapsed time > 5s
user system elapsed
generate_presence_absence 4.526 0.197 10.360
setAnnotationFromFile 3.482 0.528 5.694
merge_transcriptome_and_intergenic 0.495 0.181 6.686
list_bgee_ref_intergenic_species 0.052 0.011 7.933
* checking for unstated dependencies in ‘tests’ ... OK
* checking tests ...
Running ‘testthat.R’
OK
* checking for unstated dependencies in vignettes ... OK
* checking package vignettes in ‘inst/doc’ ... OK
* checking running R code from vignettes ... SKIPPED
* checking re-building of vignette outputs ... SKIPPED
* checking PDF version of manual ... OK
* DONE
Status: 3 NOTEs
See
‘/Users/biocbuild/bbs-3.13-bioc/meat/BgeeCall.Rcheck/00check.log’
for details.
BgeeCall.Rcheck/00install.out
############################################################################## ############################################################################## ### ### Running command: ### ### /Library/Frameworks/R.framework/Versions/Current/Resources/bin/R CMD INSTALL BgeeCall ### ############################################################################## ############################################################################## * installing to library ‘/Library/Frameworks/R.framework/Versions/4.1/Resources/library’ * installing *source* package ‘BgeeCall’ ... ** using staged installation ** R ** inst ** byte-compile and prepare package for lazy loading ** help *** installing help indices ** building package indices ** installing vignettes ** testing if installed package can be loaded from temporary location ** testing if installed package can be loaded from final location ** testing if installed package keeps a record of temporary installation path * DONE (BgeeCall)
BgeeCall.Rcheck/tests/testthat.Rout
R version 4.1.1 (2021-08-10) -- "Kick Things"
Copyright (C) 2021 The R Foundation for Statistical Computing
Platform: x86_64-apple-darwin17.0 (64-bit)
R is free software and comes with ABSOLUTELY NO WARRANTY.
You are welcome to redistribute it under certain conditions.
Type 'license()' or 'licence()' for distribution details.
R is a collaborative project with many contributors.
Type 'contributors()' for more information and
'citation()' on how to cite R or R packages in publications.
Type 'demo()' for some demos, 'help()' for on-line help, or
'help.start()' for an HTML browser interface to help.
Type 'q()' to quit R.
> library(testthat)
> library(BgeeCall)
>
> Sys.setenv("R_TESTS" = "")
> test_check("BgeeCall")
trying URL 'ftp://ftp.bgee.org/intergenic/0.1/ref_intergenic/6239_intergenic.fa.gz'
Content type 'unknown' length 4420457 bytes (4.2 MB)
==================================================
trying URL 'ftp://ftp.bgee.org/intergenic/0.1/ref_intergenic/6239_intergenic.fa.gz'
Content type 'unknown' length 4420457 bytes (4.2 MB)
==================================================
trying URL 'ftp://ftp.bgee.org/intergenic/0.1/ref_intergenic/6239_intergenic.fa.gz'
Content type 'unknown' length 4420457 bytes (4.2 MB)
==================================================
trying URL 'ftp://ftp.bgee.org/intergenic/0.1/ref_intergenic/6239_intergenic.fa.gz'
Content type 'unknown' length 4420457 bytes (4.2 MB)
==================================================
[ FAIL 0 | WARN 0 | SKIP 0 | PASS 15 ]
>
> proc.time()
user system elapsed
29.698 1.815 65.441
BgeeCall.Rcheck/BgeeCall-Ex.timings
| name | user | system | elapsed | |
| create_kallisto_index | 0.000 | 0.001 | 0.001 | |
| download_fasta_intergenic | 0.002 | 0.001 | 0.003 | |
| download_kallisto | 0.090 | 0.049 | 1.194 | |
| generate_calls_workflow | 0.000 | 0.001 | 0.002 | |
| generate_presence_absence | 4.526 | 0.197 | 10.360 | |
| generate_slurm_calls | 0 | 0 | 0 | |
| generate_slurm_indexes | 0 | 0 | 0 | |
| getIntergenicPrefix | 0.005 | 0.004 | 1.676 | |
| getIntergenicRelease | 0.006 | 0.004 | 1.797 | |
| getRunIds | 0.000 | 0.001 | 0.001 | |
| getSimpleArborescence | 0.000 | 0.001 | 0.001 | |
| getWorkingPath | 0.001 | 0.000 | 0.000 | |
| list_bgee_ref_intergenic_species | 0.052 | 0.011 | 7.933 | |
| list_community_ref_intergenic_species | 0.074 | 0.004 | 0.571 | |
| list_intergenic_release | 0.006 | 0.004 | 2.247 | |
| merge_transcriptome_and_intergenic | 0.495 | 0.181 | 6.686 | |
| merging_libraries | 0.000 | 0.000 | 0.001 | |
| run_kallisto | 0 | 0 | 0 | |
| run_tximport | 1.214 | 0.027 | 3.003 | |
| setAnnotationFromFile | 3.482 | 0.528 | 5.694 | |
| setAnnotationFromObject | 0.339 | 0.007 | 1.344 | |
| setIntergenicRelease | 0.005 | 0.004 | 1.693 | |
| setOutputDir | 0.001 | 0.000 | 0.000 | |
| setRNASeqLibPath | 0.001 | 0.000 | 0.000 | |
| setRunIds | 0 | 0 | 0 | |
| setSimpleArborescence | 0 | 0 | 0 | |
| setTranscriptomeFromFile | 0.026 | 0.002 | 0.028 | |
| setTranscriptomeFromObject | 0.006 | 0.001 | 0.007 | |
| setWorkingPath | 0.001 | 0.000 | 0.001 | |