| Back to Multiple platform build/check report for BioC 3.13 | 
 | 
This page was generated on 2021-10-15 15:05:59 -0400 (Fri, 15 Oct 2021).
| To the developers/maintainers of the BUMHMM package: - Please allow up to 24 hours (and sometimes 48 hours) for your latest push to git@git.bioconductor.org:packages/BUMHMM.git to reflect on this report. See How and When does the builder pull? When will my changes propagate? here for more information. - Make sure to use the following settings in order to reproduce any error or warning you see on this page. | 
| Package 222/2041 | Hostname | OS / Arch | INSTALL | BUILD | CHECK | BUILD BIN | ||||||||
| BUMHMM 1.16.0  (landing page) Alina Selega 
 | nebbiolo1 | Linux (Ubuntu 20.04.2 LTS) / x86_64 | OK | OK | OK |  | ||||||||
| tokay2 | Windows Server 2012 R2 Standard / x64 | OK | OK | OK | OK |  | ||||||||
| machv2 | macOS 10.14.6 Mojave / x86_64 | OK | OK | OK | OK |  | ||||||||
| Package: BUMHMM | 
| Version: 1.16.0 | 
| Command: rm -rf BUMHMM.buildbin-libdir && mkdir BUMHMM.buildbin-libdir && C:\Users\biocbuild\bbs-3.13-bioc\R\bin\R.exe CMD INSTALL --merge-multiarch --build --library=BUMHMM.buildbin-libdir BUMHMM_1.16.0.tar.gz | 
| StartedAt: 2021-10-15 08:22:01 -0400 (Fri, 15 Oct 2021) | 
| EndedAt: 2021-10-15 08:23:38 -0400 (Fri, 15 Oct 2021) | 
| EllapsedTime: 97.5 seconds | 
| RetCode: 0 | 
| Status: OK | 
| PackageFile: BUMHMM_1.16.0.zip | 
| PackageFileSize: 906.8 KiB | 
##############################################################################
##############################################################################
###
### Running command:
###
###   rm -rf BUMHMM.buildbin-libdir && mkdir BUMHMM.buildbin-libdir && C:\Users\biocbuild\bbs-3.13-bioc\R\bin\R.exe CMD INSTALL --merge-multiarch --build --library=BUMHMM.buildbin-libdir BUMHMM_1.16.0.tar.gz
###
##############################################################################
##############################################################################
install for i386
* installing *source* package 'BUMHMM' ...
** using staged installation
** R
** data
*** moving datasets to lazyload DB
** inst
** byte-compile and prepare package for lazy loading
** help
*** installing help indices
  converting help for package 'BUMHMM'
    finding HTML links ... done
    computeProbs                            html  
    finding level-2 HTML links ... done
    computeStretches                        html  
    covFile                                 html  
    docFile                                 html  
    dorFile                                 html  
    findPatternPos                          html  
    nuclPerm                                html  
    scaleDOR                                html  
    se                                      html  
    selectNuclPos                           html  
    seq                                     html  
    stabiliseVariance                       html  
** building package indices
** installing vignettes
** testing if installed package can be loaded from temporary location
** testing if installed package can be loaded from final location
** testing if installed package keeps a record of temporary installation path
install for x64
* installing *source* package 'BUMHMM' ...
** testing if installed package can be loaded
* MD5 sums
packaged installation of 'BUMHMM' as BUMHMM_1.16.0.zip
* DONE (BUMHMM)