| Back to Multiple platform build/check report for BioC 3.13 |
|
This page was generated on 2021-10-15 15:05:59 -0400 (Fri, 15 Oct 2021).
|
To the developers/maintainers of the BLMA package: - Please allow up to 24 hours (and sometimes 48 hours) for your latest push to git@git.bioconductor.org:packages/BLMA.git to reflect on this report. See How and When does the builder pull? When will my changes propagate? here for more information. - Make sure to use the following settings in order to reproduce any error or warning you see on this page. |
| Package 200/2041 | Hostname | OS / Arch | INSTALL | BUILD | CHECK | BUILD BIN | ||||||||
| BLMA 1.16.0 (landing page) Hung Nguyen
| nebbiolo1 | Linux (Ubuntu 20.04.2 LTS) / x86_64 | OK | OK | OK | |||||||||
| tokay2 | Windows Server 2012 R2 Standard / x64 | OK | OK | OK | OK | |||||||||
| machv2 | macOS 10.14.6 Mojave / x86_64 | OK | OK | OK | OK | |||||||||
| Package: BLMA |
| Version: 1.16.0 |
| Command: C:\cygwin\bin\curl.exe -O http://155.52.207.165/BBS/3.13/bioc/src/contrib/BLMA_1.16.0.tar.gz && rm -rf BLMA.buildbin-libdir && mkdir BLMA.buildbin-libdir && C:\Users\biocbuild\bbs-3.13-bioc\R\bin\R.exe CMD INSTALL --merge-multiarch --build --library=BLMA.buildbin-libdir BLMA_1.16.0.tar.gz && C:\Users\biocbuild\bbs-3.13-bioc\R\bin\R.exe CMD INSTALL BLMA_1.16.0.zip && rm BLMA_1.16.0.tar.gz BLMA_1.16.0.zip |
| StartedAt: 2021-10-14 08:14:35 -0400 (Thu, 14 Oct 2021) |
| EndedAt: 2021-10-14 08:15:52 -0400 (Thu, 14 Oct 2021) |
| EllapsedTime: 77.2 seconds |
| RetCode: 0 |
| Status: OK |
##############################################################################
##############################################################################
###
### Running command:
###
### C:\cygwin\bin\curl.exe -O http://155.52.207.165/BBS/3.13/bioc/src/contrib/BLMA_1.16.0.tar.gz && rm -rf BLMA.buildbin-libdir && mkdir BLMA.buildbin-libdir && C:\Users\biocbuild\bbs-3.13-bioc\R\bin\R.exe CMD INSTALL --merge-multiarch --build --library=BLMA.buildbin-libdir BLMA_1.16.0.tar.gz && C:\Users\biocbuild\bbs-3.13-bioc\R\bin\R.exe CMD INSTALL BLMA_1.16.0.zip && rm BLMA_1.16.0.tar.gz BLMA_1.16.0.zip
###
##############################################################################
##############################################################################
% Total % Received % Xferd Average Speed Time Time Time Current
Dload Upload Total Spent Left Speed
0 0 0 0 0 0 0 0 --:--:-- --:--:-- --:--:-- 0
32 2574k 32 823k 0 0 1621k 0 0:00:01 --:--:-- 0:00:01 1622k
100 2574k 100 2574k 0 0 2306k 0 0:00:01 0:00:01 --:--:-- 2308k
install for i386
* installing *source* package 'BLMA' ...
** using staged installation
** R
** data
** inst
** byte-compile and prepare package for lazy loading
** help
*** installing help indices
converting help for package 'BLMA'
finding HTML links ... done
GSE17054 html
GSE33223 html
GSE42140 html
GSE57194 html
addCLT html
bilevelAnalysisClassic html
bilevelAnalysisGene html
bilevelAnalysisGeneset html
finding level-2 HTML links ... done
bilevelAnalysisPathway html
fisherMethod html
getStatistics html
intraAnalysisClassic html
intraAnalysisGene html
loadKEGGPathways html
pORACalc html
stoufferMethod html
** building package indices
** installing vignettes
** testing if installed package can be loaded from temporary location
** testing if installed package can be loaded from final location
** testing if installed package keeps a record of temporary installation path
install for x64
* installing *source* package 'BLMA' ...
** testing if installed package can be loaded
* MD5 sums
packaged installation of 'BLMA' as BLMA_1.16.0.zip
* DONE (BLMA)
* installing to library 'C:/Users/biocbuild/bbs-3.13-bioc/R/library'
package 'BLMA' successfully unpacked and MD5 sums checked