| Back to Multiple platform build/check report for BioC 3.13 | 
 | 
This page was generated on 2021-10-15 15:05:58 -0400 (Fri, 15 Oct 2021).
| To the developers/maintainers of the BEclear package: - Please allow up to 24 hours (and sometimes 48 hours) for your latest push to git@git.bioconductor.org:packages/BEclear.git to reflect on this report. See How and When does the builder pull? When will my changes propagate? here for more information. - Make sure to use the following settings in order to reproduce any error or warning you see on this page. | 
| Package 141/2041 | Hostname | OS / Arch | INSTALL | BUILD | CHECK | BUILD BIN | ||||||||
| BEclear 2.8.0  (landing page) David Rasp 
 | nebbiolo1 | Linux (Ubuntu 20.04.2 LTS) / x86_64 | OK | OK | OK |  | ||||||||
| tokay2 | Windows Server 2012 R2 Standard / x64 | OK | OK | OK | OK |  | ||||||||
| machv2 | macOS 10.14.6 Mojave / x86_64 | OK | OK | OK | OK |  | ||||||||
| Package: BEclear | 
| Version: 2.8.0 | 
| Command: rm -rf BEclear.buildbin-libdir && mkdir BEclear.buildbin-libdir && C:\Users\biocbuild\bbs-3.13-bioc\R\bin\R.exe CMD INSTALL --merge-multiarch --build --library=BEclear.buildbin-libdir BEclear_2.8.0.tar.gz | 
| StartedAt: 2021-10-15 08:10:53 -0400 (Fri, 15 Oct 2021) | 
| EndedAt: 2021-10-15 08:12:07 -0400 (Fri, 15 Oct 2021) | 
| EllapsedTime: 74.0 seconds | 
| RetCode: 0 | 
| Status: OK | 
| PackageFile: BEclear_2.8.0.zip | 
| PackageFileSize: 1.307 MiB | 
##############################################################################
##############################################################################
###
### Running command:
###
###   rm -rf BEclear.buildbin-libdir && mkdir BEclear.buildbin-libdir && C:\Users\biocbuild\bbs-3.13-bioc\R\bin\R.exe CMD INSTALL --merge-multiarch --build --library=BEclear.buildbin-libdir BEclear_2.8.0.tar.gz
###
##############################################################################
##############################################################################
install for i386
* installing *source* package 'BEclear' ...
** using staged installation
** libs
"C:/rtools40/mingw32/bin/"g++  -std=gnu++11 -I"C:/Users/BIOCBU~1/BBS-3~1.13-/R/include" -DNDEBUG  -I'C:/Users/biocbuild/bbs-3.13-bioc/R/library/Rcpp/include'   -I"c:/extsoft/include"     -O2 -Wall  -mfpmath=sse -msse2 -mstackrealign  -c RcppExports.cpp -o RcppExports.o
"C:/rtools40/mingw32/bin/"g++  -std=gnu++11 -I"C:/Users/BIOCBU~1/BBS-3~1.13-/R/include" -DNDEBUG  -I'C:/Users/biocbuild/bbs-3.13-bioc/R/library/Rcpp/include'   -I"c:/extsoft/include"     -O2 -Wall  -mfpmath=sse -msse2 -mstackrealign  -c localLoss.cpp -o localLoss.o
C:/rtools40/mingw32/bin/g++ -shared -s -static-libgcc -o BEclear.dll tmp.def RcppExports.o localLoss.o -Lc:/extsoft/lib/i386 -Lc:/extsoft/lib -LC:/Users/BIOCBU~1/BBS-3~1.13-/R/bin/i386 -lR
installing to C:/Users/biocbuild/bbs-3.13-bioc/meat/BEclear.buildbin-libdir/00LOCK-BEclear/00new/BEclear/libs/i386
** R
** data
** inst
** byte-compile and prepare package for lazy loading
** help
*** installing help indices
  converting help for package 'BEclear'
    finding HTML links ... done
    BEclear-example-methylation-data        html  
    BEclear-example-sample-data             html  
    BEclear-package                         html  
    calcBatchEffects                        html  
    calcBatchEffectsForBatch                html  
    calcBlockFrame                          html  
    calcPositions                           html  
    calcScore                               html  
    calcSummary                             html  
    clearBEgenes                            html  
    combineBlocks                           html  
    correctBatchEffect                      html  
    countValuesToPredict                    html  
    ex.corrected.data                       html  
    findOutsideValues                       html  
    gdepoch                                 html  
    imputeMissingData                       html  
    imputeMissingDataForBlock               html  
    localLoss                               html  
    loss                                    html  
    makeBoxplot                             html  
    preprocessBEclear                       html  
    replaceOutsideValues                    html  
    runGradientDescent                      html  
** building package indices
** installing vignettes
** testing if installed package can be loaded from temporary location
** testing if installed package can be loaded from final location
** testing if installed package keeps a record of temporary installation path
install for x64
* installing *source* package 'BEclear' ...
** libs
"C:/rtools40/mingw64/bin/"g++  -std=gnu++11 -I"C:/Users/BIOCBU~1/BBS-3~1.13-/R/include" -DNDEBUG  -I'C:/Users/biocbuild/bbs-3.13-bioc/R/library/Rcpp/include'   -I"C:/extsoft/include"     -O2 -Wall  -mfpmath=sse -msse2 -mstackrealign  -c RcppExports.cpp -o RcppExports.o
"C:/rtools40/mingw64/bin/"g++  -std=gnu++11 -I"C:/Users/BIOCBU~1/BBS-3~1.13-/R/include" -DNDEBUG  -I'C:/Users/biocbuild/bbs-3.13-bioc/R/library/Rcpp/include'   -I"C:/extsoft/include"     -O2 -Wall  -mfpmath=sse -msse2 -mstackrealign  -c localLoss.cpp -o localLoss.o
C:/rtools40/mingw64/bin/g++ -shared -s -static-libgcc -o BEclear.dll tmp.def RcppExports.o localLoss.o -LC:/extsoft/lib/x64 -LC:/extsoft/lib -LC:/Users/BIOCBU~1/BBS-3~1.13-/R/bin/x64 -lR
installing to C:/Users/biocbuild/bbs-3.13-bioc/meat/BEclear.buildbin-libdir/BEclear/libs/x64
** testing if installed package can be loaded
* MD5 sums
packaged installation of 'BEclear' as BEclear_2.8.0.zip
* DONE (BEclear)