| Back to Multiple platform build/check report for BioC 3.13 |
|
This page was generated on 2021-10-15 15:05:58 -0400 (Fri, 15 Oct 2021).
|
To the developers/maintainers of the BEARscc package: - Please allow up to 24 hours (and sometimes 48 hours) for your latest push to git@git.bioconductor.org:packages/BEARscc.git to reflect on this report. See How and When does the builder pull? When will my changes propagate? here for more information. - Make sure to use the following settings in order to reproduce any error or warning you see on this page. |
| Package 139/2041 | Hostname | OS / Arch | INSTALL | BUILD | CHECK | BUILD BIN | ||||||||
| BEARscc 1.12.0 (landing page) Benjamin Schuster-Boeckler
| nebbiolo1 | Linux (Ubuntu 20.04.2 LTS) / x86_64 | OK | OK | OK | |||||||||
| tokay2 | Windows Server 2012 R2 Standard / x64 | OK | OK | OK | OK | |||||||||
| machv2 | macOS 10.14.6 Mojave / x86_64 | OK | OK | OK | OK | |||||||||
| Package: BEARscc |
| Version: 1.12.0 |
| Command: chmod a+r BEARscc -R && C:\Users\biocbuild\bbs-3.13-bioc\R\bin\R.exe CMD build --keep-empty-dirs --no-resave-data BEARscc |
| StartedAt: 2021-10-14 11:58:33 -0400 (Thu, 14 Oct 2021) |
| EndedAt: 2021-10-14 11:59:55 -0400 (Thu, 14 Oct 2021) |
| EllapsedTime: 82.1 seconds |
| RetCode: 0 |
| Status: OK |
| PackageFile: BEARscc_1.12.0.tar.gz |
| PackageFileSize: 632.3 KiB |
##############################################################################
##############################################################################
###
### Running command:
###
### chmod a+r BEARscc -R && C:\Users\biocbuild\bbs-3.13-bioc\R\bin\R.exe CMD build --keep-empty-dirs --no-resave-data BEARscc
###
##############################################################################
##############################################################################
* checking for file 'BEARscc/DESCRIPTION' ... OK
* preparing 'BEARscc':
* checking DESCRIPTION meta-information ... OK
* installing the package to process help pages
* saving partial Rd database
* creating vignettes ... OK
* checking for LF line-endings in source and make files and shell scripts
* checking for empty or unneeded directories
* looking to see if a 'data/datalist' file should be added
NB: this package now depends on R (>= 3.5.0)
WARNING: Added dependency on R >= 3.5.0 because serialized objects in
serialize/load version 3 cannot be read in older versions of R.
File(s) containing such objects:
'BEARscc/data/BEARscc_examples.RData'
'BEARscc/data/analysis_examples.RData'
* building 'BEARscc_1.12.0.tar.gz'