| Back to Multiple platform build/check report for BioC 3.13 |
|
This page was generated on 2021-10-15 15:05:58 -0400 (Fri, 15 Oct 2021).
|
To the developers/maintainers of the Autotuner package: - Please allow up to 24 hours (and sometimes 48 hours) for your latest push to git@git.bioconductor.org:packages/Autotuner.git to reflect on this report. See How and When does the builder pull? When will my changes propagate? here for more information. - Make sure to use the following settings in order to reproduce any error or warning you see on this page. |
| Package 103/2041 | Hostname | OS / Arch | INSTALL | BUILD | CHECK | BUILD BIN | ||||||||
| Autotuner 1.6.0 (landing page) Craig McLean
| nebbiolo1 | Linux (Ubuntu 20.04.2 LTS) / x86_64 | OK | OK | OK | |||||||||
| tokay2 | Windows Server 2012 R2 Standard / x64 | OK | OK | OK | OK | |||||||||
| machv2 | macOS 10.14.6 Mojave / x86_64 | OK | OK | OK | OK | |||||||||
| Package: Autotuner |
| Version: 1.6.0 |
| Command: C:\cygwin\bin\curl.exe -O http://155.52.207.165/BBS/3.13/bioc/src/contrib/Autotuner_1.6.0.tar.gz && rm -rf Autotuner.buildbin-libdir && mkdir Autotuner.buildbin-libdir && C:\Users\biocbuild\bbs-3.13-bioc\R\bin\R.exe CMD INSTALL --merge-multiarch --build --library=Autotuner.buildbin-libdir Autotuner_1.6.0.tar.gz && C:\Users\biocbuild\bbs-3.13-bioc\R\bin\R.exe CMD INSTALL Autotuner_1.6.0.zip && rm Autotuner_1.6.0.tar.gz Autotuner_1.6.0.zip |
| StartedAt: 2021-10-14 08:31:33 -0400 (Thu, 14 Oct 2021) |
| EndedAt: 2021-10-14 08:32:32 -0400 (Thu, 14 Oct 2021) |
| EllapsedTime: 58.8 seconds |
| RetCode: 0 |
| Status: OK |
##############################################################################
##############################################################################
###
### Running command:
###
### C:\cygwin\bin\curl.exe -O http://155.52.207.165/BBS/3.13/bioc/src/contrib/Autotuner_1.6.0.tar.gz && rm -rf Autotuner.buildbin-libdir && mkdir Autotuner.buildbin-libdir && C:\Users\biocbuild\bbs-3.13-bioc\R\bin\R.exe CMD INSTALL --merge-multiarch --build --library=Autotuner.buildbin-libdir Autotuner_1.6.0.tar.gz && C:\Users\biocbuild\bbs-3.13-bioc\R\bin\R.exe CMD INSTALL Autotuner_1.6.0.zip && rm Autotuner_1.6.0.tar.gz Autotuner_1.6.0.zip
###
##############################################################################
##############################################################################
% Total % Received % Xferd Average Speed Time Time Time Current
Dload Upload Total Spent Left Speed
0 0 0 0 0 0 0 0 --:--:-- --:--:-- --:--:-- 0
0 3761k 0 35125 0 0 60696 0 0:01:03 --:--:-- 0:01:03 60664
19 3761k 19 742k 0 0 477k 0 0:00:07 0:00:01 0:00:06 477k
60 3761k 60 2262k 0 0 885k 0 0:00:04 0:00:02 0:00:02 885k
100 3761k 100 3761k 0 0 1166k 0 0:00:03 0:00:03 --:--:-- 1166k
install for i386
* installing *source* package 'Autotuner' ...
** using staged installation
** R
** data
*** moving datasets to lazyload DB
** inst
** byte-compile and prepare package for lazy loading
** help
*** installing help indices
converting help for package 'Autotuner'
finding HTML links ... done
Autotuner-class html
EICparams html
TIC_params html
ThresholdingAlgo html
checkBounds html
checkEICPeaks html
createAutotuner html
dissectScans html
eicParamsEsts html
estimatePPM html
estimateSNThresh html
extract_peaks html
filterPeaksfromNoise html
filterPpmError html
findPeakWidth html
findTruePeaks html
getAutoFactorCol html
getAutoFile_col html
getAutoFile_paths html
getAutoIntensity html
getAutoMetadata html
getAutoPeak_difference html
getAutoPeak_table html
getAutoPeaks html
getAutoTime html
initialize-Autotuner-method html
isolatePeaks html
mzDb html
observedPeak html
peak_time_difference html
peakwidth_est html
peakwidth_table html
plot_peaks html
plot_signals html
returnParams html
setAutoFactorCol html
setAutoFile_col html
setAutoFile_paths html
setAutoIntensity html
setAutoMetadata html
setAutoPeak_difference html
setAutoPeak_table html
setAutoPeaks html
setAutoTime html
** building package indices
** installing vignettes
** testing if installed package can be loaded from temporary location
** testing if installed package can be loaded from final location
** testing if installed package keeps a record of temporary installation path
install for x64
* installing *source* package 'Autotuner' ...
** testing if installed package can be loaded
* MD5 sums
packaged installation of 'Autotuner' as Autotuner_1.6.0.zip
* DONE (Autotuner)
* installing to library 'C:/Users/biocbuild/bbs-3.13-bioc/R/library'
package 'Autotuner' successfully unpacked and MD5 sums checked